BEGIN:VCALENDAR
VERSION:2.0
PRODID:-//Color comunitaria - ECPv6.9.1//NONSGML v1.0//EN
CALSCALE:GREGORIAN
METHOD:PUBLISH
X-WR-CALNAME:Color comunitaria
X-ORIGINAL-URL:https://colorcomunitaria.org
X-WR-CALDESC:Eventos para Color comunitaria
REFRESH-INTERVAL;VALUE=DURATION:PT1H
X-Robots-Tag:noindex
X-PUBLISHED-TTL:PT1H
BEGIN:VTIMEZONE
TZID:Europe/Madrid
BEGIN:DAYLIGHT
TZOFFSETFROM:+0100
TZOFFSETTO:+0200
TZNAME:CEST
DTSTART:20260329T010000
END:DAYLIGHT
BEGIN:STANDARD
TZOFFSETFROM:+0200
TZOFFSETTO:+0100
TZNAME:CET
DTSTART:20261025T010000
END:STANDARD
END:VTIMEZONE
BEGIN:VEVENT
DTSTART;TZID=Europe/Madrid:20260422T000000
DTEND;TZID=Europe/Madrid:20260422T010000
DTSTAMP:20260422T015538
CREATED:20250216T175230Z
LAST-MODIFIED:20250216T175230Z
UID:10029439-1776816000-1776819600@colorcomunitaria.org
SUMMARY:Málaga Cultura Viva (R)
DESCRIPTION:
URL:https://colorcomunitaria.org/evento/malaga-cultura-viva-r/2026-04-22/
END:VEVENT
BEGIN:VEVENT
DTSTART;TZID=Europe/Madrid:20260422T010000
DTEND;TZID=Europe/Madrid:20260422T020000
DTSTAMP:20260422T015538
CREATED:20250216T173544Z
LAST-MODIFIED:20250216T173632Z
UID:10021986-1776819600-1776823200@colorcomunitaria.org
SUMMARY:Informativo De este a Oeste (OLA) (R)
DESCRIPTION:
URL:https://colorcomunitaria.org/evento/informativo-de-este-a-oeste-ola-r/2026-04-22/
END:VEVENT
BEGIN:VEVENT
DTSTART;TZID=Europe/Madrid:20260422T020000
DTEND;TZID=Europe/Madrid:20260422T040000
DTSTAMP:20260422T015538
CREATED:20250216T180923Z
LAST-MODIFIED:20250216T181107Z
UID:10033222-1776823200-1776830400@colorcomunitaria.org
SUMMARY:Radioteatros Bicicleta Atómica y Audiodrama Colectivo
DESCRIPTION:
URL:https://colorcomunitaria.org/evento/radioteatros-bicicleta-atomica-y-audiodrama-colectivo/2026-04-22/
END:VEVENT
BEGIN:VEVENT
DTSTART;TZID=Europe/Madrid:20260422T083000
DTEND;TZID=Europe/Madrid:20260422T100000
DTSTAMP:20260422T015538
CREATED:20250214T170834Z
LAST-MODIFIED:20250214T170906Z
UID:10011036-1776846600-1776852000@colorcomunitaria.org
SUMMARY:Informativo De este a Oeste (OLA)
DESCRIPTION:
URL:https://colorcomunitaria.org/evento/informativo-de-este-a-oeste-ola/2026-04-22/
END:VEVENT
BEGIN:VEVENT
DTSTART;TZID=Europe/Madrid:20260422T100000
DTEND;TZID=Europe/Madrid:20260422T100500
DTSTAMP:20260422T015538
CREATED:20250214T171100Z
LAST-MODIFIED:20250214T171102Z
UID:10012349-1776852000-1776852300@colorcomunitaria.org
SUMMARY:Boletín informativo OLA
DESCRIPTION:
URL:https://colorcomunitaria.org/evento/boletin-informativo-ola-2/2026-04-22/
END:VEVENT
BEGIN:VEVENT
DTSTART;TZID=Europe/Madrid:20260422T100500
DTEND;TZID=Europe/Madrid:20260422T103500
DTSTAMP:20260422T015538
CREATED:20250121T155655Z
LAST-MODIFIED:20250214T162406Z
UID:10008161-1776852300-1776854100@colorcomunitaria.org
SUMMARY:Cerca de tu casa
DESCRIPTION:Magacín sobre lo que pasa en Palma Palmilla. Colabora Junta de Distrito 5 Palma Palmilla del Ayuntamiento  de Málaga.
URL:https://colorcomunitaria.org/evento/cerca-de-tu-casa/2026-04-22/
CATEGORIES:Palma Palmilla
ATTACH;FMTTYPE=image/jpeg:https://colorcomunitaria.org/wp-content/uploads/2025/01/imagen-loco-cdtc-cerca-de-tu-casa-grande-e1737380447434.jpg
END:VEVENT
BEGIN:VEVENT
DTSTART;TZID=Europe/Madrid:20260422T103500
DTEND;TZID=Europe/Madrid:20260422T104500
DTSTAMP:20260422T015538
CREATED:20250216T172831Z
LAST-MODIFIED:20250216T173153Z
UID:10015298-1776854100-1776854700@colorcomunitaria.org
SUMMARY:Cerca de tu casa - Málaga
DESCRIPTION:
URL:https://colorcomunitaria.org/evento/cerca-de-tu-casa-edicion-malaga/2026-04-22/
END:VEVENT
BEGIN:VEVENT
DTSTART;TZID=Europe/Madrid:20260422T120500
DTEND;TZID=Europe/Madrid:20260422T130000
DTSTAMP:20260422T015538
CREATED:20250214T170722Z
LAST-MODIFIED:20250214T170722Z
UID:10010528-1776859500-1776862800@colorcomunitaria.org
SUMMARY:Entre letras
DESCRIPTION:
URL:https://colorcomunitaria.org/evento/entre-letras/2026-04-22/
END:VEVENT
BEGIN:VEVENT
DTSTART;TZID=Europe/Madrid:20260422T130000
DTEND;TZID=Europe/Madrid:20260422T133000
DTSTAMP:20260422T015538
CREATED:20250216T173355Z
LAST-MODIFIED:20250216T173355Z
UID:10017794-1776862800-1776864600@colorcomunitaria.org
SUMMARY:Informativo De este a Oeste (OLA)
DESCRIPTION:
URL:https://colorcomunitaria.org/evento/informativo-de-este-a-oeste-ola-2/2026-04-22/
END:VEVENT
BEGIN:VEVENT
DTSTART;TZID=Europe/Madrid:20260422T140000
DTEND;TZID=Europe/Madrid:20260422T150000
DTSTAMP:20260422T015538
CREATED:20250214T171611Z
LAST-MODIFIED:20250214T171611Z
UID:10013413-1776866400-1776870000@colorcomunitaria.org
SUMMARY:Málaga Cultura Viva
DESCRIPTION:
URL:https://colorcomunitaria.org/evento/malaga-cultura-viva/2026-04-22/
END:VEVENT
BEGIN:VEVENT
DTSTART;TZID=Europe/Madrid:20260422T160000
DTEND;TZID=Europe/Madrid:20260422T163000
DTSTAMP:20260422T015538
CREATED:20250216T173851Z
LAST-MODIFIED:20250216T173851Z
UID:10024436-1776873600-1776875400@colorcomunitaria.org
SUMMARY:Cerca de tu casa (R)
DESCRIPTION:Magacín sobre lo que pasa en Palma Palmilla. Colabora Junta de Distrito 5 Palma Palmilla del Ayuntamiento  de Málaga.
URL:https://colorcomunitaria.org/evento/cerca-de-tu-casa-r/2026-04-22/
CATEGORIES:Palma Palmilla
ATTACH;FMTTYPE=image/jpeg:https://colorcomunitaria.org/wp-content/uploads/2025/01/imagen-loco-cdtc-cerca-de-tu-casa-grande-e1737380447434.jpg
END:VEVENT
BEGIN:VEVENT
DTSTART;TZID=Europe/Madrid:20260422T163000
DTEND;TZID=Europe/Madrid:20260422T170000
DTSTAMP:20260422T015538
CREATED:20250216T174046Z
LAST-MODIFIED:20250216T174046Z
UID:10027071-1776875400-1776877200@colorcomunitaria.org
SUMMARY:Aprender con onda
DESCRIPTION:
URL:https://colorcomunitaria.org/evento/aprender-con-onda/2026-04-22/
END:VEVENT
BEGIN:VEVENT
DTSTART;TZID=Europe/Madrid:20260422T190000
DTEND;TZID=Europe/Madrid:20260422T200000
DTSTAMP:20260422T015538
CREATED:20250216T173505Z
LAST-MODIFIED:20250216T173505Z
UID:10019890-1776884400-1776888000@colorcomunitaria.org
SUMMARY:Informativo De este a Oeste (OLA)
DESCRIPTION:
URL:https://colorcomunitaria.org/evento/informativo-de-este-a-oeste-ola-3/2026-04-22/
END:VEVENT
BEGIN:VEVENT
DTSTART;TZID=Europe/Madrid:20260422T200500
DTEND;TZID=Europe/Madrid:20260422T210000
DTSTAMP:20260422T015538
CREATED:20250216T180559Z
LAST-MODIFIED:20250216T180559Z
UID:10031538-1776888300-1776891600@colorcomunitaria.org
SUMMARY:Palma y Romeros
DESCRIPTION:
URL:https://colorcomunitaria.org/evento/palma-y-romeros/2026-04-22/
END:VEVENT
BEGIN:VEVENT
DTSTART;TZID=Europe/Madrid:20260422T220000
DTEND;TZID=Europe/Madrid:20260422T230000
DTSTAMP:20260422T015538
CREATED:20250216T174426Z
LAST-MODIFIED:20250216T174426Z
UID:10028391-1776895200-1776898800@colorcomunitaria.org
SUMMARY:Con otra mirada (R)
DESCRIPTION:
URL:https://colorcomunitaria.org/evento/con-otra-mirada-r/2026-04-22/
END:VEVENT
END:VCALENDAR