BEGIN:VCALENDAR
VERSION:2.0
PRODID:-//Color comunitaria - ECPv6.9.1//NONSGML v1.0//EN
CALSCALE:GREGORIAN
METHOD:PUBLISH
X-WR-CALNAME:Color comunitaria
X-ORIGINAL-URL:https://colorcomunitaria.org
X-WR-CALDESC:Eventos para Color comunitaria
REFRESH-INTERVAL;VALUE=DURATION:PT1H
X-Robots-Tag:noindex
X-PUBLISHED-TTL:PT1H
BEGIN:VTIMEZONE
TZID:Europe/Madrid
BEGIN:DAYLIGHT
TZOFFSETFROM:+0100
TZOFFSETTO:+0200
TZNAME:CEST
DTSTART:20260329T010000
END:DAYLIGHT
BEGIN:STANDARD
TZOFFSETFROM:+0200
TZOFFSETTO:+0100
TZNAME:CET
DTSTART:20261025T010000
END:STANDARD
END:VTIMEZONE
BEGIN:VEVENT
DTSTART;TZID=Europe/Madrid:20260425T010000
DTEND;TZID=Europe/Madrid:20260425T020000
DTSTAMP:20260425T015402
CREATED:20250216T180735Z
LAST-MODIFIED:20250216T180735Z
UID:10032586-1777078800-1777082400@colorcomunitaria.org
SUMMARY:Elektrodance (R)
DESCRIPTION:
URL:https://colorcomunitaria.org/evento/elektrodance-r/2026-04-25/
END:VEVENT
BEGIN:VEVENT
DTSTART;TZID=Europe/Madrid:20260425T020000
DTEND;TZID=Europe/Madrid:20260425T040000
DTSTAMP:20260425T015402
CREATED:20250216T180923Z
LAST-MODIFIED:20250216T181107Z
UID:10033225-1777082400-1777089600@colorcomunitaria.org
SUMMARY:Radioteatros Bicicleta Atómica y Audiodrama Colectivo
DESCRIPTION:
URL:https://colorcomunitaria.org/evento/radioteatros-bicicleta-atomica-y-audiodrama-colectivo/2026-04-25/
END:VEVENT
BEGIN:VEVENT
DTSTART;TZID=Europe/Madrid:20260425T080000
DTEND;TZID=Europe/Madrid:20260425T090000
DTSTAMP:20260425T015402
CREATED:20250216T180646Z
LAST-MODIFIED:20250216T180646Z
UID:10032062-1777104000-1777107600@colorcomunitaria.org
SUMMARY:Palma y Romeros (R)
DESCRIPTION:
URL:https://colorcomunitaria.org/evento/palma-y-romeros-r/2026-04-25/
END:VEVENT
BEGIN:VEVENT
DTSTART;TZID=Europe/Madrid:20260425T103500
DTEND;TZID=Europe/Madrid:20260425T104500
DTSTAMP:20260425T015402
CREATED:20250216T172831Z
LAST-MODIFIED:20250216T173153Z
UID:10015301-1777113300-1777113900@colorcomunitaria.org
SUMMARY:Cerca de tu casa - Málaga
DESCRIPTION:
URL:https://colorcomunitaria.org/evento/cerca-de-tu-casa-edicion-malaga/2026-04-25/
END:VEVENT
BEGIN:VEVENT
DTSTART;TZID=Europe/Madrid:20260425T130000
DTEND;TZID=Europe/Madrid:20260425T140000
DTSTAMP:20260425T015402
CREATED:20250216T175015Z
LAST-MODIFIED:20250216T175015Z
UID:10028915-1777122000-1777125600@colorcomunitaria.org
SUMMARY:Entre letras (R)
DESCRIPTION:
URL:https://colorcomunitaria.org/evento/entre-letras-r/2026-04-25/
END:VEVENT
BEGIN:VEVENT
DTSTART;TZID=Europe/Madrid:20260425T140000
DTEND;TZID=Europe/Madrid:20260425T150000
DTSTAMP:20260425T015402
CREATED:20250216T172205Z
LAST-MODIFIED:20250216T172205Z
UID:10014462-1777125600-1777129200@colorcomunitaria.org
SUMMARY:La Reverse Podcast
DESCRIPTION:
URL:https://colorcomunitaria.org/evento/la-reverse-podcast/2026-04-25/
END:VEVENT
BEGIN:VEVENT
DTSTART;TZID=Europe/Madrid:20260425T170000
DTEND;TZID=Europe/Madrid:20260425T180000
DTSTAMP:20260425T015402
CREATED:20250216T175931Z
LAST-MODIFIED:20250216T175931Z
UID:10031274-1777136400-1777140000@colorcomunitaria.org
SUMMARY:La voz de los sin voz (R)
DESCRIPTION:
URL:https://colorcomunitaria.org/evento/la-voz-de-los-sin-voz-r/2026-04-25/
END:VEVENT
BEGIN:VEVENT
DTSTART;TZID=Europe/Madrid:20260425T220000
DTEND;TZID=Europe/Madrid:20260425T230000
DTSTAMP:20260425T015402
CREATED:20250216T182312Z
LAST-MODIFIED:20250216T182431Z
UID:10038422-1777154400-1777158000@colorcomunitaria.org
SUMMARY:Emociones con esencia (R)
DESCRIPTION:
URL:https://colorcomunitaria.org/evento/emociones-con-esencia-r/2026-04-25/
END:VEVENT
END:VCALENDAR