BEGIN:VCALENDAR
VERSION:2.0
PRODID:-//Color comunitaria - ECPv6.9.1//NONSGML v1.0//EN
CALSCALE:GREGORIAN
METHOD:PUBLISH
X-WR-CALNAME:Color comunitaria
X-ORIGINAL-URL:https://colorcomunitaria.org
X-WR-CALDESC:Eventos para Color comunitaria
REFRESH-INTERVAL;VALUE=DURATION:PT1H
X-Robots-Tag:noindex
X-PUBLISHED-TTL:PT1H
BEGIN:VTIMEZONE
TZID:Europe/Madrid
BEGIN:DAYLIGHT
TZOFFSETFROM:+0100
TZOFFSETTO:+0200
TZNAME:CEST
DTSTART:20270328T010000
END:DAYLIGHT
BEGIN:STANDARD
TZOFFSETFROM:+0200
TZOFFSETTO:+0100
TZNAME:CET
DTSTART:20271031T010000
END:STANDARD
END:VTIMEZONE
BEGIN:VEVENT
DTSTART;TZID=Europe/Madrid:20270720T010000
DTEND;TZID=Europe/Madrid:20270720T020000
DTSTAMP:20260420T042840
CREATED:20250216T173544Z
LAST-MODIFIED:20250216T173632Z
UID:10022245-1816045200-1816048800@colorcomunitaria.org
SUMMARY:Informativo De este a Oeste (OLA) (R)
DESCRIPTION:
URL:https://colorcomunitaria.org/evento/informativo-de-este-a-oeste-ola-r/2027-07-20/
END:VEVENT
BEGIN:VEVENT
DTSTART;TZID=Europe/Madrid:20270720T020000
DTEND;TZID=Europe/Madrid:20270720T040000
DTSTAMP:20260420T042840
CREATED:20250216T180923Z
LAST-MODIFIED:20250216T181107Z
UID:10033676-1816048800-1816056000@colorcomunitaria.org
SUMMARY:Radioteatros Bicicleta Atómica y Audiodrama Colectivo
DESCRIPTION:
URL:https://colorcomunitaria.org/evento/radioteatros-bicicleta-atomica-y-audiodrama-colectivo/2027-07-20/
END:VEVENT
BEGIN:VEVENT
DTSTART;TZID=Europe/Madrid:20270720T083000
DTEND;TZID=Europe/Madrid:20270720T100000
DTSTAMP:20260420T042840
CREATED:20250214T170834Z
LAST-MODIFIED:20250214T170906Z
UID:10011360-1816072200-1816077600@colorcomunitaria.org
SUMMARY:Informativo De este a Oeste (OLA)
DESCRIPTION:
URL:https://colorcomunitaria.org/evento/informativo-de-este-a-oeste-ola/2027-07-20/
END:VEVENT
BEGIN:VEVENT
DTSTART;TZID=Europe/Madrid:20270720T100000
DTEND;TZID=Europe/Madrid:20270720T100500
DTSTAMP:20260420T042840
CREATED:20250214T171100Z
LAST-MODIFIED:20250214T171102Z
UID:10012673-1816077600-1816077900@colorcomunitaria.org
SUMMARY:Boletín informativo OLA
DESCRIPTION:
URL:https://colorcomunitaria.org/evento/boletin-informativo-ola-2/2027-07-20/
END:VEVENT
BEGIN:VEVENT
DTSTART;TZID=Europe/Madrid:20270720T100500
DTEND;TZID=Europe/Madrid:20270720T103500
DTSTAMP:20260420T042840
CREATED:20250121T155655Z
LAST-MODIFIED:20250214T162406Z
UID:10008485-1816077900-1816079700@colorcomunitaria.org
SUMMARY:Cerca de tu casa
DESCRIPTION:Magacín sobre lo que pasa en Palma Palmilla. Colabora Junta de Distrito 5 Palma Palmilla del Ayuntamiento  de Málaga.
URL:https://colorcomunitaria.org/evento/cerca-de-tu-casa/2027-07-20/
CATEGORIES:Palma Palmilla
ATTACH;FMTTYPE=image/jpeg:https://colorcomunitaria.org/wp-content/uploads/2025/01/imagen-loco-cdtc-cerca-de-tu-casa-grande-e1737380447434.jpg
END:VEVENT
BEGIN:VEVENT
DTSTART;TZID=Europe/Madrid:20270720T103500
DTEND;TZID=Europe/Madrid:20270720T104500
DTSTAMP:20260420T042840
CREATED:20250216T172831Z
LAST-MODIFIED:20250216T173153Z
UID:10015687-1816079700-1816080300@colorcomunitaria.org
SUMMARY:Cerca de tu casa - Málaga
DESCRIPTION:
URL:https://colorcomunitaria.org/evento/cerca-de-tu-casa-edicion-malaga/2027-07-20/
END:VEVENT
BEGIN:VEVENT
DTSTART;TZID=Europe/Madrid:20270720T110500
DTEND;TZID=Europe/Madrid:20270720T123000
DTSTAMP:20260420T042840
CREATED:20250214T165815Z
LAST-MODIFIED:20250214T165815Z
UID:10010331-1816081500-1816086600@colorcomunitaria.org
SUMMARY:La voz de vida
DESCRIPTION:
URL:https://colorcomunitaria.org/evento/la-voz-de-vida/2027-07-20/
END:VEVENT
BEGIN:VEVENT
DTSTART;TZID=Europe/Madrid:20270720T130000
DTEND;TZID=Europe/Madrid:20270720T133000
DTSTAMP:20260420T042840
CREATED:20250216T173355Z
LAST-MODIFIED:20250216T173355Z
UID:10018053-1816088400-1816090200@colorcomunitaria.org
SUMMARY:Informativo De este a Oeste (OLA)
DESCRIPTION:
URL:https://colorcomunitaria.org/evento/informativo-de-este-a-oeste-ola-2/2027-07-20/
END:VEVENT
BEGIN:VEVENT
DTSTART;TZID=Europe/Madrid:20270720T160000
DTEND;TZID=Europe/Madrid:20270720T163000
DTSTAMP:20260420T042840
CREATED:20250216T173851Z
LAST-MODIFIED:20250216T173851Z
UID:10024760-1816099200-1816101000@colorcomunitaria.org
SUMMARY:Cerca de tu casa (R)
DESCRIPTION:Magacín sobre lo que pasa en Palma Palmilla. Colabora Junta de Distrito 5 Palma Palmilla del Ayuntamiento  de Málaga.
URL:https://colorcomunitaria.org/evento/cerca-de-tu-casa-r/2027-07-20/
CATEGORIES:Palma Palmilla
ATTACH;FMTTYPE=image/jpeg:https://colorcomunitaria.org/wp-content/uploads/2025/01/imagen-loco-cdtc-cerca-de-tu-casa-grande-e1737380447434.jpg
END:VEVENT
BEGIN:VEVENT
DTSTART;TZID=Europe/Madrid:20270720T163000
DTEND;TZID=Europe/Madrid:20270720T170000
DTSTAMP:20260420T042840
CREATED:20250216T174046Z
LAST-MODIFIED:20250216T174046Z
UID:10027395-1816101000-1816102800@colorcomunitaria.org
SUMMARY:Aprender con onda
DESCRIPTION:
URL:https://colorcomunitaria.org/evento/aprender-con-onda/2027-07-20/
END:VEVENT
BEGIN:VEVENT
DTSTART;TZID=Europe/Madrid:20270720T190000
DTEND;TZID=Europe/Madrid:20270720T200000
DTSTAMP:20260420T042840
CREATED:20250216T173505Z
LAST-MODIFIED:20250216T173505Z
UID:10020149-1816110000-1816113600@colorcomunitaria.org
SUMMARY:Informativo De este a Oeste (OLA)
DESCRIPTION:
URL:https://colorcomunitaria.org/evento/informativo-de-este-a-oeste-ola-3/2027-07-20/
END:VEVENT
BEGIN:VEVENT
DTSTART;TZID=Europe/Madrid:20270720T200000
DTEND;TZID=Europe/Madrid:20270720T210000
DTSTAMP:20260420T042840
CREATED:20250214T172034Z
LAST-MODIFIED:20250214T172034Z
UID:10013741-1816113600-1816117200@colorcomunitaria.org
SUMMARY:Puentes
DESCRIPTION:
URL:https://colorcomunitaria.org/evento/puentes/2027-07-20/
END:VEVENT
BEGIN:VEVENT
DTSTART;TZID=Europe/Madrid:20270720T210000
DTEND;TZID=Europe/Madrid:20270720T220000
DTSTAMP:20260420T042840
CREATED:20250214T172202Z
LAST-MODIFIED:20250214T172202Z
UID:10014003-1816117200-1816120800@colorcomunitaria.org
SUMMARY:La voz de los sin voz
DESCRIPTION:
URL:https://colorcomunitaria.org/evento/la-voz-de-los-sin-voz/2027-07-20/
END:VEVENT
END:VCALENDAR