BEGIN:VCALENDAR
VERSION:2.0
PRODID:-//Color comunitaria - ECPv6.9.1//NONSGML v1.0//EN
CALSCALE:GREGORIAN
METHOD:PUBLISH
X-WR-CALNAME:Color comunitaria
X-ORIGINAL-URL:https://colorcomunitaria.org
X-WR-CALDESC:Eventos para Color comunitaria
REFRESH-INTERVAL;VALUE=DURATION:PT1H
X-Robots-Tag:noindex
X-PUBLISHED-TTL:PT1H
BEGIN:VTIMEZONE
TZID:Europe/Madrid
BEGIN:DAYLIGHT
TZOFFSETFROM:+0100
TZOFFSETTO:+0200
TZNAME:CEST
DTSTART:20270328T010000
END:DAYLIGHT
BEGIN:STANDARD
TZOFFSETFROM:+0200
TZOFFSETTO:+0100
TZNAME:CET
DTSTART:20271031T010000
END:STANDARD
END:VTIMEZONE
BEGIN:VEVENT
DTSTART;TZID=Europe/Madrid:20270727T010000
DTEND;TZID=Europe/Madrid:20270727T020000
DTSTAMP:20260420T061301
CREATED:20250216T173544Z
LAST-MODIFIED:20250216T173632Z
UID:10022249-1816650000-1816653600@colorcomunitaria.org
SUMMARY:Informativo De este a Oeste (OLA) (R)
DESCRIPTION:
URL:https://colorcomunitaria.org/evento/informativo-de-este-a-oeste-ola-r/2027-07-27/
END:VEVENT
BEGIN:VEVENT
DTSTART;TZID=Europe/Madrid:20270727T020000
DTEND;TZID=Europe/Madrid:20270727T040000
DTSTAMP:20260420T061301
CREATED:20250216T180923Z
LAST-MODIFIED:20250216T181107Z
UID:10033683-1816653600-1816660800@colorcomunitaria.org
SUMMARY:Radioteatros Bicicleta Atómica y Audiodrama Colectivo
DESCRIPTION:
URL:https://colorcomunitaria.org/evento/radioteatros-bicicleta-atomica-y-audiodrama-colectivo/2027-07-27/
END:VEVENT
BEGIN:VEVENT
DTSTART;TZID=Europe/Madrid:20270727T083000
DTEND;TZID=Europe/Madrid:20270727T100000
DTSTAMP:20260420T061301
CREATED:20250214T170834Z
LAST-MODIFIED:20250214T170906Z
UID:10011365-1816677000-1816682400@colorcomunitaria.org
SUMMARY:Informativo De este a Oeste (OLA)
DESCRIPTION:
URL:https://colorcomunitaria.org/evento/informativo-de-este-a-oeste-ola/2027-07-27/
END:VEVENT
BEGIN:VEVENT
DTSTART;TZID=Europe/Madrid:20270727T100000
DTEND;TZID=Europe/Madrid:20270727T100500
DTSTAMP:20260420T061301
CREATED:20250214T171100Z
LAST-MODIFIED:20250214T171102Z
UID:10012678-1816682400-1816682700@colorcomunitaria.org
SUMMARY:Boletín informativo OLA
DESCRIPTION:
URL:https://colorcomunitaria.org/evento/boletin-informativo-ola-2/2027-07-27/
END:VEVENT
BEGIN:VEVENT
DTSTART;TZID=Europe/Madrid:20270727T100500
DTEND;TZID=Europe/Madrid:20270727T103500
DTSTAMP:20260420T061301
CREATED:20250121T155655Z
LAST-MODIFIED:20250214T162406Z
UID:10008490-1816682700-1816684500@colorcomunitaria.org
SUMMARY:Cerca de tu casa
DESCRIPTION:Magacín sobre lo que pasa en Palma Palmilla. Colabora Junta de Distrito 5 Palma Palmilla del Ayuntamiento  de Málaga.
URL:https://colorcomunitaria.org/evento/cerca-de-tu-casa/2027-07-27/
CATEGORIES:Palma Palmilla
ATTACH;FMTTYPE=image/jpeg:https://colorcomunitaria.org/wp-content/uploads/2025/01/imagen-loco-cdtc-cerca-de-tu-casa-grande-e1737380447434.jpg
END:VEVENT
BEGIN:VEVENT
DTSTART;TZID=Europe/Madrid:20270727T103500
DTEND;TZID=Europe/Madrid:20270727T104500
DTSTAMP:20260420T061301
CREATED:20250216T172831Z
LAST-MODIFIED:20250216T173153Z
UID:10015693-1816684500-1816685100@colorcomunitaria.org
SUMMARY:Cerca de tu casa - Málaga
DESCRIPTION:
URL:https://colorcomunitaria.org/evento/cerca-de-tu-casa-edicion-malaga/2027-07-27/
END:VEVENT
BEGIN:VEVENT
DTSTART;TZID=Europe/Madrid:20270727T110500
DTEND;TZID=Europe/Madrid:20270727T123000
DTSTAMP:20260420T061301
CREATED:20250214T165815Z
LAST-MODIFIED:20250214T165815Z
UID:10010332-1816686300-1816691400@colorcomunitaria.org
SUMMARY:La voz de vida
DESCRIPTION:
URL:https://colorcomunitaria.org/evento/la-voz-de-vida/2027-07-27/
END:VEVENT
BEGIN:VEVENT
DTSTART;TZID=Europe/Madrid:20270727T130000
DTEND;TZID=Europe/Madrid:20270727T133000
DTSTAMP:20260420T061301
CREATED:20250216T173355Z
LAST-MODIFIED:20250216T173355Z
UID:10018057-1816693200-1816695000@colorcomunitaria.org
SUMMARY:Informativo De este a Oeste (OLA)
DESCRIPTION:
URL:https://colorcomunitaria.org/evento/informativo-de-este-a-oeste-ola-2/2027-07-27/
END:VEVENT
BEGIN:VEVENT
DTSTART;TZID=Europe/Madrid:20270727T160000
DTEND;TZID=Europe/Madrid:20270727T163000
DTSTAMP:20260420T061301
CREATED:20250216T173851Z
LAST-MODIFIED:20250216T173851Z
UID:10024765-1816704000-1816705800@colorcomunitaria.org
SUMMARY:Cerca de tu casa (R)
DESCRIPTION:Magacín sobre lo que pasa en Palma Palmilla. Colabora Junta de Distrito 5 Palma Palmilla del Ayuntamiento  de Málaga.
URL:https://colorcomunitaria.org/evento/cerca-de-tu-casa-r/2027-07-27/
CATEGORIES:Palma Palmilla
ATTACH;FMTTYPE=image/jpeg:https://colorcomunitaria.org/wp-content/uploads/2025/01/imagen-loco-cdtc-cerca-de-tu-casa-grande-e1737380447434.jpg
END:VEVENT
BEGIN:VEVENT
DTSTART;TZID=Europe/Madrid:20270727T163000
DTEND;TZID=Europe/Madrid:20270727T170000
DTSTAMP:20260420T061301
CREATED:20250216T174046Z
LAST-MODIFIED:20250216T174046Z
UID:10027400-1816705800-1816707600@colorcomunitaria.org
SUMMARY:Aprender con onda
DESCRIPTION:
URL:https://colorcomunitaria.org/evento/aprender-con-onda/2027-07-27/
END:VEVENT
BEGIN:VEVENT
DTSTART;TZID=Europe/Madrid:20270727T190000
DTEND;TZID=Europe/Madrid:20270727T200000
DTSTAMP:20260420T061301
CREATED:20250216T173505Z
LAST-MODIFIED:20250216T173505Z
UID:10020153-1816714800-1816718400@colorcomunitaria.org
SUMMARY:Informativo De este a Oeste (OLA)
DESCRIPTION:
URL:https://colorcomunitaria.org/evento/informativo-de-este-a-oeste-ola-3/2027-07-27/
END:VEVENT
BEGIN:VEVENT
DTSTART;TZID=Europe/Madrid:20270727T200000
DTEND;TZID=Europe/Madrid:20270727T210000
DTSTAMP:20260420T061301
CREATED:20250214T172034Z
LAST-MODIFIED:20250214T172034Z
UID:10013742-1816718400-1816722000@colorcomunitaria.org
SUMMARY:Puentes
DESCRIPTION:
URL:https://colorcomunitaria.org/evento/puentes/2027-07-27/
END:VEVENT
BEGIN:VEVENT
DTSTART;TZID=Europe/Madrid:20270727T210000
DTEND;TZID=Europe/Madrid:20270727T220000
DTSTAMP:20260420T061301
CREATED:20250214T172202Z
LAST-MODIFIED:20250214T172202Z
UID:10014004-1816722000-1816725600@colorcomunitaria.org
SUMMARY:La voz de los sin voz
DESCRIPTION:
URL:https://colorcomunitaria.org/evento/la-voz-de-los-sin-voz/2027-07-27/
END:VEVENT
END:VCALENDAR