BEGIN:VCALENDAR
VERSION:2.0
PRODID:-//Color comunitaria - ECPv6.9.1//NONSGML v1.0//EN
CALSCALE:GREGORIAN
METHOD:PUBLISH
X-ORIGINAL-URL:https://colorcomunitaria.org
X-WR-CALDESC:Eventos para Color comunitaria
REFRESH-INTERVAL;VALUE=DURATION:PT1H
X-Robots-Tag:noindex
X-PUBLISHED-TTL:PT1H
BEGIN:VTIMEZONE
TZID:Europe/Madrid
BEGIN:DAYLIGHT
TZOFFSETFROM:+0100
TZOFFSETTO:+0200
TZNAME:CEST
DTSTART:20270328T010000
END:DAYLIGHT
BEGIN:STANDARD
TZOFFSETFROM:+0200
TZOFFSETTO:+0100
TZNAME:CET
DTSTART:20271031T010000
END:STANDARD
END:VTIMEZONE
BEGIN:VEVENT
DTSTART;TZID=Europe/Madrid:20270729T010000
DTEND;TZID=Europe/Madrid:20270729T020000
DTSTAMP:20260420T061510
CREATED:20250216T173544Z
LAST-MODIFIED:20250216T173632Z
UID:10022251-1816822800-1816826400@colorcomunitaria.org
SUMMARY:Informativo De este a Oeste (OLA) (R)
DESCRIPTION:
URL:https://colorcomunitaria.org/evento/informativo-de-este-a-oeste-ola-r/2027-07-29/
END:VEVENT
BEGIN:VEVENT
DTSTART;TZID=Europe/Madrid:20270729T020000
DTEND;TZID=Europe/Madrid:20270729T040000
DTSTAMP:20260420T061510
CREATED:20250216T180923Z
LAST-MODIFIED:20250216T181107Z
UID:10033685-1816826400-1816833600@colorcomunitaria.org
SUMMARY:Radioteatros Bicicleta Atómica y Audiodrama Colectivo
DESCRIPTION:
URL:https://colorcomunitaria.org/evento/radioteatros-bicicleta-atomica-y-audiodrama-colectivo/2027-07-29/
END:VEVENT
BEGIN:VEVENT
DTSTART;TZID=Europe/Madrid:20270729T083000
DTEND;TZID=Europe/Madrid:20270729T100000
DTSTAMP:20260420T061510
CREATED:20250214T170834Z
LAST-MODIFIED:20250214T170906Z
UID:10011367-1816849800-1816855200@colorcomunitaria.org
SUMMARY:Informativo De este a Oeste (OLA)
DESCRIPTION:
URL:https://colorcomunitaria.org/evento/informativo-de-este-a-oeste-ola/2027-07-29/
END:VEVENT
BEGIN:VEVENT
DTSTART;TZID=Europe/Madrid:20270729T100000
DTEND;TZID=Europe/Madrid:20270729T100500
DTSTAMP:20260420T061510
CREATED:20250214T171100Z
LAST-MODIFIED:20250214T171102Z
UID:10012680-1816855200-1816855500@colorcomunitaria.org
SUMMARY:Boletín informativo OLA
DESCRIPTION:
URL:https://colorcomunitaria.org/evento/boletin-informativo-ola-2/2027-07-29/
END:VEVENT
BEGIN:VEVENT
DTSTART;TZID=Europe/Madrid:20270729T100500
DTEND;TZID=Europe/Madrid:20270729T103500
DTSTAMP:20260420T061510
CREATED:20250121T155655Z
LAST-MODIFIED:20250214T162406Z
UID:10008492-1816855500-1816857300@colorcomunitaria.org
SUMMARY:Cerca de tu casa
DESCRIPTION:Magacín sobre lo que pasa en Palma Palmilla. Colabora Junta de Distrito 5 Palma Palmilla del Ayuntamiento  de Málaga.
URL:https://colorcomunitaria.org/evento/cerca-de-tu-casa/2027-07-29/
CATEGORIES:Palma Palmilla
ATTACH;FMTTYPE=image/jpeg:https://colorcomunitaria.org/wp-content/uploads/2025/01/imagen-loco-cdtc-cerca-de-tu-casa-grande-e1737380447434.jpg
END:VEVENT
BEGIN:VEVENT
DTSTART;TZID=Europe/Madrid:20270729T100500
DTEND;TZID=Europe/Madrid:20270729T110000
DTSTAMP:20260420T061510
CREATED:20250216T175710Z
LAST-MODIFIED:20250216T175728Z
UID:10030816-1816855500-1816858800@colorcomunitaria.org
SUMMARY:Puentes (R)
DESCRIPTION:
URL:https://colorcomunitaria.org/evento/puentes-r/2027-07-29/
END:VEVENT
BEGIN:VEVENT
DTSTART;TZID=Europe/Madrid:20270729T103500
DTEND;TZID=Europe/Madrid:20270729T104500
DTSTAMP:20260420T061510
CREATED:20250216T172831Z
LAST-MODIFIED:20250216T173153Z
UID:10015695-1816857300-1816857900@colorcomunitaria.org
SUMMARY:Cerca de tu casa - Málaga
DESCRIPTION:
URL:https://colorcomunitaria.org/evento/cerca-de-tu-casa-edicion-malaga/2027-07-29/
END:VEVENT
BEGIN:VEVENT
DTSTART;TZID=Europe/Madrid:20270729T110500
DTEND;TZID=Europe/Madrid:20270729T113500
DTSTAMP:20260420T061510
CREATED:20250216T172357Z
LAST-MODIFIED:20250216T172357Z
UID:10014790-1816859100-1816860900@colorcomunitaria.org
SUMMARY:¿Quién vive?
DESCRIPTION:
URL:https://colorcomunitaria.org/evento/quien-vive/2027-07-29/
END:VEVENT
BEGIN:VEVENT
DTSTART;TZID=Europe/Madrid:20270729T130000
DTEND;TZID=Europe/Madrid:20270729T133000
DTSTAMP:20260420T061510
CREATED:20250216T173355Z
LAST-MODIFIED:20250216T173355Z
UID:10018059-1816866000-1816867800@colorcomunitaria.org
SUMMARY:Informativo De este a Oeste (OLA)
DESCRIPTION:
URL:https://colorcomunitaria.org/evento/informativo-de-este-a-oeste-ola-2/2027-07-29/
END:VEVENT
BEGIN:VEVENT
DTSTART;TZID=Europe/Madrid:20270729T160000
DTEND;TZID=Europe/Madrid:20270729T163000
DTSTAMP:20260420T061510
CREATED:20250216T173851Z
LAST-MODIFIED:20250216T173851Z
UID:10024767-1816876800-1816878600@colorcomunitaria.org
SUMMARY:Cerca de tu casa (R)
DESCRIPTION:Magacín sobre lo que pasa en Palma Palmilla. Colabora Junta de Distrito 5 Palma Palmilla del Ayuntamiento  de Málaga.
URL:https://colorcomunitaria.org/evento/cerca-de-tu-casa-r/2027-07-29/
CATEGORIES:Palma Palmilla
ATTACH;FMTTYPE=image/jpeg:https://colorcomunitaria.org/wp-content/uploads/2025/01/imagen-loco-cdtc-cerca-de-tu-casa-grande-e1737380447434.jpg
END:VEVENT
BEGIN:VEVENT
DTSTART;TZID=Europe/Madrid:20270729T163000
DTEND;TZID=Europe/Madrid:20270729T170000
DTSTAMP:20260420T061510
CREATED:20250216T174046Z
LAST-MODIFIED:20250216T174046Z
UID:10027402-1816878600-1816880400@colorcomunitaria.org
SUMMARY:Aprender con onda
DESCRIPTION:
URL:https://colorcomunitaria.org/evento/aprender-con-onda/2027-07-29/
END:VEVENT
BEGIN:VEVENT
DTSTART;TZID=Europe/Madrid:20270729T190000
DTEND;TZID=Europe/Madrid:20270729T200000
DTSTAMP:20260420T061510
CREATED:20250216T173505Z
LAST-MODIFIED:20250216T173505Z
UID:10020155-1816887600-1816891200@colorcomunitaria.org
SUMMARY:Informativo De este a Oeste (OLA)
DESCRIPTION:
URL:https://colorcomunitaria.org/evento/informativo-de-este-a-oeste-ola-3/2027-07-29/
END:VEVENT
BEGIN:VEVENT
DTSTART;TZID=Europe/Madrid:20270729T220000
DTEND;TZID=Europe/Madrid:20270729T223000
DTSTAMP:20260420T061510
CREATED:20250216T175357Z
LAST-MODIFIED:20250216T175357Z
UID:10030029-1816898400-1816900200@colorcomunitaria.org
SUMMARY:¿Quién vive? (R)
DESCRIPTION:
URL:https://colorcomunitaria.org/evento/quien-vive-r/2027-07-29/
END:VEVENT
END:VCALENDAR