BEGIN:VCALENDAR
VERSION:2.0
PRODID:-//Color comunitaria - ECPv6.9.1//NONSGML v1.0//EN
CALSCALE:GREGORIAN
METHOD:PUBLISH
X-ORIGINAL-URL:https://colorcomunitaria.org
X-WR-CALDESC:Eventos para Color comunitaria
REFRESH-INTERVAL;VALUE=DURATION:PT1H
X-Robots-Tag:noindex
X-PUBLISHED-TTL:PT1H
BEGIN:VTIMEZONE
TZID:Europe/Madrid
BEGIN:DAYLIGHT
TZOFFSETFROM:+0100
TZOFFSETTO:+0200
TZNAME:CEST
DTSTART:20270328T010000
END:DAYLIGHT
BEGIN:STANDARD
TZOFFSETFROM:+0200
TZOFFSETTO:+0100
TZNAME:CET
DTSTART:20271031T010000
END:STANDARD
END:VTIMEZONE
BEGIN:VEVENT
DTSTART;TZID=Europe/Madrid:20270821T010000
DTEND;TZID=Europe/Madrid:20270821T020000
DTSTAMP:20260420T112812
CREATED:20250216T180735Z
LAST-MODIFIED:20250216T180735Z
UID:10032655-1818810000-1818813600@colorcomunitaria.org
SUMMARY:Elektrodance (R)
DESCRIPTION:
URL:https://colorcomunitaria.org/evento/elektrodance-r/2027-08-21/
END:VEVENT
BEGIN:VEVENT
DTSTART;TZID=Europe/Madrid:20270821T020000
DTEND;TZID=Europe/Madrid:20270821T040000
DTSTAMP:20260420T112812
CREATED:20250216T180923Z
LAST-MODIFIED:20250216T181107Z
UID:10033708-1818813600-1818820800@colorcomunitaria.org
SUMMARY:Radioteatros Bicicleta Atómica y Audiodrama Colectivo
DESCRIPTION:
URL:https://colorcomunitaria.org/evento/radioteatros-bicicleta-atomica-y-audiodrama-colectivo/2027-08-21/
END:VEVENT
BEGIN:VEVENT
DTSTART;TZID=Europe/Madrid:20270821T080000
DTEND;TZID=Europe/Madrid:20270821T090000
DTSTAMP:20260420T112812
CREATED:20250216T180646Z
LAST-MODIFIED:20250216T180646Z
UID:10032131-1818835200-1818838800@colorcomunitaria.org
SUMMARY:Palma y Romeros (R)
DESCRIPTION:
URL:https://colorcomunitaria.org/evento/palma-y-romeros-r/2027-08-21/
END:VEVENT
BEGIN:VEVENT
DTSTART;TZID=Europe/Madrid:20270821T103500
DTEND;TZID=Europe/Madrid:20270821T104500
DTSTAMP:20260420T112812
CREATED:20250216T172831Z
LAST-MODIFIED:20250216T173153Z
UID:10015715-1818844500-1818845100@colorcomunitaria.org
SUMMARY:Cerca de tu casa - Málaga
DESCRIPTION:
URL:https://colorcomunitaria.org/evento/cerca-de-tu-casa-edicion-malaga/2027-08-21/
END:VEVENT
BEGIN:VEVENT
DTSTART;TZID=Europe/Madrid:20270821T130000
DTEND;TZID=Europe/Madrid:20270821T140000
DTSTAMP:20260420T112812
CREATED:20250216T175015Z
LAST-MODIFIED:20250216T175015Z
UID:10028984-1818853200-1818856800@colorcomunitaria.org
SUMMARY:Entre letras (R)
DESCRIPTION:
URL:https://colorcomunitaria.org/evento/entre-letras-r/2027-08-21/
END:VEVENT
BEGIN:VEVENT
DTSTART;TZID=Europe/Madrid:20270821T140000
DTEND;TZID=Europe/Madrid:20270821T150000
DTSTAMP:20260420T112812
CREATED:20250216T172205Z
LAST-MODIFIED:20250216T172205Z
UID:10014531-1818856800-1818860400@colorcomunitaria.org
SUMMARY:La Reverse Podcast
DESCRIPTION:
URL:https://colorcomunitaria.org/evento/la-reverse-podcast/2027-08-21/
END:VEVENT
BEGIN:VEVENT
DTSTART;TZID=Europe/Madrid:20270821T170000
DTEND;TZID=Europe/Madrid:20270821T180000
DTSTAMP:20260420T112812
CREATED:20250216T175931Z
LAST-MODIFIED:20250216T175931Z
UID:10031343-1818867600-1818871200@colorcomunitaria.org
SUMMARY:La voz de los sin voz (R)
DESCRIPTION:
URL:https://colorcomunitaria.org/evento/la-voz-de-los-sin-voz-r/2027-08-21/
END:VEVENT
END:VCALENDAR