BEGIN:VCALENDAR
VERSION:2.0
PRODID:-//Color comunitaria - ECPv6.9.1//NONSGML v1.0//EN
CALSCALE:GREGORIAN
METHOD:PUBLISH
X-WR-CALNAME:Color comunitaria
X-ORIGINAL-URL:https://colorcomunitaria.org
X-WR-CALDESC:Eventos para Color comunitaria
REFRESH-INTERVAL;VALUE=DURATION:PT1H
X-Robots-Tag:noindex
X-PUBLISHED-TTL:PT1H
BEGIN:VTIMEZONE
TZID:Europe/Madrid
BEGIN:DAYLIGHT
TZOFFSETFROM:+0100
TZOFFSETTO:+0200
TZNAME:CEST
DTSTART:20270328T010000
END:DAYLIGHT
BEGIN:STANDARD
TZOFFSETFROM:+0200
TZOFFSETTO:+0100
TZNAME:CET
DTSTART:20271031T010000
END:STANDARD
END:VTIMEZONE
BEGIN:VEVENT
DTSTART;TZID=Europe/Madrid:20270902T010000
DTEND;TZID=Europe/Madrid:20270902T020000
DTSTAMP:20260420T161442
CREATED:20250216T173544Z
LAST-MODIFIED:20250216T173632Z
UID:10022271-1819846800-1819850400@colorcomunitaria.org
SUMMARY:Informativo De este a Oeste (OLA) (R)
DESCRIPTION:
URL:https://colorcomunitaria.org/evento/informativo-de-este-a-oeste-ola-r/2027-09-02/
END:VEVENT
BEGIN:VEVENT
DTSTART;TZID=Europe/Madrid:20270902T020000
DTEND;TZID=Europe/Madrid:20270902T040000
DTSTAMP:20260420T161442
CREATED:20250216T180923Z
LAST-MODIFIED:20250216T181107Z
UID:10033720-1819850400-1819857600@colorcomunitaria.org
SUMMARY:Radioteatros Bicicleta Atómica y Audiodrama Colectivo
DESCRIPTION:
URL:https://colorcomunitaria.org/evento/radioteatros-bicicleta-atomica-y-audiodrama-colectivo/2027-09-02/
END:VEVENT
BEGIN:VEVENT
DTSTART;TZID=Europe/Madrid:20270902T083000
DTEND;TZID=Europe/Madrid:20270902T100000
DTSTAMP:20260420T161442
CREATED:20250214T170834Z
LAST-MODIFIED:20250214T170906Z
UID:10011392-1819873800-1819879200@colorcomunitaria.org
SUMMARY:Informativo De este a Oeste (OLA)
DESCRIPTION:
URL:https://colorcomunitaria.org/evento/informativo-de-este-a-oeste-ola/2027-09-02/
END:VEVENT
BEGIN:VEVENT
DTSTART;TZID=Europe/Madrid:20270902T100000
DTEND;TZID=Europe/Madrid:20270902T100500
DTSTAMP:20260420T161442
CREATED:20250214T171100Z
LAST-MODIFIED:20250214T171102Z
UID:10012705-1819879200-1819879500@colorcomunitaria.org
SUMMARY:Boletín informativo OLA
DESCRIPTION:
URL:https://colorcomunitaria.org/evento/boletin-informativo-ola-2/2027-09-02/
END:VEVENT
BEGIN:VEVENT
DTSTART;TZID=Europe/Madrid:20270902T100500
DTEND;TZID=Europe/Madrid:20270902T103500
DTSTAMP:20260420T161442
CREATED:20250121T155655Z
LAST-MODIFIED:20250214T162406Z
UID:10008517-1819879500-1819881300@colorcomunitaria.org
SUMMARY:Cerca de tu casa
DESCRIPTION:Magacín sobre lo que pasa en Palma Palmilla. Colabora Junta de Distrito 5 Palma Palmilla del Ayuntamiento  de Málaga.
URL:https://colorcomunitaria.org/evento/cerca-de-tu-casa/2027-09-02/
CATEGORIES:Palma Palmilla
ATTACH;FMTTYPE=image/jpeg:https://colorcomunitaria.org/wp-content/uploads/2025/01/imagen-loco-cdtc-cerca-de-tu-casa-grande-e1737380447434.jpg
END:VEVENT
BEGIN:VEVENT
DTSTART;TZID=Europe/Madrid:20270902T100500
DTEND;TZID=Europe/Madrid:20270902T110000
DTSTAMP:20260420T161442
CREATED:20250216T175710Z
LAST-MODIFIED:20250216T175728Z
UID:10030821-1819879500-1819882800@colorcomunitaria.org
SUMMARY:Puentes (R)
DESCRIPTION:
URL:https://colorcomunitaria.org/evento/puentes-r/2027-09-02/
END:VEVENT
BEGIN:VEVENT
DTSTART;TZID=Europe/Madrid:20270902T103500
DTEND;TZID=Europe/Madrid:20270902T104500
DTSTAMP:20260420T161442
CREATED:20250216T172831Z
LAST-MODIFIED:20250216T173153Z
UID:10015725-1819881300-1819881900@colorcomunitaria.org
SUMMARY:Cerca de tu casa - Málaga
DESCRIPTION:
URL:https://colorcomunitaria.org/evento/cerca-de-tu-casa-edicion-malaga/2027-09-02/
END:VEVENT
BEGIN:VEVENT
DTSTART;TZID=Europe/Madrid:20270902T110500
DTEND;TZID=Europe/Madrid:20270902T113500
DTSTAMP:20260420T161442
CREATED:20250216T172357Z
LAST-MODIFIED:20250216T172357Z
UID:10014795-1819883100-1819884900@colorcomunitaria.org
SUMMARY:¿Quién vive?
DESCRIPTION:
URL:https://colorcomunitaria.org/evento/quien-vive/2027-09-02/
END:VEVENT
BEGIN:VEVENT
DTSTART;TZID=Europe/Madrid:20270902T130000
DTEND;TZID=Europe/Madrid:20270902T133000
DTSTAMP:20260420T161442
CREATED:20250216T173355Z
LAST-MODIFIED:20250216T173355Z
UID:10018079-1819890000-1819891800@colorcomunitaria.org
SUMMARY:Informativo De este a Oeste (OLA)
DESCRIPTION:
URL:https://colorcomunitaria.org/evento/informativo-de-este-a-oeste-ola-2/2027-09-02/
END:VEVENT
BEGIN:VEVENT
DTSTART;TZID=Europe/Madrid:20270902T160000
DTEND;TZID=Europe/Madrid:20270902T163000
DTSTAMP:20260420T161442
CREATED:20250216T173851Z
LAST-MODIFIED:20250216T173851Z
UID:10024792-1819900800-1819902600@colorcomunitaria.org
SUMMARY:Cerca de tu casa (R)
DESCRIPTION:Magacín sobre lo que pasa en Palma Palmilla. Colabora Junta de Distrito 5 Palma Palmilla del Ayuntamiento  de Málaga.
URL:https://colorcomunitaria.org/evento/cerca-de-tu-casa-r/2027-09-02/
CATEGORIES:Palma Palmilla
ATTACH;FMTTYPE=image/jpeg:https://colorcomunitaria.org/wp-content/uploads/2025/01/imagen-loco-cdtc-cerca-de-tu-casa-grande-e1737380447434.jpg
END:VEVENT
BEGIN:VEVENT
DTSTART;TZID=Europe/Madrid:20270902T163000
DTEND;TZID=Europe/Madrid:20270902T170000
DTSTAMP:20260420T161442
CREATED:20250216T174046Z
LAST-MODIFIED:20250216T174046Z
UID:10027427-1819902600-1819904400@colorcomunitaria.org
SUMMARY:Aprender con onda
DESCRIPTION:
URL:https://colorcomunitaria.org/evento/aprender-con-onda/2027-09-02/
END:VEVENT
BEGIN:VEVENT
DTSTART;TZID=Europe/Madrid:20270902T190000
DTEND;TZID=Europe/Madrid:20270902T200000
DTSTAMP:20260420T161442
CREATED:20250216T173505Z
LAST-MODIFIED:20250216T173505Z
UID:10020175-1819911600-1819915200@colorcomunitaria.org
SUMMARY:Informativo De este a Oeste (OLA)
DESCRIPTION:
URL:https://colorcomunitaria.org/evento/informativo-de-este-a-oeste-ola-3/2027-09-02/
END:VEVENT
BEGIN:VEVENT
DTSTART;TZID=Europe/Madrid:20270902T220000
DTEND;TZID=Europe/Madrid:20270902T223000
DTSTAMP:20260420T161443
CREATED:20250216T175357Z
LAST-MODIFIED:20250216T175357Z
UID:10030034-1819922400-1819924200@colorcomunitaria.org
SUMMARY:¿Quién vive? (R)
DESCRIPTION:
URL:https://colorcomunitaria.org/evento/quien-vive-r/2027-09-02/
END:VEVENT
END:VCALENDAR