BEGIN:VCALENDAR
VERSION:2.0
PRODID:-//Color comunitaria - ECPv6.9.1//NONSGML v1.0//EN
CALSCALE:GREGORIAN
METHOD:PUBLISH
X-ORIGINAL-URL:https://colorcomunitaria.org
X-WR-CALDESC:Eventos para Color comunitaria
REFRESH-INTERVAL;VALUE=DURATION:PT1H
X-Robots-Tag:noindex
X-PUBLISHED-TTL:PT1H
BEGIN:VTIMEZONE
TZID:Europe/Madrid
BEGIN:DAYLIGHT
TZOFFSETFROM:+0100
TZOFFSETTO:+0200
TZNAME:CEST
DTSTART:20270328T010000
END:DAYLIGHT
BEGIN:STANDARD
TZOFFSETFROM:+0200
TZOFFSETTO:+0100
TZNAME:CET
DTSTART:20271031T010000
END:STANDARD
END:VTIMEZONE
BEGIN:VEVENT
DTSTART;TZID=Europe/Madrid:20271002T010000
DTEND;TZID=Europe/Madrid:20271002T020000
DTSTAMP:20260420T212623
CREATED:20250216T180735Z
LAST-MODIFIED:20250216T180735Z
UID:10032661-1822438800-1822442400@colorcomunitaria.org
SUMMARY:Elektrodance (R)
DESCRIPTION:
URL:https://colorcomunitaria.org/evento/elektrodance-r/2027-10-02/
END:VEVENT
BEGIN:VEVENT
DTSTART;TZID=Europe/Madrid:20271002T020000
DTEND;TZID=Europe/Madrid:20271002T040000
DTSTAMP:20260420T212623
CREATED:20250216T180923Z
LAST-MODIFIED:20250216T181107Z
UID:10033750-1822442400-1822449600@colorcomunitaria.org
SUMMARY:Radioteatros Bicicleta Atómica y Audiodrama Colectivo
DESCRIPTION:
URL:https://colorcomunitaria.org/evento/radioteatros-bicicleta-atomica-y-audiodrama-colectivo/2027-10-02/
END:VEVENT
BEGIN:VEVENT
DTSTART;TZID=Europe/Madrid:20271002T080000
DTEND;TZID=Europe/Madrid:20271002T090000
DTSTAMP:20260420T212623
CREATED:20250216T180646Z
LAST-MODIFIED:20250216T180646Z
UID:10032137-1822464000-1822467600@colorcomunitaria.org
SUMMARY:Palma y Romeros (R)
DESCRIPTION:
URL:https://colorcomunitaria.org/evento/palma-y-romeros-r/2027-10-02/
END:VEVENT
BEGIN:VEVENT
DTSTART;TZID=Europe/Madrid:20271002T103500
DTEND;TZID=Europe/Madrid:20271002T104500
DTSTAMP:20260420T212623
CREATED:20250216T172831Z
LAST-MODIFIED:20250216T173153Z
UID:10015751-1822473300-1822473900@colorcomunitaria.org
SUMMARY:Cerca de tu casa - Málaga
DESCRIPTION:
URL:https://colorcomunitaria.org/evento/cerca-de-tu-casa-edicion-malaga/2027-10-02/
END:VEVENT
BEGIN:VEVENT
DTSTART;TZID=Europe/Madrid:20271002T130000
DTEND;TZID=Europe/Madrid:20271002T140000
DTSTAMP:20260420T212623
CREATED:20250216T175015Z
LAST-MODIFIED:20250216T175015Z
UID:10028990-1822482000-1822485600@colorcomunitaria.org
SUMMARY:Entre letras (R)
DESCRIPTION:
URL:https://colorcomunitaria.org/evento/entre-letras-r/2027-10-02/
END:VEVENT
BEGIN:VEVENT
DTSTART;TZID=Europe/Madrid:20271002T140000
DTEND;TZID=Europe/Madrid:20271002T150000
DTSTAMP:20260420T212623
CREATED:20250216T172205Z
LAST-MODIFIED:20250216T172205Z
UID:10014537-1822485600-1822489200@colorcomunitaria.org
SUMMARY:La Reverse Podcast
DESCRIPTION:
URL:https://colorcomunitaria.org/evento/la-reverse-podcast/2027-10-02/
END:VEVENT
BEGIN:VEVENT
DTSTART;TZID=Europe/Madrid:20271002T170000
DTEND;TZID=Europe/Madrid:20271002T180000
DTSTAMP:20260420T212623
CREATED:20250216T175931Z
LAST-MODIFIED:20250216T175931Z
UID:10031349-1822496400-1822500000@colorcomunitaria.org
SUMMARY:La voz de los sin voz (R)
DESCRIPTION:
URL:https://colorcomunitaria.org/evento/la-voz-de-los-sin-voz-r/2027-10-02/
END:VEVENT
END:VCALENDAR