BEGIN:VCALENDAR
VERSION:2.0
PRODID:-//Color comunitaria - ECPv6.9.1//NONSGML v1.0//EN
CALSCALE:GREGORIAN
METHOD:PUBLISH
X-WR-CALNAME:Color comunitaria
X-ORIGINAL-URL:https://colorcomunitaria.org
X-WR-CALDESC:Eventos para Color comunitaria
REFRESH-INTERVAL;VALUE=DURATION:PT1H
X-Robots-Tag:noindex
X-PUBLISHED-TTL:PT1H
BEGIN:VTIMEZONE
TZID:Europe/Madrid
BEGIN:DAYLIGHT
TZOFFSETFROM:+0100
TZOFFSETTO:+0200
TZNAME:CEST
DTSTART:20270328T010000
END:DAYLIGHT
BEGIN:STANDARD
TZOFFSETFROM:+0200
TZOFFSETTO:+0100
TZNAME:CET
DTSTART:20271031T010000
END:STANDARD
END:VTIMEZONE
BEGIN:VEVENT
DTSTART;TZID=Europe/Madrid:20271005T010000
DTEND;TZID=Europe/Madrid:20271005T020000
DTSTAMP:20260420T231101
CREATED:20250216T173544Z
LAST-MODIFIED:20250216T173632Z
UID:10022289-1822698000-1822701600@colorcomunitaria.org
SUMMARY:Informativo De este a Oeste (OLA) (R)
DESCRIPTION:
URL:https://colorcomunitaria.org/evento/informativo-de-este-a-oeste-ola-r/2027-10-05/
END:VEVENT
BEGIN:VEVENT
DTSTART;TZID=Europe/Madrid:20271005T020000
DTEND;TZID=Europe/Madrid:20271005T040000
DTSTAMP:20260420T231101
CREATED:20250216T180923Z
LAST-MODIFIED:20250216T181107Z
UID:10033753-1822701600-1822708800@colorcomunitaria.org
SUMMARY:Radioteatros Bicicleta Atómica y Audiodrama Colectivo
DESCRIPTION:
URL:https://colorcomunitaria.org/evento/radioteatros-bicicleta-atomica-y-audiodrama-colectivo/2027-10-05/
END:VEVENT
BEGIN:VEVENT
DTSTART;TZID=Europe/Madrid:20271005T083000
DTEND;TZID=Europe/Madrid:20271005T100000
DTSTAMP:20260420T231101
CREATED:20250214T170834Z
LAST-MODIFIED:20250214T170906Z
UID:10011415-1822725000-1822730400@colorcomunitaria.org
SUMMARY:Informativo De este a Oeste (OLA)
DESCRIPTION:
URL:https://colorcomunitaria.org/evento/informativo-de-este-a-oeste-ola/2027-10-05/
END:VEVENT
BEGIN:VEVENT
DTSTART;TZID=Europe/Madrid:20271005T100000
DTEND;TZID=Europe/Madrid:20271005T100500
DTSTAMP:20260420T231101
CREATED:20250214T171100Z
LAST-MODIFIED:20250214T171102Z
UID:10012728-1822730400-1822730700@colorcomunitaria.org
SUMMARY:Boletín informativo OLA
DESCRIPTION:
URL:https://colorcomunitaria.org/evento/boletin-informativo-ola-2/2027-10-05/
END:VEVENT
BEGIN:VEVENT
DTSTART;TZID=Europe/Madrid:20271005T100500
DTEND;TZID=Europe/Madrid:20271005T103500
DTSTAMP:20260420T231101
CREATED:20250121T155655Z
LAST-MODIFIED:20250214T162406Z
UID:10008540-1822730700-1822732500@colorcomunitaria.org
SUMMARY:Cerca de tu casa
DESCRIPTION:Magacín sobre lo que pasa en Palma Palmilla. Colabora Junta de Distrito 5 Palma Palmilla del Ayuntamiento  de Málaga.
URL:https://colorcomunitaria.org/evento/cerca-de-tu-casa/2027-10-05/
CATEGORIES:Palma Palmilla
ATTACH;FMTTYPE=image/jpeg:https://colorcomunitaria.org/wp-content/uploads/2025/01/imagen-loco-cdtc-cerca-de-tu-casa-grande-e1737380447434.jpg
END:VEVENT
BEGIN:VEVENT
DTSTART;TZID=Europe/Madrid:20271005T103500
DTEND;TZID=Europe/Madrid:20271005T104500
DTSTAMP:20260420T231101
CREATED:20250216T172831Z
LAST-MODIFIED:20250216T173153Z
UID:10015753-1822732500-1822733100@colorcomunitaria.org
SUMMARY:Cerca de tu casa - Málaga
DESCRIPTION:
URL:https://colorcomunitaria.org/evento/cerca-de-tu-casa-edicion-malaga/2027-10-05/
END:VEVENT
BEGIN:VEVENT
DTSTART;TZID=Europe/Madrid:20271005T110500
DTEND;TZID=Europe/Madrid:20271005T123000
DTSTAMP:20260420T231101
CREATED:20250214T165815Z
LAST-MODIFIED:20250214T165815Z
UID:10010342-1822734300-1822739400@colorcomunitaria.org
SUMMARY:La voz de vida
DESCRIPTION:
URL:https://colorcomunitaria.org/evento/la-voz-de-vida/2027-10-05/
END:VEVENT
BEGIN:VEVENT
DTSTART;TZID=Europe/Madrid:20271005T130000
DTEND;TZID=Europe/Madrid:20271005T133000
DTSTAMP:20260420T231101
CREATED:20250216T173355Z
LAST-MODIFIED:20250216T173355Z
UID:10018097-1822741200-1822743000@colorcomunitaria.org
SUMMARY:Informativo De este a Oeste (OLA)
DESCRIPTION:
URL:https://colorcomunitaria.org/evento/informativo-de-este-a-oeste-ola-2/2027-10-05/
END:VEVENT
BEGIN:VEVENT
DTSTART;TZID=Europe/Madrid:20271005T160000
DTEND;TZID=Europe/Madrid:20271005T163000
DTSTAMP:20260420T231101
CREATED:20250216T173851Z
LAST-MODIFIED:20250216T173851Z
UID:10024815-1822752000-1822753800@colorcomunitaria.org
SUMMARY:Cerca de tu casa (R)
DESCRIPTION:Magacín sobre lo que pasa en Palma Palmilla. Colabora Junta de Distrito 5 Palma Palmilla del Ayuntamiento  de Málaga.
URL:https://colorcomunitaria.org/evento/cerca-de-tu-casa-r/2027-10-05/
CATEGORIES:Palma Palmilla
ATTACH;FMTTYPE=image/jpeg:https://colorcomunitaria.org/wp-content/uploads/2025/01/imagen-loco-cdtc-cerca-de-tu-casa-grande-e1737380447434.jpg
END:VEVENT
BEGIN:VEVENT
DTSTART;TZID=Europe/Madrid:20271005T163000
DTEND;TZID=Europe/Madrid:20271005T170000
DTSTAMP:20260420T231101
CREATED:20250216T174046Z
LAST-MODIFIED:20250216T174046Z
UID:10027450-1822753800-1822755600@colorcomunitaria.org
SUMMARY:Aprender con onda
DESCRIPTION:
URL:https://colorcomunitaria.org/evento/aprender-con-onda/2027-10-05/
END:VEVENT
BEGIN:VEVENT
DTSTART;TZID=Europe/Madrid:20271005T190000
DTEND;TZID=Europe/Madrid:20271005T200000
DTSTAMP:20260420T231101
CREATED:20250216T173505Z
LAST-MODIFIED:20250216T173505Z
UID:10020193-1822762800-1822766400@colorcomunitaria.org
SUMMARY:Informativo De este a Oeste (OLA)
DESCRIPTION:
URL:https://colorcomunitaria.org/evento/informativo-de-este-a-oeste-ola-3/2027-10-05/
END:VEVENT
BEGIN:VEVENT
DTSTART;TZID=Europe/Madrid:20271005T200000
DTEND;TZID=Europe/Madrid:20271005T210000
DTSTAMP:20260420T231101
CREATED:20250214T172034Z
LAST-MODIFIED:20250214T172034Z
UID:10013752-1822766400-1822770000@colorcomunitaria.org
SUMMARY:Puentes
DESCRIPTION:
URL:https://colorcomunitaria.org/evento/puentes/2027-10-05/
END:VEVENT
BEGIN:VEVENT
DTSTART;TZID=Europe/Madrid:20271005T210000
DTEND;TZID=Europe/Madrid:20271005T220000
DTSTAMP:20260420T231101
CREATED:20250214T172202Z
LAST-MODIFIED:20250214T172202Z
UID:10014014-1822770000-1822773600@colorcomunitaria.org
SUMMARY:La voz de los sin voz
DESCRIPTION:
URL:https://colorcomunitaria.org/evento/la-voz-de-los-sin-voz/2027-10-05/
END:VEVENT
END:VCALENDAR