BEGIN:VCALENDAR
VERSION:2.0
PRODID:-//Color comunitaria - ECPv6.9.1//NONSGML v1.0//EN
CALSCALE:GREGORIAN
METHOD:PUBLISH
X-WR-CALNAME:Color comunitaria
X-ORIGINAL-URL:https://colorcomunitaria.org
X-WR-CALDESC:Eventos para Color comunitaria
REFRESH-INTERVAL;VALUE=DURATION:PT1H
X-Robots-Tag:noindex
X-PUBLISHED-TTL:PT1H
BEGIN:VTIMEZONE
TZID:Europe/Madrid
BEGIN:DAYLIGHT
TZOFFSETFROM:+0100
TZOFFSETTO:+0200
TZNAME:CEST
DTSTART:20270328T010000
END:DAYLIGHT
BEGIN:STANDARD
TZOFFSETFROM:+0200
TZOFFSETTO:+0100
TZNAME:CET
DTSTART:20271031T010000
END:STANDARD
END:VTIMEZONE
BEGIN:VEVENT
DTSTART;TZID=Europe/Madrid:20271009T010000
DTEND;TZID=Europe/Madrid:20271009T020000
DTSTAMP:20260420T232111
CREATED:20250216T180735Z
LAST-MODIFIED:20250216T180735Z
UID:10032662-1823043600-1823047200@colorcomunitaria.org
SUMMARY:Elektrodance (R)
DESCRIPTION:
URL:https://colorcomunitaria.org/evento/elektrodance-r/2027-10-09/
END:VEVENT
BEGIN:VEVENT
DTSTART;TZID=Europe/Madrid:20271009T020000
DTEND;TZID=Europe/Madrid:20271009T040000
DTSTAMP:20260420T232111
CREATED:20250216T180923Z
LAST-MODIFIED:20250216T181107Z
UID:10033757-1823047200-1823054400@colorcomunitaria.org
SUMMARY:Radioteatros Bicicleta Atómica y Audiodrama Colectivo
DESCRIPTION:
URL:https://colorcomunitaria.org/evento/radioteatros-bicicleta-atomica-y-audiodrama-colectivo/2027-10-09/
END:VEVENT
BEGIN:VEVENT
DTSTART;TZID=Europe/Madrid:20271009T080000
DTEND;TZID=Europe/Madrid:20271009T090000
DTSTAMP:20260420T232111
CREATED:20250216T180646Z
LAST-MODIFIED:20250216T180646Z
UID:10032138-1823068800-1823072400@colorcomunitaria.org
SUMMARY:Palma y Romeros (R)
DESCRIPTION:
URL:https://colorcomunitaria.org/evento/palma-y-romeros-r/2027-10-09/
END:VEVENT
BEGIN:VEVENT
DTSTART;TZID=Europe/Madrid:20271009T103500
DTEND;TZID=Europe/Madrid:20271009T104500
DTSTAMP:20260420T232111
CREATED:20250216T172831Z
LAST-MODIFIED:20250216T173153Z
UID:10015757-1823078100-1823078700@colorcomunitaria.org
SUMMARY:Cerca de tu casa - Málaga
DESCRIPTION:
URL:https://colorcomunitaria.org/evento/cerca-de-tu-casa-edicion-malaga/2027-10-09/
END:VEVENT
BEGIN:VEVENT
DTSTART;TZID=Europe/Madrid:20271009T130000
DTEND;TZID=Europe/Madrid:20271009T140000
DTSTAMP:20260420T232111
CREATED:20250216T175015Z
LAST-MODIFIED:20250216T175015Z
UID:10028991-1823086800-1823090400@colorcomunitaria.org
SUMMARY:Entre letras (R)
DESCRIPTION:
URL:https://colorcomunitaria.org/evento/entre-letras-r/2027-10-09/
END:VEVENT
BEGIN:VEVENT
DTSTART;TZID=Europe/Madrid:20271009T140000
DTEND;TZID=Europe/Madrid:20271009T150000
DTSTAMP:20260420T232111
CREATED:20250216T172205Z
LAST-MODIFIED:20250216T172205Z
UID:10014538-1823090400-1823094000@colorcomunitaria.org
SUMMARY:La Reverse Podcast
DESCRIPTION:
URL:https://colorcomunitaria.org/evento/la-reverse-podcast/2027-10-09/
END:VEVENT
BEGIN:VEVENT
DTSTART;TZID=Europe/Madrid:20271009T170000
DTEND;TZID=Europe/Madrid:20271009T180000
DTSTAMP:20260420T232111
CREATED:20250216T175931Z
LAST-MODIFIED:20250216T175931Z
UID:10031350-1823101200-1823104800@colorcomunitaria.org
SUMMARY:La voz de los sin voz (R)
DESCRIPTION:
URL:https://colorcomunitaria.org/evento/la-voz-de-los-sin-voz-r/2027-10-09/
END:VEVENT
BEGIN:VEVENT
DTSTART;TZID=Europe/Madrid:20271009T220000
DTEND;TZID=Europe/Madrid:20271009T230000
DTSTAMP:20260420T232111
CREATED:20250216T182312Z
LAST-MODIFIED:20250216T182431Z
UID:10038441-1823119200-1823122800@colorcomunitaria.org
SUMMARY:Emociones con esencia (R)
DESCRIPTION:
URL:https://colorcomunitaria.org/evento/emociones-con-esencia-r/2027-10-09/
END:VEVENT
END:VCALENDAR