BEGIN:VCALENDAR
VERSION:2.0
PRODID:-//Color comunitaria - ECPv6.9.1//NONSGML v1.0//EN
CALSCALE:GREGORIAN
METHOD:PUBLISH
X-WR-CALNAME:Color comunitaria
X-ORIGINAL-URL:https://colorcomunitaria.org
X-WR-CALDESC:Eventos para Color comunitaria
REFRESH-INTERVAL;VALUE=DURATION:PT1H
X-Robots-Tag:noindex
X-PUBLISHED-TTL:PT1H
BEGIN:VTIMEZONE
TZID:Europe/Madrid
BEGIN:DAYLIGHT
TZOFFSETFROM:+0100
TZOFFSETTO:+0200
TZNAME:CEST
DTSTART:20270328T010000
END:DAYLIGHT
BEGIN:STANDARD
TZOFFSETFROM:+0200
TZOFFSETTO:+0100
TZNAME:CET
DTSTART:20271031T010000
END:STANDARD
END:VTIMEZONE
BEGIN:VEVENT
DTSTART;TZID=Europe/Madrid:20271016T010000
DTEND;TZID=Europe/Madrid:20271016T020000
DTSTAMP:20260421T010637
CREATED:20250216T180735Z
LAST-MODIFIED:20250216T180735Z
UID:10032663-1823648400-1823652000@colorcomunitaria.org
SUMMARY:Elektrodance (R)
DESCRIPTION:
URL:https://colorcomunitaria.org/evento/elektrodance-r/2027-10-16/
END:VEVENT
BEGIN:VEVENT
DTSTART;TZID=Europe/Madrid:20271016T020000
DTEND;TZID=Europe/Madrid:20271016T040000
DTSTAMP:20260421T010637
CREATED:20250216T180923Z
LAST-MODIFIED:20250216T181107Z
UID:10033764-1823652000-1823659200@colorcomunitaria.org
SUMMARY:Radioteatros Bicicleta Atómica y Audiodrama Colectivo
DESCRIPTION:
URL:https://colorcomunitaria.org/evento/radioteatros-bicicleta-atomica-y-audiodrama-colectivo/2027-10-16/
END:VEVENT
BEGIN:VEVENT
DTSTART;TZID=Europe/Madrid:20271016T080000
DTEND;TZID=Europe/Madrid:20271016T090000
DTSTAMP:20260421T010637
CREATED:20250216T180646Z
LAST-MODIFIED:20250216T180646Z
UID:10032139-1823673600-1823677200@colorcomunitaria.org
SUMMARY:Palma y Romeros (R)
DESCRIPTION:
URL:https://colorcomunitaria.org/evento/palma-y-romeros-r/2027-10-16/
END:VEVENT
BEGIN:VEVENT
DTSTART;TZID=Europe/Madrid:20271016T103500
DTEND;TZID=Europe/Madrid:20271016T104500
DTSTAMP:20260421T010637
CREATED:20250216T172831Z
LAST-MODIFIED:20250216T173153Z
UID:10015763-1823682900-1823683500@colorcomunitaria.org
SUMMARY:Cerca de tu casa - Málaga
DESCRIPTION:
URL:https://colorcomunitaria.org/evento/cerca-de-tu-casa-edicion-malaga/2027-10-16/
END:VEVENT
BEGIN:VEVENT
DTSTART;TZID=Europe/Madrid:20271016T130000
DTEND;TZID=Europe/Madrid:20271016T140000
DTSTAMP:20260421T010637
CREATED:20250216T175015Z
LAST-MODIFIED:20250216T175015Z
UID:10028992-1823691600-1823695200@colorcomunitaria.org
SUMMARY:Entre letras (R)
DESCRIPTION:
URL:https://colorcomunitaria.org/evento/entre-letras-r/2027-10-16/
END:VEVENT
BEGIN:VEVENT
DTSTART;TZID=Europe/Madrid:20271016T140000
DTEND;TZID=Europe/Madrid:20271016T150000
DTSTAMP:20260421T010637
CREATED:20250216T172205Z
LAST-MODIFIED:20250216T172205Z
UID:10014539-1823695200-1823698800@colorcomunitaria.org
SUMMARY:La Reverse Podcast
DESCRIPTION:
URL:https://colorcomunitaria.org/evento/la-reverse-podcast/2027-10-16/
END:VEVENT
BEGIN:VEVENT
DTSTART;TZID=Europe/Madrid:20271016T170000
DTEND;TZID=Europe/Madrid:20271016T180000
DTSTAMP:20260421T010637
CREATED:20250216T175931Z
LAST-MODIFIED:20250216T175931Z
UID:10031351-1823706000-1823709600@colorcomunitaria.org
SUMMARY:La voz de los sin voz (R)
DESCRIPTION:
URL:https://colorcomunitaria.org/evento/la-voz-de-los-sin-voz-r/2027-10-16/
END:VEVENT
END:VCALENDAR