BEGIN:VCALENDAR
VERSION:2.0
PRODID:-//Color comunitaria - ECPv6.9.1//NONSGML v1.0//EN
CALSCALE:GREGORIAN
METHOD:PUBLISH
X-WR-CALNAME:Color comunitaria
X-ORIGINAL-URL:https://colorcomunitaria.org
X-WR-CALDESC:Eventos para Color comunitaria
REFRESH-INTERVAL;VALUE=DURATION:PT1H
X-Robots-Tag:noindex
X-PUBLISHED-TTL:PT1H
BEGIN:VTIMEZONE
TZID:Europe/Madrid
BEGIN:DAYLIGHT
TZOFFSETFROM:+0100
TZOFFSETTO:+0200
TZNAME:CEST
DTSTART:20270328T010000
END:DAYLIGHT
BEGIN:STANDARD
TZOFFSETFROM:+0200
TZOFFSETTO:+0100
TZNAME:CET
DTSTART:20271031T010000
END:STANDARD
END:VTIMEZONE
BEGIN:VEVENT
DTSTART;TZID=Europe/Madrid:20271104T010000
DTEND;TZID=Europe/Madrid:20271104T020000
DTSTAMP:20260421T070708
CREATED:20250216T173544Z
LAST-MODIFIED:20250216T173632Z
UID:10022307-1825290000-1825293600@colorcomunitaria.org
SUMMARY:Informativo De este a Oeste (OLA) (R)
DESCRIPTION:
URL:https://colorcomunitaria.org/evento/informativo-de-este-a-oeste-ola-r/2027-11-04/
END:VEVENT
BEGIN:VEVENT
DTSTART;TZID=Europe/Madrid:20271104T020000
DTEND;TZID=Europe/Madrid:20271104T040000
DTSTAMP:20260421T070708
CREATED:20250216T180923Z
LAST-MODIFIED:20250216T181107Z
UID:10033783-1825293600-1825300800@colorcomunitaria.org
SUMMARY:Radioteatros Bicicleta Atómica y Audiodrama Colectivo
DESCRIPTION:
URL:https://colorcomunitaria.org/evento/radioteatros-bicicleta-atomica-y-audiodrama-colectivo/2027-11-04/
END:VEVENT
BEGIN:VEVENT
DTSTART;TZID=Europe/Madrid:20271104T083000
DTEND;TZID=Europe/Madrid:20271104T100000
DTSTAMP:20260421T070708
CREATED:20250214T170834Z
LAST-MODIFIED:20250214T170906Z
UID:10011437-1825317000-1825322400@colorcomunitaria.org
SUMMARY:Informativo De este a Oeste (OLA)
DESCRIPTION:
URL:https://colorcomunitaria.org/evento/informativo-de-este-a-oeste-ola/2027-11-04/
END:VEVENT
BEGIN:VEVENT
DTSTART;TZID=Europe/Madrid:20271104T100000
DTEND;TZID=Europe/Madrid:20271104T100500
DTSTAMP:20260421T070708
CREATED:20250214T171100Z
LAST-MODIFIED:20250214T171102Z
UID:10012750-1825322400-1825322700@colorcomunitaria.org
SUMMARY:Boletín informativo OLA
DESCRIPTION:
URL:https://colorcomunitaria.org/evento/boletin-informativo-ola-2/2027-11-04/
END:VEVENT
BEGIN:VEVENT
DTSTART;TZID=Europe/Madrid:20271104T100500
DTEND;TZID=Europe/Madrid:20271104T103500
DTSTAMP:20260421T070708
CREATED:20250121T155655Z
LAST-MODIFIED:20250214T162406Z
UID:10008562-1825322700-1825324500@colorcomunitaria.org
SUMMARY:Cerca de tu casa
DESCRIPTION:Magacín sobre lo que pasa en Palma Palmilla. Colabora Junta de Distrito 5 Palma Palmilla del Ayuntamiento  de Málaga.
URL:https://colorcomunitaria.org/evento/cerca-de-tu-casa/2027-11-04/
CATEGORIES:Palma Palmilla
ATTACH;FMTTYPE=image/jpeg:https://colorcomunitaria.org/wp-content/uploads/2025/01/imagen-loco-cdtc-cerca-de-tu-casa-grande-e1737380447434.jpg
END:VEVENT
BEGIN:VEVENT
DTSTART;TZID=Europe/Madrid:20271104T100500
DTEND;TZID=Europe/Madrid:20271104T110000
DTSTAMP:20260421T070708
CREATED:20250216T175710Z
LAST-MODIFIED:20250216T175728Z
UID:10030830-1825322700-1825326000@colorcomunitaria.org
SUMMARY:Puentes (R)
DESCRIPTION:
URL:https://colorcomunitaria.org/evento/puentes-r/2027-11-04/
END:VEVENT
BEGIN:VEVENT
DTSTART;TZID=Europe/Madrid:20271104T103500
DTEND;TZID=Europe/Madrid:20271104T104500
DTSTAMP:20260421T070708
CREATED:20250216T172831Z
LAST-MODIFIED:20250216T173153Z
UID:10015779-1825324500-1825325100@colorcomunitaria.org
SUMMARY:Cerca de tu casa - Málaga
DESCRIPTION:
URL:https://colorcomunitaria.org/evento/cerca-de-tu-casa-edicion-malaga/2027-11-04/
END:VEVENT
BEGIN:VEVENT
DTSTART;TZID=Europe/Madrid:20271104T110500
DTEND;TZID=Europe/Madrid:20271104T113500
DTSTAMP:20260421T070708
CREATED:20250216T172357Z
LAST-MODIFIED:20250216T172357Z
UID:10014804-1825326300-1825328100@colorcomunitaria.org
SUMMARY:¿Quién vive?
DESCRIPTION:
URL:https://colorcomunitaria.org/evento/quien-vive/2027-11-04/
END:VEVENT
BEGIN:VEVENT
DTSTART;TZID=Europe/Madrid:20271104T130000
DTEND;TZID=Europe/Madrid:20271104T133000
DTSTAMP:20260421T070708
CREATED:20250216T173355Z
LAST-MODIFIED:20250216T173355Z
UID:10018115-1825333200-1825335000@colorcomunitaria.org
SUMMARY:Informativo De este a Oeste (OLA)
DESCRIPTION:
URL:https://colorcomunitaria.org/evento/informativo-de-este-a-oeste-ola-2/2027-11-04/
END:VEVENT
BEGIN:VEVENT
DTSTART;TZID=Europe/Madrid:20271104T160000
DTEND;TZID=Europe/Madrid:20271104T163000
DTSTAMP:20260421T070708
CREATED:20250216T173851Z
LAST-MODIFIED:20250216T173851Z
UID:10024837-1825344000-1825345800@colorcomunitaria.org
SUMMARY:Cerca de tu casa (R)
DESCRIPTION:Magacín sobre lo que pasa en Palma Palmilla. Colabora Junta de Distrito 5 Palma Palmilla del Ayuntamiento  de Málaga.
URL:https://colorcomunitaria.org/evento/cerca-de-tu-casa-r/2027-11-04/
CATEGORIES:Palma Palmilla
ATTACH;FMTTYPE=image/jpeg:https://colorcomunitaria.org/wp-content/uploads/2025/01/imagen-loco-cdtc-cerca-de-tu-casa-grande-e1737380447434.jpg
END:VEVENT
BEGIN:VEVENT
DTSTART;TZID=Europe/Madrid:20271104T163000
DTEND;TZID=Europe/Madrid:20271104T170000
DTSTAMP:20260421T070708
CREATED:20250216T174046Z
LAST-MODIFIED:20250216T174046Z
UID:10027472-1825345800-1825347600@colorcomunitaria.org
SUMMARY:Aprender con onda
DESCRIPTION:
URL:https://colorcomunitaria.org/evento/aprender-con-onda/2027-11-04/
END:VEVENT
BEGIN:VEVENT
DTSTART;TZID=Europe/Madrid:20271104T190000
DTEND;TZID=Europe/Madrid:20271104T200000
DTSTAMP:20260421T070708
CREATED:20250216T173505Z
LAST-MODIFIED:20250216T173505Z
UID:10020211-1825354800-1825358400@colorcomunitaria.org
SUMMARY:Informativo De este a Oeste (OLA)
DESCRIPTION:
URL:https://colorcomunitaria.org/evento/informativo-de-este-a-oeste-ola-3/2027-11-04/
END:VEVENT
BEGIN:VEVENT
DTSTART;TZID=Europe/Madrid:20271104T220000
DTEND;TZID=Europe/Madrid:20271104T223000
DTSTAMP:20260421T070708
CREATED:20250216T175357Z
LAST-MODIFIED:20250216T175357Z
UID:10030043-1825365600-1825367400@colorcomunitaria.org
SUMMARY:¿Quién vive? (R)
DESCRIPTION:
URL:https://colorcomunitaria.org/evento/quien-vive-r/2027-11-04/
END:VEVENT
END:VCALENDAR