BEGIN:VCALENDAR
VERSION:2.0
PRODID:-//Color comunitaria - ECPv6.9.1//NONSGML v1.0//EN
CALSCALE:GREGORIAN
METHOD:PUBLISH
X-WR-CALNAME:Color comunitaria
X-ORIGINAL-URL:https://colorcomunitaria.org
X-WR-CALDESC:Eventos para Color comunitaria
REFRESH-INTERVAL;VALUE=DURATION:PT1H
X-Robots-Tag:noindex
X-PUBLISHED-TTL:PT1H
BEGIN:VTIMEZONE
TZID:Europe/Madrid
BEGIN:DAYLIGHT
TZOFFSETFROM:+0100
TZOFFSETTO:+0200
TZNAME:CEST
DTSTART:20270328T010000
END:DAYLIGHT
BEGIN:STANDARD
TZOFFSETFROM:+0200
TZOFFSETTO:+0100
TZNAME:CET
DTSTART:20271031T010000
END:STANDARD
END:VTIMEZONE
BEGIN:VEVENT
DTSTART;TZID=Europe/Madrid:20271106T010000
DTEND;TZID=Europe/Madrid:20271106T020000
DTSTAMP:20260421T070549
CREATED:20250216T180735Z
LAST-MODIFIED:20250216T180735Z
UID:10032666-1825462800-1825466400@colorcomunitaria.org
SUMMARY:Elektrodance (R)
DESCRIPTION:
URL:https://colorcomunitaria.org/evento/elektrodance-r/2027-11-06/
END:VEVENT
BEGIN:VEVENT
DTSTART;TZID=Europe/Madrid:20271106T020000
DTEND;TZID=Europe/Madrid:20271106T040000
DTSTAMP:20260421T070549
CREATED:20250216T180923Z
LAST-MODIFIED:20250216T181107Z
UID:10033785-1825466400-1825473600@colorcomunitaria.org
SUMMARY:Radioteatros Bicicleta Atómica y Audiodrama Colectivo
DESCRIPTION:
URL:https://colorcomunitaria.org/evento/radioteatros-bicicleta-atomica-y-audiodrama-colectivo/2027-11-06/
END:VEVENT
BEGIN:VEVENT
DTSTART;TZID=Europe/Madrid:20271106T080000
DTEND;TZID=Europe/Madrid:20271106T090000
DTSTAMP:20260421T070549
CREATED:20250216T180646Z
LAST-MODIFIED:20250216T180646Z
UID:10032142-1825488000-1825491600@colorcomunitaria.org
SUMMARY:Palma y Romeros (R)
DESCRIPTION:
URL:https://colorcomunitaria.org/evento/palma-y-romeros-r/2027-11-06/
END:VEVENT
BEGIN:VEVENT
DTSTART;TZID=Europe/Madrid:20271106T103500
DTEND;TZID=Europe/Madrid:20271106T104500
DTSTAMP:20260421T070549
CREATED:20250216T172831Z
LAST-MODIFIED:20250216T173153Z
UID:10015781-1825497300-1825497900@colorcomunitaria.org
SUMMARY:Cerca de tu casa - Málaga
DESCRIPTION:
URL:https://colorcomunitaria.org/evento/cerca-de-tu-casa-edicion-malaga/2027-11-06/
END:VEVENT
BEGIN:VEVENT
DTSTART;TZID=Europe/Madrid:20271106T130000
DTEND;TZID=Europe/Madrid:20271106T140000
DTSTAMP:20260421T070549
CREATED:20250216T175015Z
LAST-MODIFIED:20250216T175015Z
UID:10028995-1825506000-1825509600@colorcomunitaria.org
SUMMARY:Entre letras (R)
DESCRIPTION:
URL:https://colorcomunitaria.org/evento/entre-letras-r/2027-11-06/
END:VEVENT
BEGIN:VEVENT
DTSTART;TZID=Europe/Madrid:20271106T140000
DTEND;TZID=Europe/Madrid:20271106T150000
DTSTAMP:20260421T070549
CREATED:20250216T172205Z
LAST-MODIFIED:20250216T172205Z
UID:10014542-1825509600-1825513200@colorcomunitaria.org
SUMMARY:La Reverse Podcast
DESCRIPTION:
URL:https://colorcomunitaria.org/evento/la-reverse-podcast/2027-11-06/
END:VEVENT
BEGIN:VEVENT
DTSTART;TZID=Europe/Madrid:20271106T170000
DTEND;TZID=Europe/Madrid:20271106T180000
DTSTAMP:20260421T070549
CREATED:20250216T175931Z
LAST-MODIFIED:20250216T175931Z
UID:10031354-1825520400-1825524000@colorcomunitaria.org
SUMMARY:La voz de los sin voz (R)
DESCRIPTION:
URL:https://colorcomunitaria.org/evento/la-voz-de-los-sin-voz-r/2027-11-06/
END:VEVENT
BEGIN:VEVENT
DTSTART;TZID=Europe/Madrid:20271106T220000
DTEND;TZID=Europe/Madrid:20271106T230000
DTSTAMP:20260421T070549
CREATED:20250216T182312Z
LAST-MODIFIED:20250216T182431Z
UID:10038442-1825538400-1825542000@colorcomunitaria.org
SUMMARY:Emociones con esencia (R)
DESCRIPTION:
URL:https://colorcomunitaria.org/evento/emociones-con-esencia-r/2027-11-06/
END:VEVENT
END:VCALENDAR