BEGIN:VCALENDAR
VERSION:2.0
PRODID:-//Color comunitaria - ECPv6.9.1//NONSGML v1.0//EN
CALSCALE:GREGORIAN
METHOD:PUBLISH
X-WR-CALNAME:Color comunitaria
X-ORIGINAL-URL:https://colorcomunitaria.org
X-WR-CALDESC:Eventos para Color comunitaria
REFRESH-INTERVAL;VALUE=DURATION:PT1H
X-Robots-Tag:noindex
X-PUBLISHED-TTL:PT1H
BEGIN:VTIMEZONE
TZID:Europe/Madrid
BEGIN:DAYLIGHT
TZOFFSETFROM:+0100
TZOFFSETTO:+0200
TZNAME:CEST
DTSTART:20270328T010000
END:DAYLIGHT
BEGIN:STANDARD
TZOFFSETFROM:+0200
TZOFFSETTO:+0100
TZNAME:CET
DTSTART:20271031T010000
END:STANDARD
END:VTIMEZONE
BEGIN:VEVENT
DTSTART;TZID=Europe/Madrid:20271110T000000
DTEND;TZID=Europe/Madrid:20271110T010000
DTSTAMP:20260421T090511
CREATED:20250216T175230Z
LAST-MODIFIED:20250216T175230Z
UID:10029520-1825804800-1825808400@colorcomunitaria.org
SUMMARY:Málaga Cultura Viva (R)
DESCRIPTION:
URL:https://colorcomunitaria.org/evento/malaga-cultura-viva-r/2027-11-10/
END:VEVENT
BEGIN:VEVENT
DTSTART;TZID=Europe/Madrid:20271110T010000
DTEND;TZID=Europe/Madrid:20271110T020000
DTSTAMP:20260421T090511
CREATED:20250216T173544Z
LAST-MODIFIED:20250216T173632Z
UID:10022310-1825808400-1825812000@colorcomunitaria.org
SUMMARY:Informativo De este a Oeste (OLA) (R)
DESCRIPTION:
URL:https://colorcomunitaria.org/evento/informativo-de-este-a-oeste-ola-r/2027-11-10/
END:VEVENT
BEGIN:VEVENT
DTSTART;TZID=Europe/Madrid:20271110T020000
DTEND;TZID=Europe/Madrid:20271110T040000
DTSTAMP:20260421T090511
CREATED:20250216T180923Z
LAST-MODIFIED:20250216T181107Z
UID:10033789-1825812000-1825819200@colorcomunitaria.org
SUMMARY:Radioteatros Bicicleta Atómica y Audiodrama Colectivo
DESCRIPTION:
URL:https://colorcomunitaria.org/evento/radioteatros-bicicleta-atomica-y-audiodrama-colectivo/2027-11-10/
END:VEVENT
BEGIN:VEVENT
DTSTART;TZID=Europe/Madrid:20271110T083000
DTEND;TZID=Europe/Madrid:20271110T100000
DTSTAMP:20260421T090511
CREATED:20250214T170834Z
LAST-MODIFIED:20250214T170906Z
UID:10011441-1825835400-1825840800@colorcomunitaria.org
SUMMARY:Informativo De este a Oeste (OLA)
DESCRIPTION:
URL:https://colorcomunitaria.org/evento/informativo-de-este-a-oeste-ola/2027-11-10/
END:VEVENT
BEGIN:VEVENT
DTSTART;TZID=Europe/Madrid:20271110T100000
DTEND;TZID=Europe/Madrid:20271110T100500
DTSTAMP:20260421T090511
CREATED:20250214T171100Z
LAST-MODIFIED:20250214T171102Z
UID:10012754-1825840800-1825841100@colorcomunitaria.org
SUMMARY:Boletín informativo OLA
DESCRIPTION:
URL:https://colorcomunitaria.org/evento/boletin-informativo-ola-2/2027-11-10/
END:VEVENT
BEGIN:VEVENT
DTSTART;TZID=Europe/Madrid:20271110T100500
DTEND;TZID=Europe/Madrid:20271110T103500
DTSTAMP:20260421T090511
CREATED:20250121T155655Z
LAST-MODIFIED:20250214T162406Z
UID:10008566-1825841100-1825842900@colorcomunitaria.org
SUMMARY:Cerca de tu casa
DESCRIPTION:Magacín sobre lo que pasa en Palma Palmilla. Colabora Junta de Distrito 5 Palma Palmilla del Ayuntamiento  de Málaga.
URL:https://colorcomunitaria.org/evento/cerca-de-tu-casa/2027-11-10/
CATEGORIES:Palma Palmilla
ATTACH;FMTTYPE=image/jpeg:https://colorcomunitaria.org/wp-content/uploads/2025/01/imagen-loco-cdtc-cerca-de-tu-casa-grande-e1737380447434.jpg
END:VEVENT
BEGIN:VEVENT
DTSTART;TZID=Europe/Madrid:20271110T103500
DTEND;TZID=Europe/Madrid:20271110T104500
DTSTAMP:20260421T090511
CREATED:20250216T172831Z
LAST-MODIFIED:20250216T173153Z
UID:10015784-1825842900-1825843500@colorcomunitaria.org
SUMMARY:Cerca de tu casa - Málaga
DESCRIPTION:
URL:https://colorcomunitaria.org/evento/cerca-de-tu-casa-edicion-malaga/2027-11-10/
END:VEVENT
BEGIN:VEVENT
DTSTART;TZID=Europe/Madrid:20271110T120500
DTEND;TZID=Europe/Madrid:20271110T130000
DTSTAMP:20260421T090511
CREATED:20250214T170722Z
LAST-MODIFIED:20250214T170722Z
UID:10010609-1825848300-1825851600@colorcomunitaria.org
SUMMARY:Entre letras
DESCRIPTION:
URL:https://colorcomunitaria.org/evento/entre-letras/2027-11-10/
END:VEVENT
BEGIN:VEVENT
DTSTART;TZID=Europe/Madrid:20271110T130000
DTEND;TZID=Europe/Madrid:20271110T133000
DTSTAMP:20260421T090511
CREATED:20250216T173355Z
LAST-MODIFIED:20250216T173355Z
UID:10018118-1825851600-1825853400@colorcomunitaria.org
SUMMARY:Informativo De este a Oeste (OLA)
DESCRIPTION:
URL:https://colorcomunitaria.org/evento/informativo-de-este-a-oeste-ola-2/2027-11-10/
END:VEVENT
BEGIN:VEVENT
DTSTART;TZID=Europe/Madrid:20271110T140000
DTEND;TZID=Europe/Madrid:20271110T150000
DTSTAMP:20260421T090511
CREATED:20250214T171611Z
LAST-MODIFIED:20250214T171611Z
UID:10013494-1825855200-1825858800@colorcomunitaria.org
SUMMARY:Málaga Cultura Viva
DESCRIPTION:
URL:https://colorcomunitaria.org/evento/malaga-cultura-viva/2027-11-10/
END:VEVENT
BEGIN:VEVENT
DTSTART;TZID=Europe/Madrid:20271110T160000
DTEND;TZID=Europe/Madrid:20271110T163000
DTSTAMP:20260421T090511
CREATED:20250216T173851Z
LAST-MODIFIED:20250216T173851Z
UID:10024841-1825862400-1825864200@colorcomunitaria.org
SUMMARY:Cerca de tu casa (R)
DESCRIPTION:Magacín sobre lo que pasa en Palma Palmilla. Colabora Junta de Distrito 5 Palma Palmilla del Ayuntamiento  de Málaga.
URL:https://colorcomunitaria.org/evento/cerca-de-tu-casa-r/2027-11-10/
CATEGORIES:Palma Palmilla
ATTACH;FMTTYPE=image/jpeg:https://colorcomunitaria.org/wp-content/uploads/2025/01/imagen-loco-cdtc-cerca-de-tu-casa-grande-e1737380447434.jpg
END:VEVENT
BEGIN:VEVENT
DTSTART;TZID=Europe/Madrid:20271110T163000
DTEND;TZID=Europe/Madrid:20271110T170000
DTSTAMP:20260421T090511
CREATED:20250216T174046Z
LAST-MODIFIED:20250216T174046Z
UID:10027476-1825864200-1825866000@colorcomunitaria.org
SUMMARY:Aprender con onda
DESCRIPTION:
URL:https://colorcomunitaria.org/evento/aprender-con-onda/2027-11-10/
END:VEVENT
BEGIN:VEVENT
DTSTART;TZID=Europe/Madrid:20271110T190000
DTEND;TZID=Europe/Madrid:20271110T200000
DTSTAMP:20260421T090511
CREATED:20250216T173505Z
LAST-MODIFIED:20250216T173505Z
UID:10020214-1825873200-1825876800@colorcomunitaria.org
SUMMARY:Informativo De este a Oeste (OLA)
DESCRIPTION:
URL:https://colorcomunitaria.org/evento/informativo-de-este-a-oeste-ola-3/2027-11-10/
END:VEVENT
BEGIN:VEVENT
DTSTART;TZID=Europe/Madrid:20271110T200500
DTEND;TZID=Europe/Madrid:20271110T210000
DTSTAMP:20260421T090511
CREATED:20250216T180559Z
LAST-MODIFIED:20250216T180559Z
UID:10031619-1825877100-1825880400@colorcomunitaria.org
SUMMARY:Palma y Romeros
DESCRIPTION:
URL:https://colorcomunitaria.org/evento/palma-y-romeros/2027-11-10/
END:VEVENT
BEGIN:VEVENT
DTSTART;TZID=Europe/Madrid:20271110T220000
DTEND;TZID=Europe/Madrid:20271110T230000
DTSTAMP:20260421T090511
CREATED:20250216T174426Z
LAST-MODIFIED:20250216T174426Z
UID:10028472-1825884000-1825887600@colorcomunitaria.org
SUMMARY:Con otra mirada (R)
DESCRIPTION:
URL:https://colorcomunitaria.org/evento/con-otra-mirada-r/2027-11-10/
END:VEVENT
END:VCALENDAR