BEGIN:VCALENDAR
VERSION:2.0
PRODID:-//Color comunitaria - ECPv6.9.1//NONSGML v1.0//EN
CALSCALE:GREGORIAN
METHOD:PUBLISH
X-WR-CALNAME:Color comunitaria
X-ORIGINAL-URL:https://colorcomunitaria.org
X-WR-CALDESC:Eventos para Color comunitaria
REFRESH-INTERVAL;VALUE=DURATION:PT1H
X-Robots-Tag:noindex
X-PUBLISHED-TTL:PT1H
BEGIN:VTIMEZONE
TZID:Europe/Madrid
BEGIN:DAYLIGHT
TZOFFSETFROM:+0100
TZOFFSETTO:+0200
TZNAME:CEST
DTSTART:20270328T010000
END:DAYLIGHT
BEGIN:STANDARD
TZOFFSETFROM:+0200
TZOFFSETTO:+0100
TZNAME:CET
DTSTART:20271031T010000
END:STANDARD
END:VTIMEZONE
BEGIN:VEVENT
DTSTART;TZID=Europe/Madrid:20271113T010000
DTEND;TZID=Europe/Madrid:20271113T020000
DTSTAMP:20260421T090207
CREATED:20250216T180735Z
LAST-MODIFIED:20250216T180735Z
UID:10032667-1826067600-1826071200@colorcomunitaria.org
SUMMARY:Elektrodance (R)
DESCRIPTION:
URL:https://colorcomunitaria.org/evento/elektrodance-r/2027-11-13/
END:VEVENT
BEGIN:VEVENT
DTSTART;TZID=Europe/Madrid:20271113T020000
DTEND;TZID=Europe/Madrid:20271113T040000
DTSTAMP:20260421T090207
CREATED:20250216T180923Z
LAST-MODIFIED:20250216T181107Z
UID:10033792-1826071200-1826078400@colorcomunitaria.org
SUMMARY:Radioteatros Bicicleta Atómica y Audiodrama Colectivo
DESCRIPTION:
URL:https://colorcomunitaria.org/evento/radioteatros-bicicleta-atomica-y-audiodrama-colectivo/2027-11-13/
END:VEVENT
BEGIN:VEVENT
DTSTART;TZID=Europe/Madrid:20271113T080000
DTEND;TZID=Europe/Madrid:20271113T090000
DTSTAMP:20260421T090207
CREATED:20250216T180646Z
LAST-MODIFIED:20250216T180646Z
UID:10032143-1826092800-1826096400@colorcomunitaria.org
SUMMARY:Palma y Romeros (R)
DESCRIPTION:
URL:https://colorcomunitaria.org/evento/palma-y-romeros-r/2027-11-13/
END:VEVENT
BEGIN:VEVENT
DTSTART;TZID=Europe/Madrid:20271113T103500
DTEND;TZID=Europe/Madrid:20271113T104500
DTSTAMP:20260421T090207
CREATED:20250216T172831Z
LAST-MODIFIED:20250216T173153Z
UID:10015787-1826102100-1826102700@colorcomunitaria.org
SUMMARY:Cerca de tu casa - Málaga
DESCRIPTION:
URL:https://colorcomunitaria.org/evento/cerca-de-tu-casa-edicion-malaga/2027-11-13/
END:VEVENT
BEGIN:VEVENT
DTSTART;TZID=Europe/Madrid:20271113T130000
DTEND;TZID=Europe/Madrid:20271113T140000
DTSTAMP:20260421T090207
CREATED:20250216T175015Z
LAST-MODIFIED:20250216T175015Z
UID:10028996-1826110800-1826114400@colorcomunitaria.org
SUMMARY:Entre letras (R)
DESCRIPTION:
URL:https://colorcomunitaria.org/evento/entre-letras-r/2027-11-13/
END:VEVENT
BEGIN:VEVENT
DTSTART;TZID=Europe/Madrid:20271113T140000
DTEND;TZID=Europe/Madrid:20271113T150000
DTSTAMP:20260421T090207
CREATED:20250216T172205Z
LAST-MODIFIED:20250216T172205Z
UID:10014543-1826114400-1826118000@colorcomunitaria.org
SUMMARY:La Reverse Podcast
DESCRIPTION:
URL:https://colorcomunitaria.org/evento/la-reverse-podcast/2027-11-13/
END:VEVENT
BEGIN:VEVENT
DTSTART;TZID=Europe/Madrid:20271113T170000
DTEND;TZID=Europe/Madrid:20271113T180000
DTSTAMP:20260421T090207
CREATED:20250216T175931Z
LAST-MODIFIED:20250216T175931Z
UID:10031355-1826125200-1826128800@colorcomunitaria.org
SUMMARY:La voz de los sin voz (R)
DESCRIPTION:
URL:https://colorcomunitaria.org/evento/la-voz-de-los-sin-voz-r/2027-11-13/
END:VEVENT
END:VCALENDAR