BEGIN:VCALENDAR
VERSION:2.0
PRODID:-//Color comunitaria - ECPv6.9.1//NONSGML v1.0//EN
CALSCALE:GREGORIAN
METHOD:PUBLISH
X-WR-CALNAME:Color comunitaria
X-ORIGINAL-URL:https://colorcomunitaria.org
X-WR-CALDESC:Eventos para Color comunitaria
REFRESH-INTERVAL;VALUE=DURATION:PT1H
X-Robots-Tag:noindex
X-PUBLISHED-TTL:PT1H
BEGIN:VTIMEZONE
TZID:Europe/Madrid
BEGIN:DAYLIGHT
TZOFFSETFROM:+0100
TZOFFSETTO:+0200
TZNAME:CEST
DTSTART:20280326T010000
END:DAYLIGHT
BEGIN:STANDARD
TZOFFSETFROM:+0200
TZOFFSETTO:+0100
TZNAME:CET
DTSTART:20281029T010000
END:STANDARD
END:VTIMEZONE
BEGIN:VEVENT
DTSTART;TZID=Europe/Madrid:20280107T020000
DTEND;TZID=Europe/Madrid:20280107T040000
DTSTAMP:20260422T014255
CREATED:20250216T180923Z
LAST-MODIFIED:20250216T181107Z
UID:10033847-1830823200-1830830400@colorcomunitaria.org
SUMMARY:Radioteatros Bicicleta Atómica y Audiodrama Colectivo
DESCRIPTION:
URL:https://colorcomunitaria.org/evento/radioteatros-bicicleta-atomica-y-audiodrama-colectivo/2028-01-07/
END:VEVENT
BEGIN:VEVENT
DTSTART;TZID=Europe/Madrid:20280107T100000
DTEND;TZID=Europe/Madrid:20280107T100500
DTSTAMP:20260422T014255
CREATED:20250214T171100Z
LAST-MODIFIED:20250214T171102Z
UID:10012796-1830852000-1830852300@colorcomunitaria.org
SUMMARY:Boletín informativo OLA
DESCRIPTION:
URL:https://colorcomunitaria.org/evento/boletin-informativo-ola-2/2028-01-07/
END:VEVENT
BEGIN:VEVENT
DTSTART;TZID=Europe/Madrid:20280107T100500
DTEND;TZID=Europe/Madrid:20280107T103500
DTSTAMP:20260422T014255
CREATED:20250121T155655Z
LAST-MODIFIED:20250214T162406Z
UID:10008608-1830852300-1830854100@colorcomunitaria.org
SUMMARY:Cerca de tu casa
DESCRIPTION:Magacín sobre lo que pasa en Palma Palmilla. Colabora Junta de Distrito 5 Palma Palmilla del Ayuntamiento  de Málaga.
URL:https://colorcomunitaria.org/evento/cerca-de-tu-casa/2028-01-07/
CATEGORIES:Palma Palmilla
ATTACH;FMTTYPE=image/jpeg:https://colorcomunitaria.org/wp-content/uploads/2025/01/imagen-loco-cdtc-cerca-de-tu-casa-grande-e1737380447434.jpg
END:VEVENT
BEGIN:VEVENT
DTSTART;TZID=Europe/Madrid:20280107T103500
DTEND;TZID=Europe/Madrid:20280107T104500
DTSTAMP:20260422T014255
CREATED:20250216T172831Z
LAST-MODIFIED:20250216T173153Z
UID:10015834-1830854100-1830854700@colorcomunitaria.org
SUMMARY:Cerca de tu casa - Málaga
DESCRIPTION:
URL:https://colorcomunitaria.org/evento/cerca-de-tu-casa-edicion-malaga/2028-01-07/
END:VEVENT
BEGIN:VEVENT
DTSTART;TZID=Europe/Madrid:20280107T160000
DTEND;TZID=Europe/Madrid:20280107T163000
DTSTAMP:20260422T014255
CREATED:20250216T173851Z
LAST-MODIFIED:20250216T173851Z
UID:10024883-1830873600-1830875400@colorcomunitaria.org
SUMMARY:Cerca de tu casa (R)
DESCRIPTION:Magacín sobre lo que pasa en Palma Palmilla. Colabora Junta de Distrito 5 Palma Palmilla del Ayuntamiento  de Málaga.
URL:https://colorcomunitaria.org/evento/cerca-de-tu-casa-r/2028-01-07/
CATEGORIES:Palma Palmilla
ATTACH;FMTTYPE=image/jpeg:https://colorcomunitaria.org/wp-content/uploads/2025/01/imagen-loco-cdtc-cerca-de-tu-casa-grande-e1737380447434.jpg
END:VEVENT
BEGIN:VEVENT
DTSTART;TZID=Europe/Madrid:20280107T163000
DTEND;TZID=Europe/Madrid:20280107T170000
DTSTAMP:20260422T014255
CREATED:20250216T174046Z
LAST-MODIFIED:20250216T174046Z
UID:10027518-1830875400-1830877200@colorcomunitaria.org
SUMMARY:Aprender con onda
DESCRIPTION:
URL:https://colorcomunitaria.org/evento/aprender-con-onda/2028-01-07/
END:VEVENT
BEGIN:VEVENT
DTSTART;TZID=Europe/Madrid:20280107T200000
DTEND;TZID=Europe/Madrid:20280107T210000
DTSTAMP:20260422T014255
CREATED:20250216T171850Z
LAST-MODIFIED:20250216T171850Z
UID:10014289-1830888000-1830891600@colorcomunitaria.org
SUMMARY:Elektrodance
DESCRIPTION:
URL:https://colorcomunitaria.org/evento/elektrodance/2028-01-07/
END:VEVENT
END:VCALENDAR