BEGIN:VCALENDAR
VERSION:2.0
PRODID:-//Color comunitaria - ECPv6.9.1//NONSGML v1.0//EN
CALSCALE:GREGORIAN
METHOD:PUBLISH
X-WR-CALNAME:Color comunitaria
X-ORIGINAL-URL:https://colorcomunitaria.org
X-WR-CALDESC:Eventos para Color comunitaria
REFRESH-INTERVAL;VALUE=DURATION:PT1H
X-Robots-Tag:noindex
X-PUBLISHED-TTL:PT1H
BEGIN:VTIMEZONE
TZID:Europe/Madrid
BEGIN:DAYLIGHT
TZOFFSETFROM:+0100
TZOFFSETTO:+0200
TZNAME:CEST
DTSTART:20280326T010000
END:DAYLIGHT
BEGIN:STANDARD
TZOFFSETFROM:+0200
TZOFFSETTO:+0100
TZNAME:CET
DTSTART:20281029T010000
END:STANDARD
END:VTIMEZONE
BEGIN:VEVENT
DTSTART;TZID=Europe/Madrid:20280126T000000
DTEND;TZID=Europe/Madrid:20280126T010000
DTSTAMP:20260422T073010
CREATED:20250216T175230Z
LAST-MODIFIED:20250216T175230Z
UID:10029531-1832457600-1832461200@colorcomunitaria.org
SUMMARY:Málaga Cultura Viva (R)
DESCRIPTION:
URL:https://colorcomunitaria.org/evento/malaga-cultura-viva-r/2028-01-26/
END:VEVENT
BEGIN:VEVENT
DTSTART;TZID=Europe/Madrid:20280126T010000
DTEND;TZID=Europe/Madrid:20280126T020000
DTSTAMP:20260422T073010
CREATED:20250216T173544Z
LAST-MODIFIED:20250216T173632Z
UID:10022354-1832461200-1832464800@colorcomunitaria.org
SUMMARY:Informativo De este a Oeste (OLA) (R)
DESCRIPTION:
URL:https://colorcomunitaria.org/evento/informativo-de-este-a-oeste-ola-r/2028-01-26/
END:VEVENT
BEGIN:VEVENT
DTSTART;TZID=Europe/Madrid:20280126T020000
DTEND;TZID=Europe/Madrid:20280126T040000
DTSTAMP:20260422T073010
CREATED:20250216T180923Z
LAST-MODIFIED:20250216T181107Z
UID:10033866-1832464800-1832472000@colorcomunitaria.org
SUMMARY:Radioteatros Bicicleta Atómica y Audiodrama Colectivo
DESCRIPTION:
URL:https://colorcomunitaria.org/evento/radioteatros-bicicleta-atomica-y-audiodrama-colectivo/2028-01-26/
END:VEVENT
BEGIN:VEVENT
DTSTART;TZID=Europe/Madrid:20280126T083000
DTEND;TZID=Europe/Madrid:20280126T100000
DTSTAMP:20260422T073010
CREATED:20250214T170834Z
LAST-MODIFIED:20250214T170906Z
UID:10011496-1832488200-1832493600@colorcomunitaria.org
SUMMARY:Informativo De este a Oeste (OLA)
DESCRIPTION:
URL:https://colorcomunitaria.org/evento/informativo-de-este-a-oeste-ola/2028-01-26/
END:VEVENT
BEGIN:VEVENT
DTSTART;TZID=Europe/Madrid:20280126T100000
DTEND;TZID=Europe/Madrid:20280126T100500
DTSTAMP:20260422T073010
CREATED:20250214T171100Z
LAST-MODIFIED:20250214T171102Z
UID:10012809-1832493600-1832493900@colorcomunitaria.org
SUMMARY:Boletín informativo OLA
DESCRIPTION:
URL:https://colorcomunitaria.org/evento/boletin-informativo-ola-2/2028-01-26/
END:VEVENT
BEGIN:VEVENT
DTSTART;TZID=Europe/Madrid:20280126T100500
DTEND;TZID=Europe/Madrid:20280126T103500
DTSTAMP:20260422T073010
CREATED:20250121T155655Z
LAST-MODIFIED:20250214T162406Z
UID:10008621-1832493900-1832495700@colorcomunitaria.org
SUMMARY:Cerca de tu casa
DESCRIPTION:Magacín sobre lo que pasa en Palma Palmilla. Colabora Junta de Distrito 5 Palma Palmilla del Ayuntamiento  de Málaga.
URL:https://colorcomunitaria.org/evento/cerca-de-tu-casa/2028-01-26/
CATEGORIES:Palma Palmilla
ATTACH;FMTTYPE=image/jpeg:https://colorcomunitaria.org/wp-content/uploads/2025/01/imagen-loco-cdtc-cerca-de-tu-casa-grande-e1737380447434.jpg
END:VEVENT
BEGIN:VEVENT
DTSTART;TZID=Europe/Madrid:20280126T103500
DTEND;TZID=Europe/Madrid:20280126T104500
DTSTAMP:20260422T073010
CREATED:20250216T172831Z
LAST-MODIFIED:20250216T173153Z
UID:10015850-1832495700-1832496300@colorcomunitaria.org
SUMMARY:Cerca de tu casa - Málaga
DESCRIPTION:
URL:https://colorcomunitaria.org/evento/cerca-de-tu-casa-edicion-malaga/2028-01-26/
END:VEVENT
BEGIN:VEVENT
DTSTART;TZID=Europe/Madrid:20280126T120500
DTEND;TZID=Europe/Madrid:20280126T130000
DTSTAMP:20260422T073010
CREATED:20250214T170722Z
LAST-MODIFIED:20250214T170722Z
UID:10010620-1832501100-1832504400@colorcomunitaria.org
SUMMARY:Entre letras
DESCRIPTION:
URL:https://colorcomunitaria.org/evento/entre-letras/2028-01-26/
END:VEVENT
BEGIN:VEVENT
DTSTART;TZID=Europe/Madrid:20280126T130000
DTEND;TZID=Europe/Madrid:20280126T133000
DTSTAMP:20260422T073010
CREATED:20250216T173355Z
LAST-MODIFIED:20250216T173355Z
UID:10018162-1832504400-1832506200@colorcomunitaria.org
SUMMARY:Informativo De este a Oeste (OLA)
DESCRIPTION:
URL:https://colorcomunitaria.org/evento/informativo-de-este-a-oeste-ola-2/2028-01-26/
END:VEVENT
BEGIN:VEVENT
DTSTART;TZID=Europe/Madrid:20280126T140000
DTEND;TZID=Europe/Madrid:20280126T150000
DTSTAMP:20260422T073010
CREATED:20250214T171611Z
LAST-MODIFIED:20250214T171611Z
UID:10013505-1832508000-1832511600@colorcomunitaria.org
SUMMARY:Málaga Cultura Viva
DESCRIPTION:
URL:https://colorcomunitaria.org/evento/malaga-cultura-viva/2028-01-26/
END:VEVENT
BEGIN:VEVENT
DTSTART;TZID=Europe/Madrid:20280126T160000
DTEND;TZID=Europe/Madrid:20280126T163000
DTSTAMP:20260422T073010
CREATED:20250216T173851Z
LAST-MODIFIED:20250216T173851Z
UID:10024896-1832515200-1832517000@colorcomunitaria.org
SUMMARY:Cerca de tu casa (R)
DESCRIPTION:Magacín sobre lo que pasa en Palma Palmilla. Colabora Junta de Distrito 5 Palma Palmilla del Ayuntamiento  de Málaga.
URL:https://colorcomunitaria.org/evento/cerca-de-tu-casa-r/2028-01-26/
CATEGORIES:Palma Palmilla
ATTACH;FMTTYPE=image/jpeg:https://colorcomunitaria.org/wp-content/uploads/2025/01/imagen-loco-cdtc-cerca-de-tu-casa-grande-e1737380447434.jpg
END:VEVENT
BEGIN:VEVENT
DTSTART;TZID=Europe/Madrid:20280126T163000
DTEND;TZID=Europe/Madrid:20280126T170000
DTSTAMP:20260422T073010
CREATED:20250216T174046Z
LAST-MODIFIED:20250216T174046Z
UID:10027531-1832517000-1832518800@colorcomunitaria.org
SUMMARY:Aprender con onda
DESCRIPTION:
URL:https://colorcomunitaria.org/evento/aprender-con-onda/2028-01-26/
END:VEVENT
BEGIN:VEVENT
DTSTART;TZID=Europe/Madrid:20280126T190000
DTEND;TZID=Europe/Madrid:20280126T200000
DTSTAMP:20260422T073011
CREATED:20250216T173505Z
LAST-MODIFIED:20250216T173505Z
UID:10020258-1832526000-1832529600@colorcomunitaria.org
SUMMARY:Informativo De este a Oeste (OLA)
DESCRIPTION:
URL:https://colorcomunitaria.org/evento/informativo-de-este-a-oeste-ola-3/2028-01-26/
END:VEVENT
BEGIN:VEVENT
DTSTART;TZID=Europe/Madrid:20280126T200500
DTEND;TZID=Europe/Madrid:20280126T210000
DTSTAMP:20260422T073011
CREATED:20250216T180559Z
LAST-MODIFIED:20250216T180559Z
UID:10031630-1832529900-1832533200@colorcomunitaria.org
SUMMARY:Palma y Romeros
DESCRIPTION:
URL:https://colorcomunitaria.org/evento/palma-y-romeros/2028-01-26/
END:VEVENT
BEGIN:VEVENT
DTSTART;TZID=Europe/Madrid:20280126T220000
DTEND;TZID=Europe/Madrid:20280126T230000
DTSTAMP:20260422T073011
CREATED:20250216T174426Z
LAST-MODIFIED:20250216T174426Z
UID:10028483-1832536800-1832540400@colorcomunitaria.org
SUMMARY:Con otra mirada (R)
DESCRIPTION:
URL:https://colorcomunitaria.org/evento/con-otra-mirada-r/2028-01-26/
END:VEVENT
END:VCALENDAR