BEGIN:VCALENDAR
VERSION:2.0
PRODID:-//Color comunitaria - ECPv6.9.1//NONSGML v1.0//EN
CALSCALE:GREGORIAN
METHOD:PUBLISH
X-WR-CALNAME:Color comunitaria
X-ORIGINAL-URL:https://colorcomunitaria.org
X-WR-CALDESC:Eventos para Color comunitaria
REFRESH-INTERVAL;VALUE=DURATION:PT1H
X-Robots-Tag:noindex
X-PUBLISHED-TTL:PT1H
BEGIN:VTIMEZONE
TZID:Europe/Madrid
BEGIN:DAYLIGHT
TZOFFSETFROM:+0100
TZOFFSETTO:+0200
TZNAME:CEST
DTSTART:20280326T010000
END:DAYLIGHT
BEGIN:STANDARD
TZOFFSETFROM:+0200
TZOFFSETTO:+0100
TZNAME:CET
DTSTART:20281029T010000
END:STANDARD
END:VTIMEZONE
BEGIN:VEVENT
DTSTART;TZID=Europe/Madrid:20280131T010000
DTEND;TZID=Europe/Madrid:20280131T020000
DTSTAMP:20260422T092756
CREATED:20250216T173544Z
LAST-MODIFIED:20250216T173632Z
UID:10022356-1832893200-1832896800@colorcomunitaria.org
SUMMARY:Informativo De este a Oeste (OLA) (R)
DESCRIPTION:
URL:https://colorcomunitaria.org/evento/informativo-de-este-a-oeste-ola-r/2028-01-31/
END:VEVENT
BEGIN:VEVENT
DTSTART;TZID=Europe/Madrid:20280131T020000
DTEND;TZID=Europe/Madrid:20280131T040000
DTSTAMP:20260422T092756
CREATED:20250216T180923Z
LAST-MODIFIED:20250216T181107Z
UID:10033871-1832896800-1832904000@colorcomunitaria.org
SUMMARY:Radioteatros Bicicleta Atómica y Audiodrama Colectivo
DESCRIPTION:
URL:https://colorcomunitaria.org/evento/radioteatros-bicicleta-atomica-y-audiodrama-colectivo/2028-01-31/
END:VEVENT
BEGIN:VEVENT
DTSTART;TZID=Europe/Madrid:20280131T083000
DTEND;TZID=Europe/Madrid:20280131T100000
DTSTAMP:20260422T092756
CREATED:20250214T170834Z
LAST-MODIFIED:20250214T170906Z
UID:10011499-1832920200-1832925600@colorcomunitaria.org
SUMMARY:Informativo De este a Oeste (OLA)
DESCRIPTION:
URL:https://colorcomunitaria.org/evento/informativo-de-este-a-oeste-ola/2028-01-31/
END:VEVENT
BEGIN:VEVENT
DTSTART;TZID=Europe/Madrid:20280131T100000
DTEND;TZID=Europe/Madrid:20280131T100500
DTSTAMP:20260422T092756
CREATED:20250214T171100Z
LAST-MODIFIED:20250214T171102Z
UID:10012812-1832925600-1832925900@colorcomunitaria.org
SUMMARY:Boletín informativo OLA
DESCRIPTION:
URL:https://colorcomunitaria.org/evento/boletin-informativo-ola-2/2028-01-31/
END:VEVENT
BEGIN:VEVENT
DTSTART;TZID=Europe/Madrid:20280131T100500
DTEND;TZID=Europe/Madrid:20280131T103500
DTSTAMP:20260422T092756
CREATED:20250121T155655Z
LAST-MODIFIED:20250214T162406Z
UID:10008624-1832925900-1832927700@colorcomunitaria.org
SUMMARY:Cerca de tu casa
DESCRIPTION:Magacín sobre lo que pasa en Palma Palmilla. Colabora Junta de Distrito 5 Palma Palmilla del Ayuntamiento  de Málaga.
URL:https://colorcomunitaria.org/evento/cerca-de-tu-casa/2028-01-31/
CATEGORIES:Palma Palmilla
ATTACH;FMTTYPE=image/jpeg:https://colorcomunitaria.org/wp-content/uploads/2025/01/imagen-loco-cdtc-cerca-de-tu-casa-grande-e1737380447434.jpg
END:VEVENT
BEGIN:VEVENT
DTSTART;TZID=Europe/Madrid:20280131T103500
DTEND;TZID=Europe/Madrid:20280131T104500
DTSTAMP:20260422T092756
CREATED:20250216T172831Z
LAST-MODIFIED:20250216T173153Z
UID:10015854-1832927700-1832928300@colorcomunitaria.org
SUMMARY:Cerca de tu casa - Málaga
DESCRIPTION:
URL:https://colorcomunitaria.org/evento/cerca-de-tu-casa-edicion-malaga/2028-01-31/
END:VEVENT
BEGIN:VEVENT
DTSTART;TZID=Europe/Madrid:20280131T110500
DTEND;TZID=Europe/Madrid:20280131T120000
DTSTAMP:20260422T092756
CREATED:20250214T162718Z
LAST-MODIFIED:20250214T162800Z
UID:10009836-1832929500-1832932800@colorcomunitaria.org
SUMMARY:Con otra mirada
DESCRIPTION:
URL:https://colorcomunitaria.org/evento/con-otra-mirada/2028-01-31/
END:VEVENT
BEGIN:VEVENT
DTSTART;TZID=Europe/Madrid:20280131T120500
DTEND;TZID=Europe/Madrid:20280131T130000
DTSTAMP:20260422T092756
CREATED:20250214T165409Z
LAST-MODIFIED:20250214T165409Z
UID:10010097-1832933100-1832936400@colorcomunitaria.org
SUMMARY:Sabemos lo que queremos
DESCRIPTION:
URL:https://colorcomunitaria.org/evento/sabemos-lo-que-queremos/2028-01-31/
END:VEVENT
BEGIN:VEVENT
DTSTART;TZID=Europe/Madrid:20280131T130000
DTEND;TZID=Europe/Madrid:20280131T133000
DTSTAMP:20260422T092756
CREATED:20250216T173355Z
LAST-MODIFIED:20250216T173355Z
UID:10018164-1832936400-1832938200@colorcomunitaria.org
SUMMARY:Informativo De este a Oeste (OLA)
DESCRIPTION:
URL:https://colorcomunitaria.org/evento/informativo-de-este-a-oeste-ola-2/2028-01-31/
END:VEVENT
BEGIN:VEVENT
DTSTART;TZID=Europe/Madrid:20280131T160000
DTEND;TZID=Europe/Madrid:20280131T163000
DTSTAMP:20260422T092756
CREATED:20250216T173851Z
LAST-MODIFIED:20250216T173851Z
UID:10024899-1832947200-1832949000@colorcomunitaria.org
SUMMARY:Cerca de tu casa (R)
DESCRIPTION:Magacín sobre lo que pasa en Palma Palmilla. Colabora Junta de Distrito 5 Palma Palmilla del Ayuntamiento  de Málaga.
URL:https://colorcomunitaria.org/evento/cerca-de-tu-casa-r/2028-01-31/
CATEGORIES:Palma Palmilla
ATTACH;FMTTYPE=image/jpeg:https://colorcomunitaria.org/wp-content/uploads/2025/01/imagen-loco-cdtc-cerca-de-tu-casa-grande-e1737380447434.jpg
END:VEVENT
BEGIN:VEVENT
DTSTART;TZID=Europe/Madrid:20280131T163000
DTEND;TZID=Europe/Madrid:20280131T170000
DTSTAMP:20260422T092756
CREATED:20250216T174046Z
LAST-MODIFIED:20250216T174046Z
UID:10027534-1832949000-1832950800@colorcomunitaria.org
SUMMARY:Aprender con onda
DESCRIPTION:
URL:https://colorcomunitaria.org/evento/aprender-con-onda/2028-01-31/
END:VEVENT
BEGIN:VEVENT
DTSTART;TZID=Europe/Madrid:20280131T190000
DTEND;TZID=Europe/Madrid:20280131T200000
DTSTAMP:20260422T092756
CREATED:20250216T173505Z
LAST-MODIFIED:20250216T173505Z
UID:10020260-1832958000-1832961600@colorcomunitaria.org
SUMMARY:Informativo De este a Oeste (OLA)
DESCRIPTION:
URL:https://colorcomunitaria.org/evento/informativo-de-este-a-oeste-ola-3/2028-01-31/
END:VEVENT
BEGIN:VEVENT
DTSTART;TZID=Europe/Madrid:20280131T210000
DTEND;TZID=Europe/Madrid:20280131T220000
DTSTAMP:20260422T092756
CREATED:20250216T184112Z
LAST-MODIFIED:20250216T184112Z
UID:10039337-1832965200-1832968800@colorcomunitaria.org
SUMMARY:De mil colores
DESCRIPTION:
URL:https://colorcomunitaria.org/evento/de-mil-colores/2028-01-31/
END:VEVENT
END:VCALENDAR