BEGIN:VCALENDAR
VERSION:2.0
PRODID:-//Color comunitaria - ECPv6.9.1//NONSGML v1.0//EN
CALSCALE:GREGORIAN
METHOD:PUBLISH
X-WR-CALNAME:Color comunitaria
X-ORIGINAL-URL:https://colorcomunitaria.org
X-WR-CALDESC:Eventos para Color comunitaria
REFRESH-INTERVAL;VALUE=DURATION:PT1H
X-Robots-Tag:noindex
X-PUBLISHED-TTL:PT1H
BEGIN:VTIMEZONE
TZID:Europe/Madrid
BEGIN:DAYLIGHT
TZOFFSETFROM:+0100
TZOFFSETTO:+0200
TZNAME:CEST
DTSTART:20280326T010000
END:DAYLIGHT
BEGIN:STANDARD
TZOFFSETFROM:+0200
TZOFFSETTO:+0100
TZNAME:CET
DTSTART:20281029T010000
END:STANDARD
END:VTIMEZONE
BEGIN:VEVENT
DTSTART;TZID=Europe/Madrid:20280215T010000
DTEND;TZID=Europe/Madrid:20280215T020000
DTSTAMP:20260422T163936
CREATED:20250216T173544Z
LAST-MODIFIED:20250216T173632Z
UID:10022365-1834189200-1834192800@colorcomunitaria.org
SUMMARY:Informativo De este a Oeste (OLA) (R)
DESCRIPTION:
URL:https://colorcomunitaria.org/evento/informativo-de-este-a-oeste-ola-r/2028-02-15/
END:VEVENT
BEGIN:VEVENT
DTSTART;TZID=Europe/Madrid:20280215T020000
DTEND;TZID=Europe/Madrid:20280215T040000
DTSTAMP:20260422T163936
CREATED:20250216T180923Z
LAST-MODIFIED:20250216T181107Z
UID:10033886-1834192800-1834200000@colorcomunitaria.org
SUMMARY:Radioteatros Bicicleta Atómica y Audiodrama Colectivo
DESCRIPTION:
URL:https://colorcomunitaria.org/evento/radioteatros-bicicleta-atomica-y-audiodrama-colectivo/2028-02-15/
END:VEVENT
BEGIN:VEVENT
DTSTART;TZID=Europe/Madrid:20280215T083000
DTEND;TZID=Europe/Madrid:20280215T100000
DTSTAMP:20260422T163936
CREATED:20250214T170834Z
LAST-MODIFIED:20250214T170906Z
UID:10011510-1834216200-1834221600@colorcomunitaria.org
SUMMARY:Informativo De este a Oeste (OLA)
DESCRIPTION:
URL:https://colorcomunitaria.org/evento/informativo-de-este-a-oeste-ola/2028-02-15/
END:VEVENT
BEGIN:VEVENT
DTSTART;TZID=Europe/Madrid:20280215T100000
DTEND;TZID=Europe/Madrid:20280215T100500
DTSTAMP:20260422T163936
CREATED:20250214T171100Z
LAST-MODIFIED:20250214T171102Z
UID:10012823-1834221600-1834221900@colorcomunitaria.org
SUMMARY:Boletín informativo OLA
DESCRIPTION:
URL:https://colorcomunitaria.org/evento/boletin-informativo-ola-2/2028-02-15/
END:VEVENT
BEGIN:VEVENT
DTSTART;TZID=Europe/Madrid:20280215T100500
DTEND;TZID=Europe/Madrid:20280215T103500
DTSTAMP:20260422T163936
CREATED:20250121T155655Z
LAST-MODIFIED:20250214T162406Z
UID:10008635-1834221900-1834223700@colorcomunitaria.org
SUMMARY:Cerca de tu casa
DESCRIPTION:Magacín sobre lo que pasa en Palma Palmilla. Colabora Junta de Distrito 5 Palma Palmilla del Ayuntamiento  de Málaga.
URL:https://colorcomunitaria.org/evento/cerca-de-tu-casa/2028-02-15/
CATEGORIES:Palma Palmilla
ATTACH;FMTTYPE=image/jpeg:https://colorcomunitaria.org/wp-content/uploads/2025/01/imagen-loco-cdtc-cerca-de-tu-casa-grande-e1737380447434.jpg
END:VEVENT
BEGIN:VEVENT
DTSTART;TZID=Europe/Madrid:20280215T103500
DTEND;TZID=Europe/Madrid:20280215T104500
DTSTAMP:20260422T163936
CREATED:20250216T172831Z
LAST-MODIFIED:20250216T173153Z
UID:10015867-1834223700-1834224300@colorcomunitaria.org
SUMMARY:Cerca de tu casa - Málaga
DESCRIPTION:
URL:https://colorcomunitaria.org/evento/cerca-de-tu-casa-edicion-malaga/2028-02-15/
END:VEVENT
BEGIN:VEVENT
DTSTART;TZID=Europe/Madrid:20280215T110500
DTEND;TZID=Europe/Madrid:20280215T123000
DTSTAMP:20260422T163936
CREATED:20250214T165815Z
LAST-MODIFIED:20250214T165815Z
UID:10010361-1834225500-1834230600@colorcomunitaria.org
SUMMARY:La voz de vida
DESCRIPTION:
URL:https://colorcomunitaria.org/evento/la-voz-de-vida/2028-02-15/
END:VEVENT
BEGIN:VEVENT
DTSTART;TZID=Europe/Madrid:20280215T130000
DTEND;TZID=Europe/Madrid:20280215T133000
DTSTAMP:20260422T163936
CREATED:20250216T173355Z
LAST-MODIFIED:20250216T173355Z
UID:10018173-1834232400-1834234200@colorcomunitaria.org
SUMMARY:Informativo De este a Oeste (OLA)
DESCRIPTION:
URL:https://colorcomunitaria.org/evento/informativo-de-este-a-oeste-ola-2/2028-02-15/
END:VEVENT
BEGIN:VEVENT
DTSTART;TZID=Europe/Madrid:20280215T160000
DTEND;TZID=Europe/Madrid:20280215T163000
DTSTAMP:20260422T163936
CREATED:20250216T173851Z
LAST-MODIFIED:20250216T173851Z
UID:10024910-1834243200-1834245000@colorcomunitaria.org
SUMMARY:Cerca de tu casa (R)
DESCRIPTION:Magacín sobre lo que pasa en Palma Palmilla. Colabora Junta de Distrito 5 Palma Palmilla del Ayuntamiento  de Málaga.
URL:https://colorcomunitaria.org/evento/cerca-de-tu-casa-r/2028-02-15/
CATEGORIES:Palma Palmilla
ATTACH;FMTTYPE=image/jpeg:https://colorcomunitaria.org/wp-content/uploads/2025/01/imagen-loco-cdtc-cerca-de-tu-casa-grande-e1737380447434.jpg
END:VEVENT
BEGIN:VEVENT
DTSTART;TZID=Europe/Madrid:20280215T163000
DTEND;TZID=Europe/Madrid:20280215T170000
DTSTAMP:20260422T163936
CREATED:20250216T174046Z
LAST-MODIFIED:20250216T174046Z
UID:10027545-1834245000-1834246800@colorcomunitaria.org
SUMMARY:Aprender con onda
DESCRIPTION:
URL:https://colorcomunitaria.org/evento/aprender-con-onda/2028-02-15/
END:VEVENT
BEGIN:VEVENT
DTSTART;TZID=Europe/Madrid:20280215T190000
DTEND;TZID=Europe/Madrid:20280215T200000
DTSTAMP:20260422T163936
CREATED:20250216T173505Z
LAST-MODIFIED:20250216T173505Z
UID:10020269-1834254000-1834257600@colorcomunitaria.org
SUMMARY:Informativo De este a Oeste (OLA)
DESCRIPTION:
URL:https://colorcomunitaria.org/evento/informativo-de-este-a-oeste-ola-3/2028-02-15/
END:VEVENT
BEGIN:VEVENT
DTSTART;TZID=Europe/Madrid:20280215T200000
DTEND;TZID=Europe/Madrid:20280215T210000
DTSTAMP:20260422T163936
CREATED:20250214T172034Z
LAST-MODIFIED:20250214T172034Z
UID:10013771-1834257600-1834261200@colorcomunitaria.org
SUMMARY:Puentes
DESCRIPTION:
URL:https://colorcomunitaria.org/evento/puentes/2028-02-15/
END:VEVENT
BEGIN:VEVENT
DTSTART;TZID=Europe/Madrid:20280215T210000
DTEND;TZID=Europe/Madrid:20280215T220000
DTSTAMP:20260422T163936
CREATED:20250214T172202Z
LAST-MODIFIED:20250214T172202Z
UID:10014033-1834261200-1834264800@colorcomunitaria.org
SUMMARY:La voz de los sin voz
DESCRIPTION:
URL:https://colorcomunitaria.org/evento/la-voz-de-los-sin-voz/2028-02-15/
END:VEVENT
END:VCALENDAR