BEGIN:VCALENDAR
VERSION:2.0
PRODID:-//Color comunitaria - ECPv6.9.1//NONSGML v1.0//EN
CALSCALE:GREGORIAN
METHOD:PUBLISH
X-WR-CALNAME:Color comunitaria
X-ORIGINAL-URL:https://colorcomunitaria.org
X-WR-CALDESC:Eventos para Color comunitaria
REFRESH-INTERVAL;VALUE=DURATION:PT1H
X-Robots-Tag:noindex
X-PUBLISHED-TTL:PT1H
BEGIN:VTIMEZONE
TZID:Europe/Madrid
BEGIN:DAYLIGHT
TZOFFSETFROM:+0100
TZOFFSETTO:+0200
TZNAME:CEST
DTSTART:20280326T010000
END:DAYLIGHT
BEGIN:STANDARD
TZOFFSETFROM:+0200
TZOFFSETTO:+0100
TZNAME:CET
DTSTART:20281029T010000
END:STANDARD
END:VTIMEZONE
BEGIN:VEVENT
DTSTART;TZID=Europe/Madrid:20280301T000000
DTEND;TZID=Europe/Madrid:20280301T010000
DTSTAMP:20260422T202755
CREATED:20250216T175230Z
LAST-MODIFIED:20250216T175230Z
UID:10029536-1835481600-1835485200@colorcomunitaria.org
SUMMARY:Málaga Cultura Viva (R)
DESCRIPTION:
URL:https://colorcomunitaria.org/evento/malaga-cultura-viva-r/2028-03-01/
END:VEVENT
BEGIN:VEVENT
DTSTART;TZID=Europe/Madrid:20280301T010000
DTEND;TZID=Europe/Madrid:20280301T020000
DTSTAMP:20260422T202755
CREATED:20250216T173544Z
LAST-MODIFIED:20250216T173632Z
UID:10022374-1835485200-1835488800@colorcomunitaria.org
SUMMARY:Informativo De este a Oeste (OLA) (R)
DESCRIPTION:
URL:https://colorcomunitaria.org/evento/informativo-de-este-a-oeste-ola-r/2028-03-01/
END:VEVENT
BEGIN:VEVENT
DTSTART;TZID=Europe/Madrid:20280301T020000
DTEND;TZID=Europe/Madrid:20280301T040000
DTSTAMP:20260422T202755
CREATED:20250216T180923Z
LAST-MODIFIED:20250216T181107Z
UID:10033901-1835488800-1835496000@colorcomunitaria.org
SUMMARY:Radioteatros Bicicleta Atómica y Audiodrama Colectivo
DESCRIPTION:
URL:https://colorcomunitaria.org/evento/radioteatros-bicicleta-atomica-y-audiodrama-colectivo/2028-03-01/
END:VEVENT
BEGIN:VEVENT
DTSTART;TZID=Europe/Madrid:20280301T083000
DTEND;TZID=Europe/Madrid:20280301T100000
DTSTAMP:20260422T202755
CREATED:20250214T170834Z
LAST-MODIFIED:20250214T170906Z
UID:10011521-1835512200-1835517600@colorcomunitaria.org
SUMMARY:Informativo De este a Oeste (OLA)
DESCRIPTION:
URL:https://colorcomunitaria.org/evento/informativo-de-este-a-oeste-ola/2028-03-01/
END:VEVENT
BEGIN:VEVENT
DTSTART;TZID=Europe/Madrid:20280301T100000
DTEND;TZID=Europe/Madrid:20280301T100500
DTSTAMP:20260422T202755
CREATED:20250214T171100Z
LAST-MODIFIED:20250214T171102Z
UID:10012834-1835517600-1835517900@colorcomunitaria.org
SUMMARY:Boletín informativo OLA
DESCRIPTION:
URL:https://colorcomunitaria.org/evento/boletin-informativo-ola-2/2028-03-01/
END:VEVENT
BEGIN:VEVENT
DTSTART;TZID=Europe/Madrid:20280301T100500
DTEND;TZID=Europe/Madrid:20280301T103500
DTSTAMP:20260422T202755
CREATED:20250121T155655Z
LAST-MODIFIED:20250214T162406Z
UID:10008646-1835517900-1835519700@colorcomunitaria.org
SUMMARY:Cerca de tu casa
DESCRIPTION:Magacín sobre lo que pasa en Palma Palmilla. Colabora Junta de Distrito 5 Palma Palmilla del Ayuntamiento  de Málaga.
URL:https://colorcomunitaria.org/evento/cerca-de-tu-casa/2028-03-01/
CATEGORIES:Palma Palmilla
ATTACH;FMTTYPE=image/jpeg:https://colorcomunitaria.org/wp-content/uploads/2025/01/imagen-loco-cdtc-cerca-de-tu-casa-grande-e1737380447434.jpg
END:VEVENT
BEGIN:VEVENT
DTSTART;TZID=Europe/Madrid:20280301T103500
DTEND;TZID=Europe/Madrid:20280301T104500
DTSTAMP:20260422T202755
CREATED:20250216T172831Z
LAST-MODIFIED:20250216T173153Z
UID:10015880-1835519700-1835520300@colorcomunitaria.org
SUMMARY:Cerca de tu casa - Málaga
DESCRIPTION:
URL:https://colorcomunitaria.org/evento/cerca-de-tu-casa-edicion-malaga/2028-03-01/
END:VEVENT
BEGIN:VEVENT
DTSTART;TZID=Europe/Madrid:20280301T120500
DTEND;TZID=Europe/Madrid:20280301T130000
DTSTAMP:20260422T202755
CREATED:20250214T170722Z
LAST-MODIFIED:20250214T170722Z
UID:10010625-1835525100-1835528400@colorcomunitaria.org
SUMMARY:Entre letras
DESCRIPTION:
URL:https://colorcomunitaria.org/evento/entre-letras/2028-03-01/
END:VEVENT
BEGIN:VEVENT
DTSTART;TZID=Europe/Madrid:20280301T130000
DTEND;TZID=Europe/Madrid:20280301T133000
DTSTAMP:20260422T202755
CREATED:20250216T173355Z
LAST-MODIFIED:20250216T173355Z
UID:10018182-1835528400-1835530200@colorcomunitaria.org
SUMMARY:Informativo De este a Oeste (OLA)
DESCRIPTION:
URL:https://colorcomunitaria.org/evento/informativo-de-este-a-oeste-ola-2/2028-03-01/
END:VEVENT
BEGIN:VEVENT
DTSTART;TZID=Europe/Madrid:20280301T140000
DTEND;TZID=Europe/Madrid:20280301T150000
DTSTAMP:20260422T202755
CREATED:20250214T171611Z
LAST-MODIFIED:20250214T171611Z
UID:10013510-1835532000-1835535600@colorcomunitaria.org
SUMMARY:Málaga Cultura Viva
DESCRIPTION:
URL:https://colorcomunitaria.org/evento/malaga-cultura-viva/2028-03-01/
END:VEVENT
BEGIN:VEVENT
DTSTART;TZID=Europe/Madrid:20280301T160000
DTEND;TZID=Europe/Madrid:20280301T163000
DTSTAMP:20260422T202755
CREATED:20250216T173851Z
LAST-MODIFIED:20250216T173851Z
UID:10024921-1835539200-1835541000@colorcomunitaria.org
SUMMARY:Cerca de tu casa (R)
DESCRIPTION:Magacín sobre lo que pasa en Palma Palmilla. Colabora Junta de Distrito 5 Palma Palmilla del Ayuntamiento  de Málaga.
URL:https://colorcomunitaria.org/evento/cerca-de-tu-casa-r/2028-03-01/
CATEGORIES:Palma Palmilla
ATTACH;FMTTYPE=image/jpeg:https://colorcomunitaria.org/wp-content/uploads/2025/01/imagen-loco-cdtc-cerca-de-tu-casa-grande-e1737380447434.jpg
END:VEVENT
BEGIN:VEVENT
DTSTART;TZID=Europe/Madrid:20280301T163000
DTEND;TZID=Europe/Madrid:20280301T170000
DTSTAMP:20260422T202755
CREATED:20250216T174046Z
LAST-MODIFIED:20250216T174046Z
UID:10027556-1835541000-1835542800@colorcomunitaria.org
SUMMARY:Aprender con onda
DESCRIPTION:
URL:https://colorcomunitaria.org/evento/aprender-con-onda/2028-03-01/
END:VEVENT
BEGIN:VEVENT
DTSTART;TZID=Europe/Madrid:20280301T190000
DTEND;TZID=Europe/Madrid:20280301T200000
DTSTAMP:20260422T202755
CREATED:20250216T173505Z
LAST-MODIFIED:20250216T173505Z
UID:10020278-1835550000-1835553600@colorcomunitaria.org
SUMMARY:Informativo De este a Oeste (OLA)
DESCRIPTION:
URL:https://colorcomunitaria.org/evento/informativo-de-este-a-oeste-ola-3/2028-03-01/
END:VEVENT
BEGIN:VEVENT
DTSTART;TZID=Europe/Madrid:20280301T200500
DTEND;TZID=Europe/Madrid:20280301T210000
DTSTAMP:20260422T202755
CREATED:20250216T180559Z
LAST-MODIFIED:20250216T180559Z
UID:10031635-1835553900-1835557200@colorcomunitaria.org
SUMMARY:Palma y Romeros
DESCRIPTION:
URL:https://colorcomunitaria.org/evento/palma-y-romeros/2028-03-01/
END:VEVENT
BEGIN:VEVENT
DTSTART;TZID=Europe/Madrid:20280301T220000
DTEND;TZID=Europe/Madrid:20280301T230000
DTSTAMP:20260422T202755
CREATED:20250216T174426Z
LAST-MODIFIED:20250216T174426Z
UID:10028488-1835560800-1835564400@colorcomunitaria.org
SUMMARY:Con otra mirada (R)
DESCRIPTION:
URL:https://colorcomunitaria.org/evento/con-otra-mirada-r/2028-03-01/
END:VEVENT
END:VCALENDAR