BEGIN:VCALENDAR
VERSION:2.0
PRODID:-//Color comunitaria - ECPv6.9.1//NONSGML v1.0//EN
CALSCALE:GREGORIAN
METHOD:PUBLISH
X-ORIGINAL-URL:https://colorcomunitaria.org
X-WR-CALDESC:Eventos para Color comunitaria
REFRESH-INTERVAL;VALUE=DURATION:PT1H
X-Robots-Tag:noindex
X-PUBLISHED-TTL:PT1H
BEGIN:VTIMEZONE
TZID:Europe/Madrid
BEGIN:DAYLIGHT
TZOFFSETFROM:+0100
TZOFFSETTO:+0200
TZNAME:CEST
DTSTART:20280326T010000
END:DAYLIGHT
BEGIN:STANDARD
TZOFFSETFROM:+0200
TZOFFSETTO:+0100
TZNAME:CET
DTSTART:20281029T010000
END:STANDARD
END:VTIMEZONE
BEGIN:VEVENT
DTSTART;TZID=Europe/Madrid:20280331T020000
DTEND;TZID=Europe/Madrid:20280331T040000
DTSTAMP:20260423T040638
CREATED:20250216T180923Z
LAST-MODIFIED:20250216T181107Z
UID:10033931-1838080800-1838088000@colorcomunitaria.org
SUMMARY:Radioteatros Bicicleta Atómica y Audiodrama Colectivo
DESCRIPTION:
URL:https://colorcomunitaria.org/evento/radioteatros-bicicleta-atomica-y-audiodrama-colectivo/2028-03-31/
END:VEVENT
BEGIN:VEVENT
DTSTART;TZID=Europe/Madrid:20280331T100000
DTEND;TZID=Europe/Madrid:20280331T100500
DTSTAMP:20260423T040638
CREATED:20250214T171100Z
LAST-MODIFIED:20250214T171102Z
UID:10012856-1838109600-1838109900@colorcomunitaria.org
SUMMARY:Boletín informativo OLA
DESCRIPTION:
URL:https://colorcomunitaria.org/evento/boletin-informativo-ola-2/2028-03-31/
END:VEVENT
BEGIN:VEVENT
DTSTART;TZID=Europe/Madrid:20280331T100500
DTEND;TZID=Europe/Madrid:20280331T103500
DTSTAMP:20260423T040638
CREATED:20250121T155655Z
LAST-MODIFIED:20250214T162406Z
UID:10008668-1838109900-1838111700@colorcomunitaria.org
SUMMARY:Cerca de tu casa
DESCRIPTION:Magacín sobre lo que pasa en Palma Palmilla. Colabora Junta de Distrito 5 Palma Palmilla del Ayuntamiento  de Málaga.
URL:https://colorcomunitaria.org/evento/cerca-de-tu-casa/2028-03-31/
CATEGORIES:Palma Palmilla
ATTACH;FMTTYPE=image/jpeg:https://colorcomunitaria.org/wp-content/uploads/2025/01/imagen-loco-cdtc-cerca-de-tu-casa-grande-e1737380447434.jpg
END:VEVENT
BEGIN:VEVENT
DTSTART;TZID=Europe/Madrid:20280331T103500
DTEND;TZID=Europe/Madrid:20280331T104500
DTSTAMP:20260423T040638
CREATED:20250216T172831Z
LAST-MODIFIED:20250216T173153Z
UID:10015906-1838111700-1838112300@colorcomunitaria.org
SUMMARY:Cerca de tu casa - Málaga
DESCRIPTION:
URL:https://colorcomunitaria.org/evento/cerca-de-tu-casa-edicion-malaga/2028-03-31/
END:VEVENT
BEGIN:VEVENT
DTSTART;TZID=Europe/Madrid:20280331T160000
DTEND;TZID=Europe/Madrid:20280331T163000
DTSTAMP:20260423T040638
CREATED:20250216T173851Z
LAST-MODIFIED:20250216T173851Z
UID:10024943-1838131200-1838133000@colorcomunitaria.org
SUMMARY:Cerca de tu casa (R)
DESCRIPTION:Magacín sobre lo que pasa en Palma Palmilla. Colabora Junta de Distrito 5 Palma Palmilla del Ayuntamiento  de Málaga.
URL:https://colorcomunitaria.org/evento/cerca-de-tu-casa-r/2028-03-31/
CATEGORIES:Palma Palmilla
ATTACH;FMTTYPE=image/jpeg:https://colorcomunitaria.org/wp-content/uploads/2025/01/imagen-loco-cdtc-cerca-de-tu-casa-grande-e1737380447434.jpg
END:VEVENT
BEGIN:VEVENT
DTSTART;TZID=Europe/Madrid:20280331T163000
DTEND;TZID=Europe/Madrid:20280331T170000
DTSTAMP:20260423T040638
CREATED:20250216T174046Z
LAST-MODIFIED:20250216T174046Z
UID:10027578-1838133000-1838134800@colorcomunitaria.org
SUMMARY:Aprender con onda
DESCRIPTION:
URL:https://colorcomunitaria.org/evento/aprender-con-onda/2028-03-31/
END:VEVENT
BEGIN:VEVENT
DTSTART;TZID=Europe/Madrid:20280331T200000
DTEND;TZID=Europe/Madrid:20280331T210000
DTSTAMP:20260423T040638
CREATED:20250216T171850Z
LAST-MODIFIED:20250216T171850Z
UID:10014301-1838145600-1838149200@colorcomunitaria.org
SUMMARY:Elektrodance
DESCRIPTION:
URL:https://colorcomunitaria.org/evento/elektrodance/2028-03-31/
END:VEVENT
END:VCALENDAR