BEGIN:VCALENDAR
VERSION:2.0
PRODID:-//Color comunitaria - ECPv6.9.1//NONSGML v1.0//EN
CALSCALE:GREGORIAN
METHOD:PUBLISH
X-WR-CALNAME:Color comunitaria
X-ORIGINAL-URL:https://colorcomunitaria.org
X-WR-CALDESC:Eventos para Color comunitaria
REFRESH-INTERVAL;VALUE=DURATION:PT1H
X-Robots-Tag:noindex
X-PUBLISHED-TTL:PT1H
BEGIN:VTIMEZONE
TZID:Europe/Madrid
BEGIN:DAYLIGHT
TZOFFSETFROM:+0100
TZOFFSETTO:+0200
TZNAME:CEST
DTSTART:20280326T010000
END:DAYLIGHT
BEGIN:STANDARD
TZOFFSETFROM:+0200
TZOFFSETTO:+0100
TZNAME:CET
DTSTART:20281029T010000
END:STANDARD
END:VTIMEZONE
BEGIN:VEVENT
DTSTART;TZID=Europe/Madrid:20280416T020000
DTEND;TZID=Europe/Madrid:20280416T040000
DTSTAMP:20260423T081624
CREATED:20250216T180923Z
LAST-MODIFIED:20250216T181107Z
UID:10033947-1839463200-1839470400@colorcomunitaria.org
SUMMARY:Radioteatros Bicicleta Atómica y Audiodrama Colectivo
DESCRIPTION:
URL:https://colorcomunitaria.org/evento/radioteatros-bicicleta-atomica-y-audiodrama-colectivo/2028-04-16/
END:VEVENT
BEGIN:VEVENT
DTSTART;TZID=Europe/Madrid:20280416T140000
DTEND;TZID=Europe/Madrid:20280416T150000
DTSTAMP:20260423T081624
CREATED:20250216T184150Z
LAST-MODIFIED:20250216T184150Z
UID:10039867-1839506400-1839510000@colorcomunitaria.org
SUMMARY:De mil colores (R)
DESCRIPTION:
URL:https://colorcomunitaria.org/evento/de-mil-colores-r/2028-04-16/
END:VEVENT
BEGIN:VEVENT
DTSTART;TZID=Europe/Madrid:20280416T220000
DTEND;TZID=Europe/Madrid:20280416T220000
DTSTAMP:20260423T081624
CREATED:20250216T181216Z
LAST-MODIFIED:20250216T181307Z
UID:10037608-1839535200-1839535200@colorcomunitaria.org
SUMMARY:Radioteatros Bicicleta Atómica y Audiodrama Colectivo (R)
DESCRIPTION:
URL:https://colorcomunitaria.org/evento/radioteatros-bicicleta-atomica-y-audiodrama-colectivo-2/2028-04-16/
END:VEVENT
END:VCALENDAR