BEGIN:VCALENDAR
VERSION:2.0
PRODID:-//Color comunitaria - ECPv6.9.1//NONSGML v1.0//EN
CALSCALE:GREGORIAN
METHOD:PUBLISH
X-ORIGINAL-URL:https://colorcomunitaria.org
X-WR-CALDESC:Eventos para Color comunitaria
REFRESH-INTERVAL;VALUE=DURATION:PT1H
X-Robots-Tag:noindex
X-PUBLISHED-TTL:PT1H
BEGIN:VTIMEZONE
TZID:Europe/Madrid
BEGIN:DAYLIGHT
TZOFFSETFROM:+0100
TZOFFSETTO:+0200
TZNAME:CEST
DTSTART:20280326T010000
END:DAYLIGHT
BEGIN:STANDARD
TZOFFSETFROM:+0200
TZOFFSETTO:+0100
TZNAME:CET
DTSTART:20281029T010000
END:STANDARD
END:VTIMEZONE
BEGIN:VEVENT
DTSTART;TZID=Europe/Madrid:20280422T010000
DTEND;TZID=Europe/Madrid:20280422T020000
DTSTAMP:20260423T100829
CREATED:20250216T180735Z
LAST-MODIFIED:20250216T180735Z
UID:10032690-1839978000-1839981600@colorcomunitaria.org
SUMMARY:Elektrodance (R)
DESCRIPTION:
URL:https://colorcomunitaria.org/evento/elektrodance-r/2028-04-22/
END:VEVENT
BEGIN:VEVENT
DTSTART;TZID=Europe/Madrid:20280422T020000
DTEND;TZID=Europe/Madrid:20280422T040000
DTSTAMP:20260423T100829
CREATED:20250216T180923Z
LAST-MODIFIED:20250216T181107Z
UID:10033953-1839981600-1839988800@colorcomunitaria.org
SUMMARY:Radioteatros Bicicleta Atómica y Audiodrama Colectivo
DESCRIPTION:
URL:https://colorcomunitaria.org/evento/radioteatros-bicicleta-atomica-y-audiodrama-colectivo/2028-04-22/
END:VEVENT
BEGIN:VEVENT
DTSTART;TZID=Europe/Madrid:20280422T080000
DTEND;TZID=Europe/Madrid:20280422T090000
DTSTAMP:20260423T100829
CREATED:20250216T180646Z
LAST-MODIFIED:20250216T180646Z
UID:10032166-1840003200-1840006800@colorcomunitaria.org
SUMMARY:Palma y Romeros (R)
DESCRIPTION:
URL:https://colorcomunitaria.org/evento/palma-y-romeros-r/2028-04-22/
END:VEVENT
BEGIN:VEVENT
DTSTART;TZID=Europe/Madrid:20280422T103500
DTEND;TZID=Europe/Madrid:20280422T104500
DTSTAMP:20260423T100829
CREATED:20250216T172831Z
LAST-MODIFIED:20250216T173153Z
UID:10015925-1840012500-1840013100@colorcomunitaria.org
SUMMARY:Cerca de tu casa - Málaga
DESCRIPTION:
URL:https://colorcomunitaria.org/evento/cerca-de-tu-casa-edicion-malaga/2028-04-22/
END:VEVENT
BEGIN:VEVENT
DTSTART;TZID=Europe/Madrid:20280422T130000
DTEND;TZID=Europe/Madrid:20280422T140000
DTSTAMP:20260423T100829
CREATED:20250216T175015Z
LAST-MODIFIED:20250216T175015Z
UID:10029019-1840021200-1840024800@colorcomunitaria.org
SUMMARY:Entre letras (R)
DESCRIPTION:
URL:https://colorcomunitaria.org/evento/entre-letras-r/2028-04-22/
END:VEVENT
BEGIN:VEVENT
DTSTART;TZID=Europe/Madrid:20280422T140000
DTEND;TZID=Europe/Madrid:20280422T150000
DTSTAMP:20260423T100829
CREATED:20250216T172205Z
LAST-MODIFIED:20250216T172205Z
UID:10014566-1840024800-1840028400@colorcomunitaria.org
SUMMARY:La Reverse Podcast
DESCRIPTION:
URL:https://colorcomunitaria.org/evento/la-reverse-podcast/2028-04-22/
END:VEVENT
BEGIN:VEVENT
DTSTART;TZID=Europe/Madrid:20280422T170000
DTEND;TZID=Europe/Madrid:20280422T180000
DTSTAMP:20260423T100830
CREATED:20250216T175931Z
LAST-MODIFIED:20250216T175931Z
UID:10031378-1840035600-1840039200@colorcomunitaria.org
SUMMARY:La voz de los sin voz (R)
DESCRIPTION:
URL:https://colorcomunitaria.org/evento/la-voz-de-los-sin-voz-r/2028-04-22/
END:VEVENT
BEGIN:VEVENT
DTSTART;TZID=Europe/Madrid:20280422T220000
DTEND;TZID=Europe/Madrid:20280422T230000
DTSTAMP:20260423T100830
CREATED:20250216T182312Z
LAST-MODIFIED:20250216T182431Z
UID:10038448-1840053600-1840057200@colorcomunitaria.org
SUMMARY:Emociones con esencia (R)
DESCRIPTION:
URL:https://colorcomunitaria.org/evento/emociones-con-esencia-r/2028-04-22/
END:VEVENT
END:VCALENDAR