BEGIN:VCALENDAR
VERSION:2.0
PRODID:-//Color comunitaria - ECPv6.9.1//NONSGML v1.0//EN
CALSCALE:GREGORIAN
METHOD:PUBLISH
X-ORIGINAL-URL:https://colorcomunitaria.org
X-WR-CALDESC:Eventos para Color comunitaria
REFRESH-INTERVAL;VALUE=DURATION:PT1H
X-Robots-Tag:noindex
X-PUBLISHED-TTL:PT1H
BEGIN:VTIMEZONE
TZID:Europe/Madrid
BEGIN:DAYLIGHT
TZOFFSETFROM:+0100
TZOFFSETTO:+0200
TZNAME:CEST
DTSTART:20280326T010000
END:DAYLIGHT
BEGIN:STANDARD
TZOFFSETFROM:+0200
TZOFFSETTO:+0100
TZNAME:CET
DTSTART:20281029T010000
END:STANDARD
END:VTIMEZONE
BEGIN:VEVENT
DTSTART;TZID=Europe/Madrid:20280425T010000
DTEND;TZID=Europe/Madrid:20280425T020000
DTSTAMP:20260423T120824
CREATED:20250216T173544Z
LAST-MODIFIED:20250216T173632Z
UID:10022405-1840237200-1840240800@colorcomunitaria.org
SUMMARY:Informativo De este a Oeste (OLA) (R)
DESCRIPTION:
URL:https://colorcomunitaria.org/evento/informativo-de-este-a-oeste-ola-r/2028-04-25/
END:VEVENT
BEGIN:VEVENT
DTSTART;TZID=Europe/Madrid:20280425T020000
DTEND;TZID=Europe/Madrid:20280425T040000
DTSTAMP:20260423T120824
CREATED:20250216T180923Z
LAST-MODIFIED:20250216T181107Z
UID:10033956-1840240800-1840248000@colorcomunitaria.org
SUMMARY:Radioteatros Bicicleta Atómica y Audiodrama Colectivo
DESCRIPTION:
URL:https://colorcomunitaria.org/evento/radioteatros-bicicleta-atomica-y-audiodrama-colectivo/2028-04-25/
END:VEVENT
BEGIN:VEVENT
DTSTART;TZID=Europe/Madrid:20280425T083000
DTEND;TZID=Europe/Madrid:20280425T100000
DTSTAMP:20260423T120824
CREATED:20250214T170834Z
LAST-MODIFIED:20250214T170906Z
UID:10011560-1840264200-1840269600@colorcomunitaria.org
SUMMARY:Informativo De este a Oeste (OLA)
DESCRIPTION:
URL:https://colorcomunitaria.org/evento/informativo-de-este-a-oeste-ola/2028-04-25/
END:VEVENT
BEGIN:VEVENT
DTSTART;TZID=Europe/Madrid:20280425T100000
DTEND;TZID=Europe/Madrid:20280425T100500
DTSTAMP:20260423T120824
CREATED:20250214T171100Z
LAST-MODIFIED:20250214T171102Z
UID:10012873-1840269600-1840269900@colorcomunitaria.org
SUMMARY:Boletín informativo OLA
DESCRIPTION:
URL:https://colorcomunitaria.org/evento/boletin-informativo-ola-2/2028-04-25/
END:VEVENT
BEGIN:VEVENT
DTSTART;TZID=Europe/Madrid:20280425T100500
DTEND;TZID=Europe/Madrid:20280425T103500
DTSTAMP:20260423T120824
CREATED:20250121T155655Z
LAST-MODIFIED:20250214T162406Z
UID:10008685-1840269900-1840271700@colorcomunitaria.org
SUMMARY:Cerca de tu casa
DESCRIPTION:Magacín sobre lo que pasa en Palma Palmilla. Colabora Junta de Distrito 5 Palma Palmilla del Ayuntamiento  de Málaga.
URL:https://colorcomunitaria.org/evento/cerca-de-tu-casa/2028-04-25/
CATEGORIES:Palma Palmilla
ATTACH;FMTTYPE=image/jpeg:https://colorcomunitaria.org/wp-content/uploads/2025/01/imagen-loco-cdtc-cerca-de-tu-casa-grande-e1737380447434.jpg
END:VEVENT
BEGIN:VEVENT
DTSTART;TZID=Europe/Madrid:20280425T103500
DTEND;TZID=Europe/Madrid:20280425T104500
DTSTAMP:20260423T120824
CREATED:20250216T172831Z
LAST-MODIFIED:20250216T173153Z
UID:10015927-1840271700-1840272300@colorcomunitaria.org
SUMMARY:Cerca de tu casa - Málaga
DESCRIPTION:
URL:https://colorcomunitaria.org/evento/cerca-de-tu-casa-edicion-malaga/2028-04-25/
END:VEVENT
BEGIN:VEVENT
DTSTART;TZID=Europe/Madrid:20280425T110500
DTEND;TZID=Europe/Madrid:20280425T123000
DTSTAMP:20260423T120824
CREATED:20250214T165815Z
LAST-MODIFIED:20250214T165815Z
UID:10010371-1840273500-1840278600@colorcomunitaria.org
SUMMARY:La voz de vida
DESCRIPTION:
URL:https://colorcomunitaria.org/evento/la-voz-de-vida/2028-04-25/
END:VEVENT
BEGIN:VEVENT
DTSTART;TZID=Europe/Madrid:20280425T130000
DTEND;TZID=Europe/Madrid:20280425T133000
DTSTAMP:20260423T120824
CREATED:20250216T173355Z
LAST-MODIFIED:20250216T173355Z
UID:10018213-1840280400-1840282200@colorcomunitaria.org
SUMMARY:Informativo De este a Oeste (OLA)
DESCRIPTION:
URL:https://colorcomunitaria.org/evento/informativo-de-este-a-oeste-ola-2/2028-04-25/
END:VEVENT
BEGIN:VEVENT
DTSTART;TZID=Europe/Madrid:20280425T160000
DTEND;TZID=Europe/Madrid:20280425T163000
DTSTAMP:20260423T120824
CREATED:20250216T173851Z
LAST-MODIFIED:20250216T173851Z
UID:10024960-1840291200-1840293000@colorcomunitaria.org
SUMMARY:Cerca de tu casa (R)
DESCRIPTION:Magacín sobre lo que pasa en Palma Palmilla. Colabora Junta de Distrito 5 Palma Palmilla del Ayuntamiento  de Málaga.
URL:https://colorcomunitaria.org/evento/cerca-de-tu-casa-r/2028-04-25/
CATEGORIES:Palma Palmilla
ATTACH;FMTTYPE=image/jpeg:https://colorcomunitaria.org/wp-content/uploads/2025/01/imagen-loco-cdtc-cerca-de-tu-casa-grande-e1737380447434.jpg
END:VEVENT
BEGIN:VEVENT
DTSTART;TZID=Europe/Madrid:20280425T163000
DTEND;TZID=Europe/Madrid:20280425T170000
DTSTAMP:20260423T120824
CREATED:20250216T174046Z
LAST-MODIFIED:20250216T174046Z
UID:10027595-1840293000-1840294800@colorcomunitaria.org
SUMMARY:Aprender con onda
DESCRIPTION:
URL:https://colorcomunitaria.org/evento/aprender-con-onda/2028-04-25/
END:VEVENT
BEGIN:VEVENT
DTSTART;TZID=Europe/Madrid:20280425T190000
DTEND;TZID=Europe/Madrid:20280425T200000
DTSTAMP:20260423T120824
CREATED:20250216T173505Z
LAST-MODIFIED:20250216T173505Z
UID:10020309-1840302000-1840305600@colorcomunitaria.org
SUMMARY:Informativo De este a Oeste (OLA)
DESCRIPTION:
URL:https://colorcomunitaria.org/evento/informativo-de-este-a-oeste-ola-3/2028-04-25/
END:VEVENT
BEGIN:VEVENT
DTSTART;TZID=Europe/Madrid:20280425T200000
DTEND;TZID=Europe/Madrid:20280425T210000
DTSTAMP:20260423T120824
CREATED:20250214T172034Z
LAST-MODIFIED:20250214T172034Z
UID:10013781-1840305600-1840309200@colorcomunitaria.org
SUMMARY:Puentes
DESCRIPTION:
URL:https://colorcomunitaria.org/evento/puentes/2028-04-25/
END:VEVENT
BEGIN:VEVENT
DTSTART;TZID=Europe/Madrid:20280425T210000
DTEND;TZID=Europe/Madrid:20280425T220000
DTSTAMP:20260423T120824
CREATED:20250214T172202Z
LAST-MODIFIED:20250214T172202Z
UID:10014043-1840309200-1840312800@colorcomunitaria.org
SUMMARY:La voz de los sin voz
DESCRIPTION:
URL:https://colorcomunitaria.org/evento/la-voz-de-los-sin-voz/2028-04-25/
END:VEVENT
END:VCALENDAR