BEGIN:VCALENDAR
VERSION:2.0
PRODID:-//Color comunitaria - ECPv6.9.1//NONSGML v1.0//EN
CALSCALE:GREGORIAN
METHOD:PUBLISH
X-WR-CALNAME:Color comunitaria
X-ORIGINAL-URL:https://colorcomunitaria.org
X-WR-CALDESC:Eventos para Color comunitaria
REFRESH-INTERVAL;VALUE=DURATION:PT1H
X-Robots-Tag:noindex
X-PUBLISHED-TTL:PT1H
BEGIN:VTIMEZONE
TZID:Europe/Madrid
BEGIN:DAYLIGHT
TZOFFSETFROM:+0100
TZOFFSETTO:+0200
TZNAME:CEST
DTSTART:20280326T010000
END:DAYLIGHT
BEGIN:STANDARD
TZOFFSETFROM:+0200
TZOFFSETTO:+0100
TZNAME:CET
DTSTART:20281029T010000
END:STANDARD
END:VTIMEZONE
BEGIN:VEVENT
DTSTART;TZID=Europe/Madrid:20280525T010000
DTEND;TZID=Europe/Madrid:20280525T020000
DTSTAMP:20260423T192431
CREATED:20250216T173544Z
LAST-MODIFIED:20250216T173632Z
UID:10022423-1842829200-1842832800@colorcomunitaria.org
SUMMARY:Informativo De este a Oeste (OLA) (R)
DESCRIPTION:
URL:https://colorcomunitaria.org/evento/informativo-de-este-a-oeste-ola-r/2028-05-25/
END:VEVENT
BEGIN:VEVENT
DTSTART;TZID=Europe/Madrid:20280525T020000
DTEND;TZID=Europe/Madrid:20280525T040000
DTSTAMP:20260423T192431
CREATED:20250216T180923Z
LAST-MODIFIED:20250216T181107Z
UID:10033986-1842832800-1842840000@colorcomunitaria.org
SUMMARY:Radioteatros Bicicleta Atómica y Audiodrama Colectivo
DESCRIPTION:
URL:https://colorcomunitaria.org/evento/radioteatros-bicicleta-atomica-y-audiodrama-colectivo/2028-05-25/
END:VEVENT
BEGIN:VEVENT
DTSTART;TZID=Europe/Madrid:20280525T083000
DTEND;TZID=Europe/Madrid:20280525T100000
DTSTAMP:20260423T192431
CREATED:20250214T170834Z
LAST-MODIFIED:20250214T170906Z
UID:10011582-1842856200-1842861600@colorcomunitaria.org
SUMMARY:Informativo De este a Oeste (OLA)
DESCRIPTION:
URL:https://colorcomunitaria.org/evento/informativo-de-este-a-oeste-ola/2028-05-25/
END:VEVENT
BEGIN:VEVENT
DTSTART;TZID=Europe/Madrid:20280525T100000
DTEND;TZID=Europe/Madrid:20280525T100500
DTSTAMP:20260423T192431
CREATED:20250214T171100Z
LAST-MODIFIED:20250214T171102Z
UID:10012895-1842861600-1842861900@colorcomunitaria.org
SUMMARY:Boletín informativo OLA
DESCRIPTION:
URL:https://colorcomunitaria.org/evento/boletin-informativo-ola-2/2028-05-25/
END:VEVENT
BEGIN:VEVENT
DTSTART;TZID=Europe/Madrid:20280525T100500
DTEND;TZID=Europe/Madrid:20280525T103500
DTSTAMP:20260423T192431
CREATED:20250121T155655Z
LAST-MODIFIED:20250214T162406Z
UID:10008707-1842861900-1842863700@colorcomunitaria.org
SUMMARY:Cerca de tu casa
DESCRIPTION:Magacín sobre lo que pasa en Palma Palmilla. Colabora Junta de Distrito 5 Palma Palmilla del Ayuntamiento  de Málaga.
URL:https://colorcomunitaria.org/evento/cerca-de-tu-casa/2028-05-25/
CATEGORIES:Palma Palmilla
ATTACH;FMTTYPE=image/jpeg:https://colorcomunitaria.org/wp-content/uploads/2025/01/imagen-loco-cdtc-cerca-de-tu-casa-grande-e1737380447434.jpg
END:VEVENT
BEGIN:VEVENT
DTSTART;TZID=Europe/Madrid:20280525T100500
DTEND;TZID=Europe/Madrid:20280525T110000
DTSTAMP:20260423T192431
CREATED:20250216T175710Z
LAST-MODIFIED:20250216T175728Z
UID:10030859-1842861900-1842865200@colorcomunitaria.org
SUMMARY:Puentes (R)
DESCRIPTION:
URL:https://colorcomunitaria.org/evento/puentes-r/2028-05-25/
END:VEVENT
BEGIN:VEVENT
DTSTART;TZID=Europe/Madrid:20280525T103500
DTEND;TZID=Europe/Madrid:20280525T104500
DTSTAMP:20260423T192431
CREATED:20250216T172831Z
LAST-MODIFIED:20250216T173153Z
UID:10015953-1842863700-1842864300@colorcomunitaria.org
SUMMARY:Cerca de tu casa - Málaga
DESCRIPTION:
URL:https://colorcomunitaria.org/evento/cerca-de-tu-casa-edicion-malaga/2028-05-25/
END:VEVENT
BEGIN:VEVENT
DTSTART;TZID=Europe/Madrid:20280525T110500
DTEND;TZID=Europe/Madrid:20280525T113500
DTSTAMP:20260423T192431
CREATED:20250216T172357Z
LAST-MODIFIED:20250216T172357Z
UID:10014833-1842865500-1842867300@colorcomunitaria.org
SUMMARY:¿Quién vive?
DESCRIPTION:
URL:https://colorcomunitaria.org/evento/quien-vive/2028-05-25/
END:VEVENT
BEGIN:VEVENT
DTSTART;TZID=Europe/Madrid:20280525T130000
DTEND;TZID=Europe/Madrid:20280525T133000
DTSTAMP:20260423T192431
CREATED:20250216T173355Z
LAST-MODIFIED:20250216T173355Z
UID:10018231-1842872400-1842874200@colorcomunitaria.org
SUMMARY:Informativo De este a Oeste (OLA)
DESCRIPTION:
URL:https://colorcomunitaria.org/evento/informativo-de-este-a-oeste-ola-2/2028-05-25/
END:VEVENT
BEGIN:VEVENT
DTSTART;TZID=Europe/Madrid:20280525T160000
DTEND;TZID=Europe/Madrid:20280525T163000
DTSTAMP:20260423T192431
CREATED:20250216T173851Z
LAST-MODIFIED:20250216T173851Z
UID:10024982-1842883200-1842885000@colorcomunitaria.org
SUMMARY:Cerca de tu casa (R)
DESCRIPTION:Magacín sobre lo que pasa en Palma Palmilla. Colabora Junta de Distrito 5 Palma Palmilla del Ayuntamiento  de Málaga.
URL:https://colorcomunitaria.org/evento/cerca-de-tu-casa-r/2028-05-25/
CATEGORIES:Palma Palmilla
ATTACH;FMTTYPE=image/jpeg:https://colorcomunitaria.org/wp-content/uploads/2025/01/imagen-loco-cdtc-cerca-de-tu-casa-grande-e1737380447434.jpg
END:VEVENT
BEGIN:VEVENT
DTSTART;TZID=Europe/Madrid:20280525T163000
DTEND;TZID=Europe/Madrid:20280525T170000
DTSTAMP:20260423T192431
CREATED:20250216T174046Z
LAST-MODIFIED:20250216T174046Z
UID:10027617-1842885000-1842886800@colorcomunitaria.org
SUMMARY:Aprender con onda
DESCRIPTION:
URL:https://colorcomunitaria.org/evento/aprender-con-onda/2028-05-25/
END:VEVENT
BEGIN:VEVENT
DTSTART;TZID=Europe/Madrid:20280525T190000
DTEND;TZID=Europe/Madrid:20280525T200000
DTSTAMP:20260423T192431
CREATED:20250216T173505Z
LAST-MODIFIED:20250216T173505Z
UID:10020327-1842894000-1842897600@colorcomunitaria.org
SUMMARY:Informativo De este a Oeste (OLA)
DESCRIPTION:
URL:https://colorcomunitaria.org/evento/informativo-de-este-a-oeste-ola-3/2028-05-25/
END:VEVENT
BEGIN:VEVENT
DTSTART;TZID=Europe/Madrid:20280525T220000
DTEND;TZID=Europe/Madrid:20280525T223000
DTSTAMP:20260423T192431
CREATED:20250216T175357Z
LAST-MODIFIED:20250216T175357Z
UID:10030072-1842904800-1842906600@colorcomunitaria.org
SUMMARY:¿Quién vive? (R)
DESCRIPTION:
URL:https://colorcomunitaria.org/evento/quien-vive-r/2028-05-25/
END:VEVENT
END:VCALENDAR