BEGIN:VCALENDAR
VERSION:2.0
PRODID:-//Color comunitaria - ECPv6.9.1//NONSGML v1.0//EN
CALSCALE:GREGORIAN
METHOD:PUBLISH
X-ORIGINAL-URL:https://colorcomunitaria.org
X-WR-CALDESC:Eventos para Color comunitaria
REFRESH-INTERVAL;VALUE=DURATION:PT1H
X-Robots-Tag:noindex
X-PUBLISHED-TTL:PT1H
BEGIN:VTIMEZONE
TZID:Europe/Madrid
BEGIN:DAYLIGHT
TZOFFSETFROM:+0100
TZOFFSETTO:+0200
TZNAME:CEST
DTSTART:20280326T010000
END:DAYLIGHT
BEGIN:STANDARD
TZOFFSETFROM:+0200
TZOFFSETTO:+0100
TZNAME:CET
DTSTART:20281029T010000
END:STANDARD
END:VTIMEZONE
BEGIN:VEVENT
DTSTART;TZID=Europe/Madrid:20280527T010000
DTEND;TZID=Europe/Madrid:20280527T020000
DTSTAMP:20260423T192628
CREATED:20250216T180735Z
LAST-MODIFIED:20250216T180735Z
UID:10032695-1843002000-1843005600@colorcomunitaria.org
SUMMARY:Elektrodance (R)
DESCRIPTION:
URL:https://colorcomunitaria.org/evento/elektrodance-r/2028-05-27/
END:VEVENT
BEGIN:VEVENT
DTSTART;TZID=Europe/Madrid:20280527T020000
DTEND;TZID=Europe/Madrid:20280527T040000
DTSTAMP:20260423T192628
CREATED:20250216T180923Z
LAST-MODIFIED:20250216T181107Z
UID:10033988-1843005600-1843012800@colorcomunitaria.org
SUMMARY:Radioteatros Bicicleta Atómica y Audiodrama Colectivo
DESCRIPTION:
URL:https://colorcomunitaria.org/evento/radioteatros-bicicleta-atomica-y-audiodrama-colectivo/2028-05-27/
END:VEVENT
BEGIN:VEVENT
DTSTART;TZID=Europe/Madrid:20280527T080000
DTEND;TZID=Europe/Madrid:20280527T090000
DTSTAMP:20260423T192628
CREATED:20250216T180646Z
LAST-MODIFIED:20250216T180646Z
UID:10032171-1843027200-1843030800@colorcomunitaria.org
SUMMARY:Palma y Romeros (R)
DESCRIPTION:
URL:https://colorcomunitaria.org/evento/palma-y-romeros-r/2028-05-27/
END:VEVENT
BEGIN:VEVENT
DTSTART;TZID=Europe/Madrid:20280527T103500
DTEND;TZID=Europe/Madrid:20280527T104500
DTSTAMP:20260423T192628
CREATED:20250216T172831Z
LAST-MODIFIED:20250216T173153Z
UID:10015955-1843036500-1843037100@colorcomunitaria.org
SUMMARY:Cerca de tu casa - Málaga
DESCRIPTION:
URL:https://colorcomunitaria.org/evento/cerca-de-tu-casa-edicion-malaga/2028-05-27/
END:VEVENT
BEGIN:VEVENT
DTSTART;TZID=Europe/Madrid:20280527T130000
DTEND;TZID=Europe/Madrid:20280527T140000
DTSTAMP:20260423T192628
CREATED:20250216T175015Z
LAST-MODIFIED:20250216T175015Z
UID:10029024-1843045200-1843048800@colorcomunitaria.org
SUMMARY:Entre letras (R)
DESCRIPTION:
URL:https://colorcomunitaria.org/evento/entre-letras-r/2028-05-27/
END:VEVENT
BEGIN:VEVENT
DTSTART;TZID=Europe/Madrid:20280527T140000
DTEND;TZID=Europe/Madrid:20280527T150000
DTSTAMP:20260423T192628
CREATED:20250216T172205Z
LAST-MODIFIED:20250216T172205Z
UID:10014571-1843048800-1843052400@colorcomunitaria.org
SUMMARY:La Reverse Podcast
DESCRIPTION:
URL:https://colorcomunitaria.org/evento/la-reverse-podcast/2028-05-27/
END:VEVENT
BEGIN:VEVENT
DTSTART;TZID=Europe/Madrid:20280527T170000
DTEND;TZID=Europe/Madrid:20280527T180000
DTSTAMP:20260423T192628
CREATED:20250216T175931Z
LAST-MODIFIED:20250216T175931Z
UID:10031383-1843059600-1843063200@colorcomunitaria.org
SUMMARY:La voz de los sin voz (R)
DESCRIPTION:
URL:https://colorcomunitaria.org/evento/la-voz-de-los-sin-voz-r/2028-05-27/
END:VEVENT
END:VCALENDAR