BEGIN:VCALENDAR
VERSION:2.0
PRODID:-//Color comunitaria - ECPv6.9.1//NONSGML v1.0//EN
CALSCALE:GREGORIAN
METHOD:PUBLISH
X-WR-CALNAME:Color comunitaria
X-ORIGINAL-URL:https://colorcomunitaria.org
X-WR-CALDESC:Eventos para Color comunitaria
REFRESH-INTERVAL;VALUE=DURATION:PT1H
X-Robots-Tag:noindex
X-PUBLISHED-TTL:PT1H
BEGIN:VTIMEZONE
TZID:Europe/Madrid
BEGIN:DAYLIGHT
TZOFFSETFROM:+0100
TZOFFSETTO:+0200
TZNAME:CEST
DTSTART:20280326T010000
END:DAYLIGHT
BEGIN:STANDARD
TZOFFSETFROM:+0200
TZOFFSETTO:+0100
TZNAME:CET
DTSTART:20281029T010000
END:STANDARD
END:VTIMEZONE
BEGIN:VEVENT
DTSTART;TZID=Europe/Madrid:20280712T000000
DTEND;TZID=Europe/Madrid:20280712T010000
DTSTAMP:20260424T095749
CREATED:20250216T175230Z
LAST-MODIFIED:20250216T175230Z
UID:10029555-1846972800-1846976400@colorcomunitaria.org
SUMMARY:Málaga Cultura Viva (R)
DESCRIPTION:
URL:https://colorcomunitaria.org/evento/malaga-cultura-viva-r/2028-07-12/
END:VEVENT
BEGIN:VEVENT
DTSTART;TZID=Europe/Madrid:20280712T010000
DTEND;TZID=Europe/Madrid:20280712T020000
DTSTAMP:20260424T095749
CREATED:20250216T173544Z
LAST-MODIFIED:20250216T173632Z
UID:10022450-1846976400-1846980000@colorcomunitaria.org
SUMMARY:Informativo De este a Oeste (OLA) (R)
DESCRIPTION:
URL:https://colorcomunitaria.org/evento/informativo-de-este-a-oeste-ola-r/2028-07-12/
END:VEVENT
BEGIN:VEVENT
DTSTART;TZID=Europe/Madrid:20280712T020000
DTEND;TZID=Europe/Madrid:20280712T040000
DTSTAMP:20260424T095749
CREATED:20250216T180923Z
LAST-MODIFIED:20250216T181107Z
UID:10034034-1846980000-1846987200@colorcomunitaria.org
SUMMARY:Radioteatros Bicicleta Atómica y Audiodrama Colectivo
DESCRIPTION:
URL:https://colorcomunitaria.org/evento/radioteatros-bicicleta-atomica-y-audiodrama-colectivo/2028-07-12/
END:VEVENT
BEGIN:VEVENT
DTSTART;TZID=Europe/Madrid:20280712T083000
DTEND;TZID=Europe/Madrid:20280712T100000
DTSTAMP:20260424T095749
CREATED:20250214T170834Z
LAST-MODIFIED:20250214T170906Z
UID:10011616-1847003400-1847008800@colorcomunitaria.org
SUMMARY:Informativo De este a Oeste (OLA)
DESCRIPTION:
URL:https://colorcomunitaria.org/evento/informativo-de-este-a-oeste-ola/2028-07-12/
END:VEVENT
BEGIN:VEVENT
DTSTART;TZID=Europe/Madrid:20280712T100000
DTEND;TZID=Europe/Madrid:20280712T100500
DTSTAMP:20260424T095749
CREATED:20250214T171100Z
LAST-MODIFIED:20250214T171102Z
UID:10012929-1847008800-1847009100@colorcomunitaria.org
SUMMARY:Boletín informativo OLA
DESCRIPTION:
URL:https://colorcomunitaria.org/evento/boletin-informativo-ola-2/2028-07-12/
END:VEVENT
BEGIN:VEVENT
DTSTART;TZID=Europe/Madrid:20280712T100500
DTEND;TZID=Europe/Madrid:20280712T103500
DTSTAMP:20260424T095749
CREATED:20250121T155655Z
LAST-MODIFIED:20250214T162406Z
UID:10008741-1847009100-1847010900@colorcomunitaria.org
SUMMARY:Cerca de tu casa
DESCRIPTION:Magacín sobre lo que pasa en Palma Palmilla. Colabora Junta de Distrito 5 Palma Palmilla del Ayuntamiento  de Málaga.
URL:https://colorcomunitaria.org/evento/cerca-de-tu-casa/2028-07-12/
CATEGORIES:Palma Palmilla
ATTACH;FMTTYPE=image/jpeg:https://colorcomunitaria.org/wp-content/uploads/2025/01/imagen-loco-cdtc-cerca-de-tu-casa-grande-e1737380447434.jpg
END:VEVENT
BEGIN:VEVENT
DTSTART;TZID=Europe/Madrid:20280712T103500
DTEND;TZID=Europe/Madrid:20280712T104500
DTSTAMP:20260424T095749
CREATED:20250216T172831Z
LAST-MODIFIED:20250216T173153Z
UID:10015994-1847010900-1847011500@colorcomunitaria.org
SUMMARY:Cerca de tu casa - Málaga
DESCRIPTION:
URL:https://colorcomunitaria.org/evento/cerca-de-tu-casa-edicion-malaga/2028-07-12/
END:VEVENT
BEGIN:VEVENT
DTSTART;TZID=Europe/Madrid:20280712T120500
DTEND;TZID=Europe/Madrid:20280712T130000
DTSTAMP:20260424T095749
CREATED:20250214T170722Z
LAST-MODIFIED:20250214T170722Z
UID:10010644-1847016300-1847019600@colorcomunitaria.org
SUMMARY:Entre letras
DESCRIPTION:
URL:https://colorcomunitaria.org/evento/entre-letras/2028-07-12/
END:VEVENT
BEGIN:VEVENT
DTSTART;TZID=Europe/Madrid:20280712T130000
DTEND;TZID=Europe/Madrid:20280712T133000
DTSTAMP:20260424T095749
CREATED:20250216T173355Z
LAST-MODIFIED:20250216T173355Z
UID:10018258-1847019600-1847021400@colorcomunitaria.org
SUMMARY:Informativo De este a Oeste (OLA)
DESCRIPTION:
URL:https://colorcomunitaria.org/evento/informativo-de-este-a-oeste-ola-2/2028-07-12/
END:VEVENT
BEGIN:VEVENT
DTSTART;TZID=Europe/Madrid:20280712T140000
DTEND;TZID=Europe/Madrid:20280712T150000
DTSTAMP:20260424T095749
CREATED:20250214T171611Z
LAST-MODIFIED:20250214T171611Z
UID:10013529-1847023200-1847026800@colorcomunitaria.org
SUMMARY:Málaga Cultura Viva
DESCRIPTION:
URL:https://colorcomunitaria.org/evento/malaga-cultura-viva/2028-07-12/
END:VEVENT
BEGIN:VEVENT
DTSTART;TZID=Europe/Madrid:20280712T160000
DTEND;TZID=Europe/Madrid:20280712T163000
DTSTAMP:20260424T095749
CREATED:20250216T173851Z
LAST-MODIFIED:20250216T173851Z
UID:10025016-1847030400-1847032200@colorcomunitaria.org
SUMMARY:Cerca de tu casa (R)
DESCRIPTION:Magacín sobre lo que pasa en Palma Palmilla. Colabora Junta de Distrito 5 Palma Palmilla del Ayuntamiento  de Málaga.
URL:https://colorcomunitaria.org/evento/cerca-de-tu-casa-r/2028-07-12/
CATEGORIES:Palma Palmilla
ATTACH;FMTTYPE=image/jpeg:https://colorcomunitaria.org/wp-content/uploads/2025/01/imagen-loco-cdtc-cerca-de-tu-casa-grande-e1737380447434.jpg
END:VEVENT
BEGIN:VEVENT
DTSTART;TZID=Europe/Madrid:20280712T163000
DTEND;TZID=Europe/Madrid:20280712T170000
DTSTAMP:20260424T095749
CREATED:20250216T174046Z
LAST-MODIFIED:20250216T174046Z
UID:10027651-1847032200-1847034000@colorcomunitaria.org
SUMMARY:Aprender con onda
DESCRIPTION:
URL:https://colorcomunitaria.org/evento/aprender-con-onda/2028-07-12/
END:VEVENT
BEGIN:VEVENT
DTSTART;TZID=Europe/Madrid:20280712T190000
DTEND;TZID=Europe/Madrid:20280712T200000
DTSTAMP:20260424T095749
CREATED:20250216T173505Z
LAST-MODIFIED:20250216T173505Z
UID:10020354-1847041200-1847044800@colorcomunitaria.org
SUMMARY:Informativo De este a Oeste (OLA)
DESCRIPTION:
URL:https://colorcomunitaria.org/evento/informativo-de-este-a-oeste-ola-3/2028-07-12/
END:VEVENT
BEGIN:VEVENT
DTSTART;TZID=Europe/Madrid:20280712T200500
DTEND;TZID=Europe/Madrid:20280712T210000
DTSTAMP:20260424T095749
CREATED:20250216T180559Z
LAST-MODIFIED:20250216T180559Z
UID:10031654-1847045100-1847048400@colorcomunitaria.org
SUMMARY:Palma y Romeros
DESCRIPTION:
URL:https://colorcomunitaria.org/evento/palma-y-romeros/2028-07-12/
END:VEVENT
BEGIN:VEVENT
DTSTART;TZID=Europe/Madrid:20280712T220000
DTEND;TZID=Europe/Madrid:20280712T230000
DTSTAMP:20260424T095749
CREATED:20250216T174426Z
LAST-MODIFIED:20250216T174426Z
UID:10028507-1847052000-1847055600@colorcomunitaria.org
SUMMARY:Con otra mirada (R)
DESCRIPTION:
URL:https://colorcomunitaria.org/evento/con-otra-mirada-r/2028-07-12/
END:VEVENT
END:VCALENDAR