BEGIN:VCALENDAR
VERSION:2.0
PRODID:-//Color comunitaria - ECPv6.9.1//NONSGML v1.0//EN
CALSCALE:GREGORIAN
METHOD:PUBLISH
X-ORIGINAL-URL:https://colorcomunitaria.org
X-WR-CALDESC:Eventos para Color comunitaria
REFRESH-INTERVAL;VALUE=DURATION:PT1H
X-Robots-Tag:noindex
X-PUBLISHED-TTL:PT1H
BEGIN:VTIMEZONE
TZID:Europe/Madrid
BEGIN:DAYLIGHT
TZOFFSETFROM:+0100
TZOFFSETTO:+0200
TZNAME:CEST
DTSTART:20280326T010000
END:DAYLIGHT
BEGIN:STANDARD
TZOFFSETFROM:+0200
TZOFFSETTO:+0100
TZNAME:CET
DTSTART:20281029T010000
END:STANDARD
END:VTIMEZONE
BEGIN:VEVENT
DTSTART;TZID=Europe/Madrid:20280715T010000
DTEND;TZID=Europe/Madrid:20280715T020000
DTSTAMP:20260424T095936
CREATED:20250216T180735Z
LAST-MODIFIED:20250216T180735Z
UID:10032702-1847235600-1847239200@colorcomunitaria.org
SUMMARY:Elektrodance (R)
DESCRIPTION:
URL:https://colorcomunitaria.org/evento/elektrodance-r/2028-07-15/
END:VEVENT
BEGIN:VEVENT
DTSTART;TZID=Europe/Madrid:20280715T020000
DTEND;TZID=Europe/Madrid:20280715T040000
DTSTAMP:20260424T095936
CREATED:20250216T180923Z
LAST-MODIFIED:20250216T181107Z
UID:10034037-1847239200-1847246400@colorcomunitaria.org
SUMMARY:Radioteatros Bicicleta Atómica y Audiodrama Colectivo
DESCRIPTION:
URL:https://colorcomunitaria.org/evento/radioteatros-bicicleta-atomica-y-audiodrama-colectivo/2028-07-15/
END:VEVENT
BEGIN:VEVENT
DTSTART;TZID=Europe/Madrid:20280715T080000
DTEND;TZID=Europe/Madrid:20280715T090000
DTSTAMP:20260424T095936
CREATED:20250216T180646Z
LAST-MODIFIED:20250216T180646Z
UID:10032178-1847260800-1847264400@colorcomunitaria.org
SUMMARY:Palma y Romeros (R)
DESCRIPTION:
URL:https://colorcomunitaria.org/evento/palma-y-romeros-r/2028-07-15/
END:VEVENT
BEGIN:VEVENT
DTSTART;TZID=Europe/Madrid:20280715T103500
DTEND;TZID=Europe/Madrid:20280715T104500
DTSTAMP:20260424T095936
CREATED:20250216T172831Z
LAST-MODIFIED:20250216T173153Z
UID:10015997-1847270100-1847270700@colorcomunitaria.org
SUMMARY:Cerca de tu casa - Málaga
DESCRIPTION:
URL:https://colorcomunitaria.org/evento/cerca-de-tu-casa-edicion-malaga/2028-07-15/
END:VEVENT
BEGIN:VEVENT
DTSTART;TZID=Europe/Madrid:20280715T130000
DTEND;TZID=Europe/Madrid:20280715T140000
DTSTAMP:20260424T095936
CREATED:20250216T175015Z
LAST-MODIFIED:20250216T175015Z
UID:10029031-1847278800-1847282400@colorcomunitaria.org
SUMMARY:Entre letras (R)
DESCRIPTION:
URL:https://colorcomunitaria.org/evento/entre-letras-r/2028-07-15/
END:VEVENT
BEGIN:VEVENT
DTSTART;TZID=Europe/Madrid:20280715T140000
DTEND;TZID=Europe/Madrid:20280715T150000
DTSTAMP:20260424T095936
CREATED:20250216T172205Z
LAST-MODIFIED:20250216T172205Z
UID:10014578-1847282400-1847286000@colorcomunitaria.org
SUMMARY:La Reverse Podcast
DESCRIPTION:
URL:https://colorcomunitaria.org/evento/la-reverse-podcast/2028-07-15/
END:VEVENT
BEGIN:VEVENT
DTSTART;TZID=Europe/Madrid:20280715T170000
DTEND;TZID=Europe/Madrid:20280715T180000
DTSTAMP:20260424T095936
CREATED:20250216T175931Z
LAST-MODIFIED:20250216T175931Z
UID:10031390-1847293200-1847296800@colorcomunitaria.org
SUMMARY:La voz de los sin voz (R)
DESCRIPTION:
URL:https://colorcomunitaria.org/evento/la-voz-de-los-sin-voz-r/2028-07-15/
END:VEVENT
BEGIN:VEVENT
DTSTART;TZID=Europe/Madrid:20280715T220000
DTEND;TZID=Europe/Madrid:20280715T230000
DTSTAMP:20260424T095936
CREATED:20250216T182312Z
LAST-MODIFIED:20250216T182431Z
UID:10038451-1847311200-1847314800@colorcomunitaria.org
SUMMARY:Emociones con esencia (R)
DESCRIPTION:
URL:https://colorcomunitaria.org/evento/emociones-con-esencia-r/2028-07-15/
END:VEVENT
END:VCALENDAR