BEGIN:VCALENDAR
VERSION:2.0
PRODID:-//Color comunitaria - ECPv6.9.1//NONSGML v1.0//EN
CALSCALE:GREGORIAN
METHOD:PUBLISH
X-ORIGINAL-URL:https://colorcomunitaria.org
X-WR-CALDESC:Eventos para Color comunitaria
REFRESH-INTERVAL;VALUE=DURATION:PT1H
X-Robots-Tag:noindex
X-PUBLISHED-TTL:PT1H
BEGIN:VTIMEZONE
TZID:Europe/Madrid
BEGIN:DAYLIGHT
TZOFFSETFROM:+0100
TZOFFSETTO:+0200
TZNAME:CEST
DTSTART:20280326T010000
END:DAYLIGHT
BEGIN:STANDARD
TZOFFSETFROM:+0200
TZOFFSETTO:+0100
TZNAME:CET
DTSTART:20281029T010000
END:STANDARD
END:VTIMEZONE
BEGIN:VEVENT
DTSTART;TZID=Europe/Madrid:20280810T010000
DTEND;TZID=Europe/Madrid:20280810T020000
DTSTAMP:20260425T144147
CREATED:20250216T173544Z
LAST-MODIFIED:20250216T173632Z
UID:10022467-1849482000-1849485600@colorcomunitaria.org
SUMMARY:Informativo De este a Oeste (OLA) (R)
DESCRIPTION:
URL:https://colorcomunitaria.org/evento/informativo-de-este-a-oeste-ola-r/2028-08-10/
END:VEVENT
BEGIN:VEVENT
DTSTART;TZID=Europe/Madrid:20280810T020000
DTEND;TZID=Europe/Madrid:20280810T040000
DTSTAMP:20260425T144147
CREATED:20250216T180923Z
LAST-MODIFIED:20250216T181107Z
UID:10034063-1849485600-1849492800@colorcomunitaria.org
SUMMARY:Radioteatros Bicicleta Atómica y Audiodrama Colectivo
DESCRIPTION:
URL:https://colorcomunitaria.org/evento/radioteatros-bicicleta-atomica-y-audiodrama-colectivo/2028-08-10/
END:VEVENT
BEGIN:VEVENT
DTSTART;TZID=Europe/Madrid:20280810T083000
DTEND;TZID=Europe/Madrid:20280810T100000
DTSTAMP:20260425T144147
CREATED:20250214T170834Z
LAST-MODIFIED:20250214T170906Z
UID:10011637-1849509000-1849514400@colorcomunitaria.org
SUMMARY:Informativo De este a Oeste (OLA)
DESCRIPTION:
URL:https://colorcomunitaria.org/evento/informativo-de-este-a-oeste-ola/2028-08-10/
END:VEVENT
BEGIN:VEVENT
DTSTART;TZID=Europe/Madrid:20280810T100000
DTEND;TZID=Europe/Madrid:20280810T100500
DTSTAMP:20260425T144147
CREATED:20250214T171100Z
LAST-MODIFIED:20250214T171102Z
UID:10012950-1849514400-1849514700@colorcomunitaria.org
SUMMARY:Boletín informativo OLA
DESCRIPTION:
URL:https://colorcomunitaria.org/evento/boletin-informativo-ola-2/2028-08-10/
END:VEVENT
BEGIN:VEVENT
DTSTART;TZID=Europe/Madrid:20280810T100500
DTEND;TZID=Europe/Madrid:20280810T103500
DTSTAMP:20260425T144147
CREATED:20250121T155655Z
LAST-MODIFIED:20250214T162406Z
UID:10008762-1849514700-1849516500@colorcomunitaria.org
SUMMARY:Cerca de tu casa
DESCRIPTION:Magacín sobre lo que pasa en Palma Palmilla. Colabora Junta de Distrito 5 Palma Palmilla del Ayuntamiento  de Málaga.
URL:https://colorcomunitaria.org/evento/cerca-de-tu-casa/2028-08-10/
CATEGORIES:Palma Palmilla
ATTACH;FMTTYPE=image/jpeg:https://colorcomunitaria.org/wp-content/uploads/2025/01/imagen-loco-cdtc-cerca-de-tu-casa-grande-e1737380447434.jpg
END:VEVENT
BEGIN:VEVENT
DTSTART;TZID=Europe/Madrid:20280810T100500
DTEND;TZID=Europe/Madrid:20280810T110000
DTSTAMP:20260425T144147
CREATED:20250216T175710Z
LAST-MODIFIED:20250216T175728Z
UID:10030870-1849514700-1849518000@colorcomunitaria.org
SUMMARY:Puentes (R)
DESCRIPTION:
URL:https://colorcomunitaria.org/evento/puentes-r/2028-08-10/
END:VEVENT
BEGIN:VEVENT
DTSTART;TZID=Europe/Madrid:20280810T103500
DTEND;TZID=Europe/Madrid:20280810T104500
DTSTAMP:20260425T144147
CREATED:20250216T172831Z
LAST-MODIFIED:20250216T173153Z
UID:10016019-1849516500-1849517100@colorcomunitaria.org
SUMMARY:Cerca de tu casa - Málaga
DESCRIPTION:
URL:https://colorcomunitaria.org/evento/cerca-de-tu-casa-edicion-malaga/2028-08-10/
END:VEVENT
BEGIN:VEVENT
DTSTART;TZID=Europe/Madrid:20280810T110500
DTEND;TZID=Europe/Madrid:20280810T113500
DTSTAMP:20260425T144147
CREATED:20250216T172357Z
LAST-MODIFIED:20250216T172357Z
UID:10014844-1849518300-1849520100@colorcomunitaria.org
SUMMARY:¿Quién vive?
DESCRIPTION:
URL:https://colorcomunitaria.org/evento/quien-vive/2028-08-10/
END:VEVENT
BEGIN:VEVENT
DTSTART;TZID=Europe/Madrid:20280810T130000
DTEND;TZID=Europe/Madrid:20280810T133000
DTSTAMP:20260425T144147
CREATED:20250216T173355Z
LAST-MODIFIED:20250216T173355Z
UID:10018275-1849525200-1849527000@colorcomunitaria.org
SUMMARY:Informativo De este a Oeste (OLA)
DESCRIPTION:
URL:https://colorcomunitaria.org/evento/informativo-de-este-a-oeste-ola-2/2028-08-10/
END:VEVENT
BEGIN:VEVENT
DTSTART;TZID=Europe/Madrid:20280810T160000
DTEND;TZID=Europe/Madrid:20280810T163000
DTSTAMP:20260425T144147
CREATED:20250216T173851Z
LAST-MODIFIED:20250216T173851Z
UID:10025037-1849536000-1849537800@colorcomunitaria.org
SUMMARY:Cerca de tu casa (R)
DESCRIPTION:Magacín sobre lo que pasa en Palma Palmilla. Colabora Junta de Distrito 5 Palma Palmilla del Ayuntamiento  de Málaga.
URL:https://colorcomunitaria.org/evento/cerca-de-tu-casa-r/2028-08-10/
CATEGORIES:Palma Palmilla
ATTACH;FMTTYPE=image/jpeg:https://colorcomunitaria.org/wp-content/uploads/2025/01/imagen-loco-cdtc-cerca-de-tu-casa-grande-e1737380447434.jpg
END:VEVENT
BEGIN:VEVENT
DTSTART;TZID=Europe/Madrid:20280810T163000
DTEND;TZID=Europe/Madrid:20280810T170000
DTSTAMP:20260425T144147
CREATED:20250216T174046Z
LAST-MODIFIED:20250216T174046Z
UID:10027672-1849537800-1849539600@colorcomunitaria.org
SUMMARY:Aprender con onda
DESCRIPTION:
URL:https://colorcomunitaria.org/evento/aprender-con-onda/2028-08-10/
END:VEVENT
BEGIN:VEVENT
DTSTART;TZID=Europe/Madrid:20280810T190000
DTEND;TZID=Europe/Madrid:20280810T200000
DTSTAMP:20260425T144147
CREATED:20250216T173505Z
LAST-MODIFIED:20250216T173505Z
UID:10020371-1849546800-1849550400@colorcomunitaria.org
SUMMARY:Informativo De este a Oeste (OLA)
DESCRIPTION:
URL:https://colorcomunitaria.org/evento/informativo-de-este-a-oeste-ola-3/2028-08-10/
END:VEVENT
BEGIN:VEVENT
DTSTART;TZID=Europe/Madrid:20280810T220000
DTEND;TZID=Europe/Madrid:20280810T223000
DTSTAMP:20260425T144147
CREATED:20250216T175357Z
LAST-MODIFIED:20250216T175357Z
UID:10030083-1849557600-1849559400@colorcomunitaria.org
SUMMARY:¿Quién vive? (R)
DESCRIPTION:
URL:https://colorcomunitaria.org/evento/quien-vive-r/2028-08-10/
END:VEVENT
END:VCALENDAR