BEGIN:VCALENDAR
VERSION:2.0
PRODID:-//Color comunitaria - ECPv6.9.1//NONSGML v1.0//EN
CALSCALE:GREGORIAN
METHOD:PUBLISH
X-ORIGINAL-URL:https://colorcomunitaria.org
X-WR-CALDESC:Eventos para Color comunitaria
REFRESH-INTERVAL;VALUE=DURATION:PT1H
X-Robots-Tag:noindex
X-PUBLISHED-TTL:PT1H
BEGIN:VTIMEZONE
TZID:Europe/Madrid
BEGIN:DAYLIGHT
TZOFFSETFROM:+0100
TZOFFSETTO:+0200
TZNAME:CEST
DTSTART:20280326T010000
END:DAYLIGHT
BEGIN:STANDARD
TZOFFSETFROM:+0200
TZOFFSETTO:+0100
TZNAME:CET
DTSTART:20281029T010000
END:STANDARD
END:VTIMEZONE
BEGIN:VEVENT
DTSTART;TZID=Europe/Madrid:20280909T010000
DTEND;TZID=Europe/Madrid:20280909T020000
DTSTAMP:20260426T014310
CREATED:20250216T180735Z
LAST-MODIFIED:20250216T180735Z
UID:10032710-1852074000-1852077600@colorcomunitaria.org
SUMMARY:Elektrodance (R)
DESCRIPTION:
URL:https://colorcomunitaria.org/evento/elektrodance-r/2028-09-09/
END:VEVENT
BEGIN:VEVENT
DTSTART;TZID=Europe/Madrid:20280909T020000
DTEND;TZID=Europe/Madrid:20280909T040000
DTSTAMP:20260426T014310
CREATED:20250216T180923Z
LAST-MODIFIED:20250216T181107Z
UID:10034093-1852077600-1852084800@colorcomunitaria.org
SUMMARY:Radioteatros Bicicleta Atómica y Audiodrama Colectivo
DESCRIPTION:
URL:https://colorcomunitaria.org/evento/radioteatros-bicicleta-atomica-y-audiodrama-colectivo/2028-09-09/
END:VEVENT
BEGIN:VEVENT
DTSTART;TZID=Europe/Madrid:20280909T080000
DTEND;TZID=Europe/Madrid:20280909T090000
DTSTAMP:20260426T014310
CREATED:20250216T180646Z
LAST-MODIFIED:20250216T180646Z
UID:10032186-1852099200-1852102800@colorcomunitaria.org
SUMMARY:Palma y Romeros (R)
DESCRIPTION:
URL:https://colorcomunitaria.org/evento/palma-y-romeros-r/2028-09-09/
END:VEVENT
BEGIN:VEVENT
DTSTART;TZID=Europe/Madrid:20280909T103500
DTEND;TZID=Europe/Madrid:20280909T104500
DTSTAMP:20260426T014310
CREATED:20250216T172831Z
LAST-MODIFIED:20250216T173153Z
UID:10016045-1852108500-1852109100@colorcomunitaria.org
SUMMARY:Cerca de tu casa - Málaga
DESCRIPTION:
URL:https://colorcomunitaria.org/evento/cerca-de-tu-casa-edicion-malaga/2028-09-09/
END:VEVENT
BEGIN:VEVENT
DTSTART;TZID=Europe/Madrid:20280909T130000
DTEND;TZID=Europe/Madrid:20280909T140000
DTSTAMP:20260426T014310
CREATED:20250216T175015Z
LAST-MODIFIED:20250216T175015Z
UID:10029039-1852117200-1852120800@colorcomunitaria.org
SUMMARY:Entre letras (R)
DESCRIPTION:
URL:https://colorcomunitaria.org/evento/entre-letras-r/2028-09-09/
END:VEVENT
BEGIN:VEVENT
DTSTART;TZID=Europe/Madrid:20280909T140000
DTEND;TZID=Europe/Madrid:20280909T150000
DTSTAMP:20260426T014311
CREATED:20250216T172205Z
LAST-MODIFIED:20250216T172205Z
UID:10014586-1852120800-1852124400@colorcomunitaria.org
SUMMARY:La Reverse Podcast
DESCRIPTION:
URL:https://colorcomunitaria.org/evento/la-reverse-podcast/2028-09-09/
END:VEVENT
BEGIN:VEVENT
DTSTART;TZID=Europe/Madrid:20280909T170000
DTEND;TZID=Europe/Madrid:20280909T180000
DTSTAMP:20260426T014311
CREATED:20250216T175931Z
LAST-MODIFIED:20250216T175931Z
UID:10031398-1852131600-1852135200@colorcomunitaria.org
SUMMARY:La voz de los sin voz (R)
DESCRIPTION:
URL:https://colorcomunitaria.org/evento/la-voz-de-los-sin-voz-r/2028-09-09/
END:VEVENT
BEGIN:VEVENT
DTSTART;TZID=Europe/Madrid:20280909T220000
DTEND;TZID=Europe/Madrid:20280909T230000
DTSTAMP:20260426T014311
CREATED:20250216T182312Z
LAST-MODIFIED:20250216T182431Z
UID:10038453-1852149600-1852153200@colorcomunitaria.org
SUMMARY:Emociones con esencia (R)
DESCRIPTION:
URL:https://colorcomunitaria.org/evento/emociones-con-esencia-r/2028-09-09/
END:VEVENT
END:VCALENDAR