BEGIN:VCALENDAR
VERSION:2.0
PRODID:-//Color comunitaria - ECPv6.9.1//NONSGML v1.0//EN
CALSCALE:GREGORIAN
METHOD:PUBLISH
X-ORIGINAL-URL:https://colorcomunitaria.org
X-WR-CALDESC:Eventos para Color comunitaria
REFRESH-INTERVAL;VALUE=DURATION:PT1H
X-Robots-Tag:noindex
X-PUBLISHED-TTL:PT1H
BEGIN:VTIMEZONE
TZID:Europe/Madrid
BEGIN:DAYLIGHT
TZOFFSETFROM:+0100
TZOFFSETTO:+0200
TZNAME:CEST
DTSTART:20280326T010000
END:DAYLIGHT
BEGIN:STANDARD
TZOFFSETFROM:+0200
TZOFFSETTO:+0100
TZNAME:CET
DTSTART:20281029T010000
END:STANDARD
END:VTIMEZONE
BEGIN:VEVENT
DTSTART;TZID=Europe/Madrid:20280918T010000
DTEND;TZID=Europe/Madrid:20280918T020000
DTSTAMP:20260426T050037
CREATED:20250216T173544Z
LAST-MODIFIED:20250216T173632Z
UID:10022488-1852851600-1852855200@colorcomunitaria.org
SUMMARY:Informativo De este a Oeste (OLA) (R)
DESCRIPTION:
URL:https://colorcomunitaria.org/evento/informativo-de-este-a-oeste-ola-r/2028-09-18/
END:VEVENT
BEGIN:VEVENT
DTSTART;TZID=Europe/Madrid:20280918T020000
DTEND;TZID=Europe/Madrid:20280918T040000
DTSTAMP:20260426T050037
CREATED:20250216T180923Z
LAST-MODIFIED:20250216T181107Z
UID:10034102-1852855200-1852862400@colorcomunitaria.org
SUMMARY:Radioteatros Bicicleta Atómica y Audiodrama Colectivo
DESCRIPTION:
URL:https://colorcomunitaria.org/evento/radioteatros-bicicleta-atomica-y-audiodrama-colectivo/2028-09-18/
END:VEVENT
BEGIN:VEVENT
DTSTART;TZID=Europe/Madrid:20280918T083000
DTEND;TZID=Europe/Madrid:20280918T100000
DTSTAMP:20260426T050037
CREATED:20250214T170834Z
LAST-MODIFIED:20250214T170906Z
UID:10011664-1852878600-1852884000@colorcomunitaria.org
SUMMARY:Informativo De este a Oeste (OLA)
DESCRIPTION:
URL:https://colorcomunitaria.org/evento/informativo-de-este-a-oeste-ola/2028-09-18/
END:VEVENT
BEGIN:VEVENT
DTSTART;TZID=Europe/Madrid:20280918T100000
DTEND;TZID=Europe/Madrid:20280918T100500
DTSTAMP:20260426T050037
CREATED:20250214T171100Z
LAST-MODIFIED:20250214T171102Z
UID:10012977-1852884000-1852884300@colorcomunitaria.org
SUMMARY:Boletín informativo OLA
DESCRIPTION:
URL:https://colorcomunitaria.org/evento/boletin-informativo-ola-2/2028-09-18/
END:VEVENT
BEGIN:VEVENT
DTSTART;TZID=Europe/Madrid:20280918T100500
DTEND;TZID=Europe/Madrid:20280918T103500
DTSTAMP:20260426T050037
CREATED:20250121T155655Z
LAST-MODIFIED:20250214T162406Z
UID:10008789-1852884300-1852886100@colorcomunitaria.org
SUMMARY:Cerca de tu casa
DESCRIPTION:Magacín sobre lo que pasa en Palma Palmilla. Colabora Junta de Distrito 5 Palma Palmilla del Ayuntamiento  de Málaga.
URL:https://colorcomunitaria.org/evento/cerca-de-tu-casa/2028-09-18/
CATEGORIES:Palma Palmilla
ATTACH;FMTTYPE=image/jpeg:https://colorcomunitaria.org/wp-content/uploads/2025/01/imagen-loco-cdtc-cerca-de-tu-casa-grande-e1737380447434.jpg
END:VEVENT
BEGIN:VEVENT
DTSTART;TZID=Europe/Madrid:20280918T103500
DTEND;TZID=Europe/Madrid:20280918T104500
DTSTAMP:20260426T050037
CREATED:20250216T172831Z
LAST-MODIFIED:20250216T173153Z
UID:10016052-1852886100-1852886700@colorcomunitaria.org
SUMMARY:Cerca de tu casa - Málaga
DESCRIPTION:
URL:https://colorcomunitaria.org/evento/cerca-de-tu-casa-edicion-malaga/2028-09-18/
END:VEVENT
BEGIN:VEVENT
DTSTART;TZID=Europe/Madrid:20280918T110500
DTEND;TZID=Europe/Madrid:20280918T120000
DTSTAMP:20260426T050037
CREATED:20250214T162718Z
LAST-MODIFIED:20250214T162800Z
UID:10009869-1852887900-1852891200@colorcomunitaria.org
SUMMARY:Con otra mirada
DESCRIPTION:
URL:https://colorcomunitaria.org/evento/con-otra-mirada/2028-09-18/
END:VEVENT
BEGIN:VEVENT
DTSTART;TZID=Europe/Madrid:20280918T120500
DTEND;TZID=Europe/Madrid:20280918T130000
DTSTAMP:20260426T050037
CREATED:20250214T165409Z
LAST-MODIFIED:20250214T165409Z
UID:10010130-1852891500-1852894800@colorcomunitaria.org
SUMMARY:Sabemos lo que queremos
DESCRIPTION:
URL:https://colorcomunitaria.org/evento/sabemos-lo-que-queremos/2028-09-18/
END:VEVENT
BEGIN:VEVENT
DTSTART;TZID=Europe/Madrid:20280918T130000
DTEND;TZID=Europe/Madrid:20280918T133000
DTSTAMP:20260426T050037
CREATED:20250216T173355Z
LAST-MODIFIED:20250216T173355Z
UID:10018296-1852894800-1852896600@colorcomunitaria.org
SUMMARY:Informativo De este a Oeste (OLA)
DESCRIPTION:
URL:https://colorcomunitaria.org/evento/informativo-de-este-a-oeste-ola-2/2028-09-18/
END:VEVENT
BEGIN:VEVENT
DTSTART;TZID=Europe/Madrid:20280918T160000
DTEND;TZID=Europe/Madrid:20280918T163000
DTSTAMP:20260426T050037
CREATED:20250216T173851Z
LAST-MODIFIED:20250216T173851Z
UID:10025064-1852905600-1852907400@colorcomunitaria.org
SUMMARY:Cerca de tu casa (R)
DESCRIPTION:Magacín sobre lo que pasa en Palma Palmilla. Colabora Junta de Distrito 5 Palma Palmilla del Ayuntamiento  de Málaga.
URL:https://colorcomunitaria.org/evento/cerca-de-tu-casa-r/2028-09-18/
CATEGORIES:Palma Palmilla
ATTACH;FMTTYPE=image/jpeg:https://colorcomunitaria.org/wp-content/uploads/2025/01/imagen-loco-cdtc-cerca-de-tu-casa-grande-e1737380447434.jpg
END:VEVENT
BEGIN:VEVENT
DTSTART;TZID=Europe/Madrid:20280918T163000
DTEND;TZID=Europe/Madrid:20280918T170000
DTSTAMP:20260426T050037
CREATED:20250216T174046Z
LAST-MODIFIED:20250216T174046Z
UID:10027699-1852907400-1852909200@colorcomunitaria.org
SUMMARY:Aprender con onda
DESCRIPTION:
URL:https://colorcomunitaria.org/evento/aprender-con-onda/2028-09-18/
END:VEVENT
BEGIN:VEVENT
DTSTART;TZID=Europe/Madrid:20280918T190000
DTEND;TZID=Europe/Madrid:20280918T200000
DTSTAMP:20260426T050037
CREATED:20250216T173505Z
LAST-MODIFIED:20250216T173505Z
UID:10020392-1852916400-1852920000@colorcomunitaria.org
SUMMARY:Informativo De este a Oeste (OLA)
DESCRIPTION:
URL:https://colorcomunitaria.org/evento/informativo-de-este-a-oeste-ola-3/2028-09-18/
END:VEVENT
BEGIN:VEVENT
DTSTART;TZID=Europe/Madrid:20280918T200500
DTEND;TZID=Europe/Madrid:20280918T210000
DTSTAMP:20260426T050037
CREATED:20250216T182912Z
LAST-MODIFIED:20250216T183417Z
UID:10039147-1852920300-1852923600@colorcomunitaria.org
SUMMARY:Este libro está muy vivo (R)
DESCRIPTION:
URL:https://colorcomunitaria.org/evento/este-libro-esta-muy-vivo/2028-09-18/
END:VEVENT
BEGIN:VEVENT
DTSTART;TZID=Europe/Madrid:20280918T210000
DTEND;TZID=Europe/Madrid:20280918T220000
DTSTAMP:20260426T050037
CREATED:20250216T184112Z
LAST-MODIFIED:20250216T184112Z
UID:10039370-1852923600-1852927200@colorcomunitaria.org
SUMMARY:De mil colores
DESCRIPTION:
URL:https://colorcomunitaria.org/evento/de-mil-colores/2028-09-18/
END:VEVENT
END:VCALENDAR