BEGIN:VCALENDAR
VERSION:2.0
PRODID:-//Color comunitaria - ECPv6.9.1//NONSGML v1.0//EN
CALSCALE:GREGORIAN
METHOD:PUBLISH
X-ORIGINAL-URL:https://colorcomunitaria.org
X-WR-CALDESC:Eventos para Color comunitaria
REFRESH-INTERVAL;VALUE=DURATION:PT1H
X-Robots-Tag:noindex
X-PUBLISHED-TTL:PT1H
BEGIN:VTIMEZONE
TZID:Europe/Madrid
BEGIN:DAYLIGHT
TZOFFSETFROM:+0100
TZOFFSETTO:+0200
TZNAME:CEST
DTSTART:20280326T010000
END:DAYLIGHT
BEGIN:STANDARD
TZOFFSETFROM:+0200
TZOFFSETTO:+0100
TZNAME:CET
DTSTART:20281029T010000
END:STANDARD
END:VTIMEZONE
BEGIN:VEVENT
DTSTART;TZID=Europe/Madrid:20280920T000000
DTEND;TZID=Europe/Madrid:20280920T010000
DTSTAMP:20260426T051205
CREATED:20250216T175230Z
LAST-MODIFIED:20250216T175230Z
UID:10029565-1853020800-1853024400@colorcomunitaria.org
SUMMARY:Málaga Cultura Viva (R)
DESCRIPTION:
URL:https://colorcomunitaria.org/evento/malaga-cultura-viva-r/2028-09-20/
END:VEVENT
BEGIN:VEVENT
DTSTART;TZID=Europe/Madrid:20280920T010000
DTEND;TZID=Europe/Madrid:20280920T020000
DTSTAMP:20260426T051205
CREATED:20250216T173544Z
LAST-MODIFIED:20250216T173632Z
UID:10022490-1853024400-1853028000@colorcomunitaria.org
SUMMARY:Informativo De este a Oeste (OLA) (R)
DESCRIPTION:
URL:https://colorcomunitaria.org/evento/informativo-de-este-a-oeste-ola-r/2028-09-20/
END:VEVENT
BEGIN:VEVENT
DTSTART;TZID=Europe/Madrid:20280920T020000
DTEND;TZID=Europe/Madrid:20280920T040000
DTSTAMP:20260426T051205
CREATED:20250216T180923Z
LAST-MODIFIED:20250216T181107Z
UID:10034104-1853028000-1853035200@colorcomunitaria.org
SUMMARY:Radioteatros Bicicleta Atómica y Audiodrama Colectivo
DESCRIPTION:
URL:https://colorcomunitaria.org/evento/radioteatros-bicicleta-atomica-y-audiodrama-colectivo/2028-09-20/
END:VEVENT
BEGIN:VEVENT
DTSTART;TZID=Europe/Madrid:20280920T083000
DTEND;TZID=Europe/Madrid:20280920T100000
DTSTAMP:20260426T051205
CREATED:20250214T170834Z
LAST-MODIFIED:20250214T170906Z
UID:10011666-1853051400-1853056800@colorcomunitaria.org
SUMMARY:Informativo De este a Oeste (OLA)
DESCRIPTION:
URL:https://colorcomunitaria.org/evento/informativo-de-este-a-oeste-ola/2028-09-20/
END:VEVENT
BEGIN:VEVENT
DTSTART;TZID=Europe/Madrid:20280920T100000
DTEND;TZID=Europe/Madrid:20280920T100500
DTSTAMP:20260426T051205
CREATED:20250214T171100Z
LAST-MODIFIED:20250214T171102Z
UID:10012979-1853056800-1853057100@colorcomunitaria.org
SUMMARY:Boletín informativo OLA
DESCRIPTION:
URL:https://colorcomunitaria.org/evento/boletin-informativo-ola-2/2028-09-20/
END:VEVENT
BEGIN:VEVENT
DTSTART;TZID=Europe/Madrid:20280920T100500
DTEND;TZID=Europe/Madrid:20280920T103500
DTSTAMP:20260426T051205
CREATED:20250121T155655Z
LAST-MODIFIED:20250214T162406Z
UID:10008791-1853057100-1853058900@colorcomunitaria.org
SUMMARY:Cerca de tu casa
DESCRIPTION:Magacín sobre lo que pasa en Palma Palmilla. Colabora Junta de Distrito 5 Palma Palmilla del Ayuntamiento  de Málaga.
URL:https://colorcomunitaria.org/evento/cerca-de-tu-casa/2028-09-20/
CATEGORIES:Palma Palmilla
ATTACH;FMTTYPE=image/jpeg:https://colorcomunitaria.org/wp-content/uploads/2025/01/imagen-loco-cdtc-cerca-de-tu-casa-grande-e1737380447434.jpg
END:VEVENT
BEGIN:VEVENT
DTSTART;TZID=Europe/Madrid:20280920T103500
DTEND;TZID=Europe/Madrid:20280920T104500
DTSTAMP:20260426T051205
CREATED:20250216T172831Z
LAST-MODIFIED:20250216T173153Z
UID:10016054-1853058900-1853059500@colorcomunitaria.org
SUMMARY:Cerca de tu casa - Málaga
DESCRIPTION:
URL:https://colorcomunitaria.org/evento/cerca-de-tu-casa-edicion-malaga/2028-09-20/
END:VEVENT
BEGIN:VEVENT
DTSTART;TZID=Europe/Madrid:20280920T120500
DTEND;TZID=Europe/Madrid:20280920T130000
DTSTAMP:20260426T051205
CREATED:20250214T170722Z
LAST-MODIFIED:20250214T170722Z
UID:10010654-1853064300-1853067600@colorcomunitaria.org
SUMMARY:Entre letras
DESCRIPTION:
URL:https://colorcomunitaria.org/evento/entre-letras/2028-09-20/
END:VEVENT
BEGIN:VEVENT
DTSTART;TZID=Europe/Madrid:20280920T130000
DTEND;TZID=Europe/Madrid:20280920T133000
DTSTAMP:20260426T051205
CREATED:20250216T173355Z
LAST-MODIFIED:20250216T173355Z
UID:10018298-1853067600-1853069400@colorcomunitaria.org
SUMMARY:Informativo De este a Oeste (OLA)
DESCRIPTION:
URL:https://colorcomunitaria.org/evento/informativo-de-este-a-oeste-ola-2/2028-09-20/
END:VEVENT
BEGIN:VEVENT
DTSTART;TZID=Europe/Madrid:20280920T140000
DTEND;TZID=Europe/Madrid:20280920T150000
DTSTAMP:20260426T051205
CREATED:20250214T171611Z
LAST-MODIFIED:20250214T171611Z
UID:10013539-1853071200-1853074800@colorcomunitaria.org
SUMMARY:Málaga Cultura Viva
DESCRIPTION:
URL:https://colorcomunitaria.org/evento/malaga-cultura-viva/2028-09-20/
END:VEVENT
BEGIN:VEVENT
DTSTART;TZID=Europe/Madrid:20280920T160000
DTEND;TZID=Europe/Madrid:20280920T163000
DTSTAMP:20260426T051205
CREATED:20250216T173851Z
LAST-MODIFIED:20250216T173851Z
UID:10025066-1853078400-1853080200@colorcomunitaria.org
SUMMARY:Cerca de tu casa (R)
DESCRIPTION:Magacín sobre lo que pasa en Palma Palmilla. Colabora Junta de Distrito 5 Palma Palmilla del Ayuntamiento  de Málaga.
URL:https://colorcomunitaria.org/evento/cerca-de-tu-casa-r/2028-09-20/
CATEGORIES:Palma Palmilla
ATTACH;FMTTYPE=image/jpeg:https://colorcomunitaria.org/wp-content/uploads/2025/01/imagen-loco-cdtc-cerca-de-tu-casa-grande-e1737380447434.jpg
END:VEVENT
BEGIN:VEVENT
DTSTART;TZID=Europe/Madrid:20280920T163000
DTEND;TZID=Europe/Madrid:20280920T170000
DTSTAMP:20260426T051205
CREATED:20250216T174046Z
LAST-MODIFIED:20250216T174046Z
UID:10027701-1853080200-1853082000@colorcomunitaria.org
SUMMARY:Aprender con onda
DESCRIPTION:
URL:https://colorcomunitaria.org/evento/aprender-con-onda/2028-09-20/
END:VEVENT
BEGIN:VEVENT
DTSTART;TZID=Europe/Madrid:20280920T190000
DTEND;TZID=Europe/Madrid:20280920T200000
DTSTAMP:20260426T051205
CREATED:20250216T173505Z
LAST-MODIFIED:20250216T173505Z
UID:10020394-1853089200-1853092800@colorcomunitaria.org
SUMMARY:Informativo De este a Oeste (OLA)
DESCRIPTION:
URL:https://colorcomunitaria.org/evento/informativo-de-este-a-oeste-ola-3/2028-09-20/
END:VEVENT
BEGIN:VEVENT
DTSTART;TZID=Europe/Madrid:20280920T200500
DTEND;TZID=Europe/Madrid:20280920T210000
DTSTAMP:20260426T051205
CREATED:20250216T180559Z
LAST-MODIFIED:20250216T180559Z
UID:10031664-1853093100-1853096400@colorcomunitaria.org
SUMMARY:Palma y Romeros
DESCRIPTION:
URL:https://colorcomunitaria.org/evento/palma-y-romeros/2028-09-20/
END:VEVENT
BEGIN:VEVENT
DTSTART;TZID=Europe/Madrid:20280920T220000
DTEND;TZID=Europe/Madrid:20280920T230000
DTSTAMP:20260426T051205
CREATED:20250216T174426Z
LAST-MODIFIED:20250216T174426Z
UID:10028517-1853100000-1853103600@colorcomunitaria.org
SUMMARY:Con otra mirada (R)
DESCRIPTION:
URL:https://colorcomunitaria.org/evento/con-otra-mirada-r/2028-09-20/
END:VEVENT
END:VCALENDAR