BEGIN:VCALENDAR
VERSION:2.0
PRODID:-//Color comunitaria - ECPv6.9.1//NONSGML v1.0//EN
CALSCALE:GREGORIAN
METHOD:PUBLISH
X-WR-CALNAME:Color comunitaria
X-ORIGINAL-URL:https://colorcomunitaria.org
X-WR-CALDESC:Eventos para Color comunitaria
REFRESH-INTERVAL;VALUE=DURATION:PT1H
X-Robots-Tag:noindex
X-PUBLISHED-TTL:PT1H
BEGIN:VTIMEZONE
TZID:Europe/Madrid
BEGIN:DAYLIGHT
TZOFFSETFROM:+0100
TZOFFSETTO:+0200
TZNAME:CEST
DTSTART:20270328T010000
END:DAYLIGHT
BEGIN:STANDARD
TZOFFSETFROM:+0200
TZOFFSETTO:+0100
TZNAME:CET
DTSTART:20271031T010000
END:STANDARD
END:VTIMEZONE
BEGIN:VEVENT
DTSTART;TZID=Europe/Madrid:20271018T100500
DTEND;TZID=Europe/Madrid:20271018T103500
DTSTAMP:20260422T034957
CREATED:20250121T155655Z
LAST-MODIFIED:20250214T162406Z
UID:10008549-1823853900-1823855700@colorcomunitaria.org
SUMMARY:Cerca de tu casa
DESCRIPTION:Magacín sobre lo que pasa en Palma Palmilla. Colabora Junta de Distrito 5 Palma Palmilla del Ayuntamiento  de Málaga.
URL:https://colorcomunitaria.org/evento/cerca-de-tu-casa/2027-10-18/
CATEGORIES:Palma Palmilla
ATTACH;FMTTYPE=image/jpeg:https://colorcomunitaria.org/wp-content/uploads/2025/01/imagen-loco-cdtc-cerca-de-tu-casa-grande-e1737380447434.jpg
END:VEVENT
BEGIN:VEVENT
DTSTART;TZID=Europe/Madrid:20271018T160000
DTEND;TZID=Europe/Madrid:20271018T163000
DTSTAMP:20260422T034957
CREATED:20250216T173851Z
LAST-MODIFIED:20250216T173851Z
UID:10024824-1823875200-1823877000@colorcomunitaria.org
SUMMARY:Cerca de tu casa (R)
DESCRIPTION:Magacín sobre lo que pasa en Palma Palmilla. Colabora Junta de Distrito 5 Palma Palmilla del Ayuntamiento  de Málaga.
URL:https://colorcomunitaria.org/evento/cerca-de-tu-casa-r/2027-10-18/
CATEGORIES:Palma Palmilla
ATTACH;FMTTYPE=image/jpeg:https://colorcomunitaria.org/wp-content/uploads/2025/01/imagen-loco-cdtc-cerca-de-tu-casa-grande-e1737380447434.jpg
END:VEVENT
BEGIN:VEVENT
DTSTART;TZID=Europe/Madrid:20271019T100500
DTEND;TZID=Europe/Madrid:20271019T103500
DTSTAMP:20260422T034957
CREATED:20250121T155655Z
LAST-MODIFIED:20250214T162406Z
UID:10008550-1823940300-1823942100@colorcomunitaria.org
SUMMARY:Cerca de tu casa
DESCRIPTION:Magacín sobre lo que pasa en Palma Palmilla. Colabora Junta de Distrito 5 Palma Palmilla del Ayuntamiento  de Málaga.
URL:https://colorcomunitaria.org/evento/cerca-de-tu-casa/2027-10-19/
CATEGORIES:Palma Palmilla
ATTACH;FMTTYPE=image/jpeg:https://colorcomunitaria.org/wp-content/uploads/2025/01/imagen-loco-cdtc-cerca-de-tu-casa-grande-e1737380447434.jpg
END:VEVENT
BEGIN:VEVENT
DTSTART;TZID=Europe/Madrid:20271019T160000
DTEND;TZID=Europe/Madrid:20271019T163000
DTSTAMP:20260422T034957
CREATED:20250216T173851Z
LAST-MODIFIED:20250216T173851Z
UID:10024825-1823961600-1823963400@colorcomunitaria.org
SUMMARY:Cerca de tu casa (R)
DESCRIPTION:Magacín sobre lo que pasa en Palma Palmilla. Colabora Junta de Distrito 5 Palma Palmilla del Ayuntamiento  de Málaga.
URL:https://colorcomunitaria.org/evento/cerca-de-tu-casa-r/2027-10-19/
CATEGORIES:Palma Palmilla
ATTACH;FMTTYPE=image/jpeg:https://colorcomunitaria.org/wp-content/uploads/2025/01/imagen-loco-cdtc-cerca-de-tu-casa-grande-e1737380447434.jpg
END:VEVENT
BEGIN:VEVENT
DTSTART;TZID=Europe/Madrid:20271020T100500
DTEND;TZID=Europe/Madrid:20271020T103500
DTSTAMP:20260422T034957
CREATED:20250121T155655Z
LAST-MODIFIED:20250214T162406Z
UID:10008551-1824026700-1824028500@colorcomunitaria.org
SUMMARY:Cerca de tu casa
DESCRIPTION:Magacín sobre lo que pasa en Palma Palmilla. Colabora Junta de Distrito 5 Palma Palmilla del Ayuntamiento  de Málaga.
URL:https://colorcomunitaria.org/evento/cerca-de-tu-casa/2027-10-20/
CATEGORIES:Palma Palmilla
ATTACH;FMTTYPE=image/jpeg:https://colorcomunitaria.org/wp-content/uploads/2025/01/imagen-loco-cdtc-cerca-de-tu-casa-grande-e1737380447434.jpg
END:VEVENT
BEGIN:VEVENT
DTSTART;TZID=Europe/Madrid:20271020T160000
DTEND;TZID=Europe/Madrid:20271020T163000
DTSTAMP:20260422T034957
CREATED:20250216T173851Z
LAST-MODIFIED:20250216T173851Z
UID:10024826-1824048000-1824049800@colorcomunitaria.org
SUMMARY:Cerca de tu casa (R)
DESCRIPTION:Magacín sobre lo que pasa en Palma Palmilla. Colabora Junta de Distrito 5 Palma Palmilla del Ayuntamiento  de Málaga.
URL:https://colorcomunitaria.org/evento/cerca-de-tu-casa-r/2027-10-20/
CATEGORIES:Palma Palmilla
ATTACH;FMTTYPE=image/jpeg:https://colorcomunitaria.org/wp-content/uploads/2025/01/imagen-loco-cdtc-cerca-de-tu-casa-grande-e1737380447434.jpg
END:VEVENT
BEGIN:VEVENT
DTSTART;TZID=Europe/Madrid:20271021T100500
DTEND;TZID=Europe/Madrid:20271021T103500
DTSTAMP:20260422T034957
CREATED:20250121T155655Z
LAST-MODIFIED:20250214T162406Z
UID:10008552-1824113100-1824114900@colorcomunitaria.org
SUMMARY:Cerca de tu casa
DESCRIPTION:Magacín sobre lo que pasa en Palma Palmilla. Colabora Junta de Distrito 5 Palma Palmilla del Ayuntamiento  de Málaga.
URL:https://colorcomunitaria.org/evento/cerca-de-tu-casa/2027-10-21/
CATEGORIES:Palma Palmilla
ATTACH;FMTTYPE=image/jpeg:https://colorcomunitaria.org/wp-content/uploads/2025/01/imagen-loco-cdtc-cerca-de-tu-casa-grande-e1737380447434.jpg
END:VEVENT
BEGIN:VEVENT
DTSTART;TZID=Europe/Madrid:20271021T160000
DTEND;TZID=Europe/Madrid:20271021T163000
DTSTAMP:20260422T034957
CREATED:20250216T173851Z
LAST-MODIFIED:20250216T173851Z
UID:10024827-1824134400-1824136200@colorcomunitaria.org
SUMMARY:Cerca de tu casa (R)
DESCRIPTION:Magacín sobre lo que pasa en Palma Palmilla. Colabora Junta de Distrito 5 Palma Palmilla del Ayuntamiento  de Málaga.
URL:https://colorcomunitaria.org/evento/cerca-de-tu-casa-r/2027-10-21/
CATEGORIES:Palma Palmilla
ATTACH;FMTTYPE=image/jpeg:https://colorcomunitaria.org/wp-content/uploads/2025/01/imagen-loco-cdtc-cerca-de-tu-casa-grande-e1737380447434.jpg
END:VEVENT
BEGIN:VEVENT
DTSTART;TZID=Europe/Madrid:20271022T100500
DTEND;TZID=Europe/Madrid:20271022T103500
DTSTAMP:20260422T034957
CREATED:20250121T155655Z
LAST-MODIFIED:20250214T162406Z
UID:10008553-1824199500-1824201300@colorcomunitaria.org
SUMMARY:Cerca de tu casa
DESCRIPTION:Magacín sobre lo que pasa en Palma Palmilla. Colabora Junta de Distrito 5 Palma Palmilla del Ayuntamiento  de Málaga.
URL:https://colorcomunitaria.org/evento/cerca-de-tu-casa/2027-10-22/
CATEGORIES:Palma Palmilla
ATTACH;FMTTYPE=image/jpeg:https://colorcomunitaria.org/wp-content/uploads/2025/01/imagen-loco-cdtc-cerca-de-tu-casa-grande-e1737380447434.jpg
END:VEVENT
BEGIN:VEVENT
DTSTART;TZID=Europe/Madrid:20271022T160000
DTEND;TZID=Europe/Madrid:20271022T163000
DTSTAMP:20260422T034957
CREATED:20250216T173851Z
LAST-MODIFIED:20250216T173851Z
UID:10024828-1824220800-1824222600@colorcomunitaria.org
SUMMARY:Cerca de tu casa (R)
DESCRIPTION:Magacín sobre lo que pasa en Palma Palmilla. Colabora Junta de Distrito 5 Palma Palmilla del Ayuntamiento  de Málaga.
URL:https://colorcomunitaria.org/evento/cerca-de-tu-casa-r/2027-10-22/
CATEGORIES:Palma Palmilla
ATTACH;FMTTYPE=image/jpeg:https://colorcomunitaria.org/wp-content/uploads/2025/01/imagen-loco-cdtc-cerca-de-tu-casa-grande-e1737380447434.jpg
END:VEVENT
END:VCALENDAR