BEGIN:VCALENDAR
VERSION:2.0
PRODID:-//Color comunitaria - ECPv6.9.1//NONSGML v1.0//EN
CALSCALE:GREGORIAN
METHOD:PUBLISH
X-WR-CALNAME:Color comunitaria
X-ORIGINAL-URL:https://colorcomunitaria.org
X-WR-CALDESC:Eventos para Color comunitaria
REFRESH-INTERVAL;VALUE=DURATION:PT1H
X-Robots-Tag:noindex
X-PUBLISHED-TTL:PT1H
BEGIN:VTIMEZONE
TZID:Europe/Madrid
BEGIN:DAYLIGHT
TZOFFSETFROM:+0100
TZOFFSETTO:+0200
TZNAME:CEST
DTSTART:20260329T010000
END:DAYLIGHT
BEGIN:STANDARD
TZOFFSETFROM:+0200
TZOFFSETTO:+0100
TZNAME:CET
DTSTART:20261025T010000
END:STANDARD
END:VTIMEZONE
BEGIN:VEVENT
DTSTART;TZID=Europe/Madrid:20260420T110500
DTEND;TZID=Europe/Madrid:20260420T120000
DTSTAMP:20260419T191110
CREATED:20250214T162718Z
LAST-MODIFIED:20250214T162800Z
UID:10009743-1776683100-1776686400@colorcomunitaria.org
SUMMARY:Con otra mirada
DESCRIPTION:
URL:https://colorcomunitaria.org/evento/con-otra-mirada/2026-04-20/
END:VEVENT
BEGIN:VEVENT
DTSTART;TZID=Europe/Madrid:20260422T220000
DTEND;TZID=Europe/Madrid:20260422T230000
DTSTAMP:20260419T191110
CREATED:20250216T174426Z
LAST-MODIFIED:20250216T174426Z
UID:10028391-1776895200-1776898800@colorcomunitaria.org
SUMMARY:Con otra mirada (R)
DESCRIPTION:
URL:https://colorcomunitaria.org/evento/con-otra-mirada-r/2026-04-22/
END:VEVENT
BEGIN:VEVENT
DTSTART;TZID=Europe/Madrid:20260427T110500
DTEND;TZID=Europe/Madrid:20260427T120000
DTSTAMP:20260419T191110
CREATED:20250214T162718Z
LAST-MODIFIED:20250214T162800Z
UID:10009744-1777287900-1777291200@colorcomunitaria.org
SUMMARY:Con otra mirada
DESCRIPTION:
URL:https://colorcomunitaria.org/evento/con-otra-mirada/2026-04-27/
END:VEVENT
BEGIN:VEVENT
DTSTART;TZID=Europe/Madrid:20260429T220000
DTEND;TZID=Europe/Madrid:20260429T230000
DTSTAMP:20260419T191110
CREATED:20250216T174426Z
LAST-MODIFIED:20250216T174426Z
UID:10028392-1777500000-1777503600@colorcomunitaria.org
SUMMARY:Con otra mirada (R)
DESCRIPTION:
URL:https://colorcomunitaria.org/evento/con-otra-mirada-r/2026-04-29/
END:VEVENT
BEGIN:VEVENT
DTSTART;TZID=Europe/Madrid:20260504T110500
DTEND;TZID=Europe/Madrid:20260504T120000
DTSTAMP:20260419T191110
CREATED:20250214T162718Z
LAST-MODIFIED:20250214T162800Z
UID:10009745-1777892700-1777896000@colorcomunitaria.org
SUMMARY:Con otra mirada
DESCRIPTION:
URL:https://colorcomunitaria.org/evento/con-otra-mirada/2026-05-04/
END:VEVENT
BEGIN:VEVENT
DTSTART;TZID=Europe/Madrid:20260506T220000
DTEND;TZID=Europe/Madrid:20260506T230000
DTSTAMP:20260419T191110
CREATED:20250216T174426Z
LAST-MODIFIED:20250216T174426Z
UID:10028393-1778104800-1778108400@colorcomunitaria.org
SUMMARY:Con otra mirada (R)
DESCRIPTION:
URL:https://colorcomunitaria.org/evento/con-otra-mirada-r/2026-05-06/
END:VEVENT
BEGIN:VEVENT
DTSTART;TZID=Europe/Madrid:20260511T110500
DTEND;TZID=Europe/Madrid:20260511T120000
DTSTAMP:20260419T191110
CREATED:20250214T162718Z
LAST-MODIFIED:20250214T162800Z
UID:10009746-1778497500-1778500800@colorcomunitaria.org
SUMMARY:Con otra mirada
DESCRIPTION:
URL:https://colorcomunitaria.org/evento/con-otra-mirada/2026-05-11/
END:VEVENT
BEGIN:VEVENT
DTSTART;TZID=Europe/Madrid:20260513T220000
DTEND;TZID=Europe/Madrid:20260513T230000
DTSTAMP:20260419T191110
CREATED:20250216T174426Z
LAST-MODIFIED:20250216T174426Z
UID:10028394-1778709600-1778713200@colorcomunitaria.org
SUMMARY:Con otra mirada (R)
DESCRIPTION:
URL:https://colorcomunitaria.org/evento/con-otra-mirada-r/2026-05-13/
END:VEVENT
BEGIN:VEVENT
DTSTART;TZID=Europe/Madrid:20260518T110500
DTEND;TZID=Europe/Madrid:20260518T120000
DTSTAMP:20260419T191110
CREATED:20250214T162718Z
LAST-MODIFIED:20250214T162800Z
UID:10009747-1779102300-1779105600@colorcomunitaria.org
SUMMARY:Con otra mirada
DESCRIPTION:
URL:https://colorcomunitaria.org/evento/con-otra-mirada/2026-05-18/
END:VEVENT
BEGIN:VEVENT
DTSTART;TZID=Europe/Madrid:20260520T220000
DTEND;TZID=Europe/Madrid:20260520T230000
DTSTAMP:20260419T191110
CREATED:20250216T174426Z
LAST-MODIFIED:20250216T174426Z
UID:10028395-1779314400-1779318000@colorcomunitaria.org
SUMMARY:Con otra mirada (R)
DESCRIPTION:
URL:https://colorcomunitaria.org/evento/con-otra-mirada-r/2026-05-20/
END:VEVENT
BEGIN:VEVENT
DTSTART;TZID=Europe/Madrid:20260525T110500
DTEND;TZID=Europe/Madrid:20260525T120000
DTSTAMP:20260419T191110
CREATED:20250214T162718Z
LAST-MODIFIED:20250214T162800Z
UID:10009748-1779707100-1779710400@colorcomunitaria.org
SUMMARY:Con otra mirada
DESCRIPTION:
URL:https://colorcomunitaria.org/evento/con-otra-mirada/2026-05-25/
END:VEVENT
BEGIN:VEVENT
DTSTART;TZID=Europe/Madrid:20260527T220000
DTEND;TZID=Europe/Madrid:20260527T230000
DTSTAMP:20260419T191110
CREATED:20250216T174426Z
LAST-MODIFIED:20250216T174426Z
UID:10028396-1779919200-1779922800@colorcomunitaria.org
SUMMARY:Con otra mirada (R)
DESCRIPTION:
URL:https://colorcomunitaria.org/evento/con-otra-mirada-r/2026-05-27/
END:VEVENT
BEGIN:VEVENT
DTSTART;TZID=Europe/Madrid:20260601T110500
DTEND;TZID=Europe/Madrid:20260601T120000
DTSTAMP:20260419T191110
CREATED:20250214T162718Z
LAST-MODIFIED:20250214T162800Z
UID:10009749-1780311900-1780315200@colorcomunitaria.org
SUMMARY:Con otra mirada
DESCRIPTION:
URL:https://colorcomunitaria.org/evento/con-otra-mirada/2026-06-01/
END:VEVENT
BEGIN:VEVENT
DTSTART;TZID=Europe/Madrid:20260603T220000
DTEND;TZID=Europe/Madrid:20260603T230000
DTSTAMP:20260419T191110
CREATED:20250216T174426Z
LAST-MODIFIED:20250216T174426Z
UID:10028397-1780524000-1780527600@colorcomunitaria.org
SUMMARY:Con otra mirada (R)
DESCRIPTION:
URL:https://colorcomunitaria.org/evento/con-otra-mirada-r/2026-06-03/
END:VEVENT
BEGIN:VEVENT
DTSTART;TZID=Europe/Madrid:20260608T110500
DTEND;TZID=Europe/Madrid:20260608T120000
DTSTAMP:20260419T191110
CREATED:20250214T162718Z
LAST-MODIFIED:20250214T162800Z
UID:10009750-1780916700-1780920000@colorcomunitaria.org
SUMMARY:Con otra mirada
DESCRIPTION:
URL:https://colorcomunitaria.org/evento/con-otra-mirada/2026-06-08/
END:VEVENT
BEGIN:VEVENT
DTSTART;TZID=Europe/Madrid:20260610T220000
DTEND;TZID=Europe/Madrid:20260610T230000
DTSTAMP:20260419T191110
CREATED:20250216T174426Z
LAST-MODIFIED:20250216T174426Z
UID:10028398-1781128800-1781132400@colorcomunitaria.org
SUMMARY:Con otra mirada (R)
DESCRIPTION:
URL:https://colorcomunitaria.org/evento/con-otra-mirada-r/2026-06-10/
END:VEVENT
BEGIN:VEVENT
DTSTART;TZID=Europe/Madrid:20260615T110500
DTEND;TZID=Europe/Madrid:20260615T120000
DTSTAMP:20260419T191110
CREATED:20250214T162718Z
LAST-MODIFIED:20250214T162800Z
UID:10009751-1781521500-1781524800@colorcomunitaria.org
SUMMARY:Con otra mirada
DESCRIPTION:
URL:https://colorcomunitaria.org/evento/con-otra-mirada/2026-06-15/
END:VEVENT
BEGIN:VEVENT
DTSTART;TZID=Europe/Madrid:20260617T220000
DTEND;TZID=Europe/Madrid:20260617T230000
DTSTAMP:20260419T191110
CREATED:20250216T174426Z
LAST-MODIFIED:20250216T174426Z
UID:10028399-1781733600-1781737200@colorcomunitaria.org
SUMMARY:Con otra mirada (R)
DESCRIPTION:
URL:https://colorcomunitaria.org/evento/con-otra-mirada-r/2026-06-17/
END:VEVENT
BEGIN:VEVENT
DTSTART;TZID=Europe/Madrid:20260622T110500
DTEND;TZID=Europe/Madrid:20260622T120000
DTSTAMP:20260419T191110
CREATED:20250214T162718Z
LAST-MODIFIED:20250214T162800Z
UID:10009752-1782126300-1782129600@colorcomunitaria.org
SUMMARY:Con otra mirada
DESCRIPTION:
URL:https://colorcomunitaria.org/evento/con-otra-mirada/2026-06-22/
END:VEVENT
BEGIN:VEVENT
DTSTART;TZID=Europe/Madrid:20260624T220000
DTEND;TZID=Europe/Madrid:20260624T230000
DTSTAMP:20260419T191110
CREATED:20250216T174426Z
LAST-MODIFIED:20250216T174426Z
UID:10028400-1782338400-1782342000@colorcomunitaria.org
SUMMARY:Con otra mirada (R)
DESCRIPTION:
URL:https://colorcomunitaria.org/evento/con-otra-mirada-r/2026-06-24/
END:VEVENT
BEGIN:VEVENT
DTSTART;TZID=Europe/Madrid:20260629T110500
DTEND;TZID=Europe/Madrid:20260629T120000
DTSTAMP:20260419T191110
CREATED:20250214T162718Z
LAST-MODIFIED:20250214T162800Z
UID:10009753-1782731100-1782734400@colorcomunitaria.org
SUMMARY:Con otra mirada
DESCRIPTION:
URL:https://colorcomunitaria.org/evento/con-otra-mirada/2026-06-29/
END:VEVENT
BEGIN:VEVENT
DTSTART;TZID=Europe/Madrid:20260701T220000
DTEND;TZID=Europe/Madrid:20260701T230000
DTSTAMP:20260419T191110
CREATED:20250216T174426Z
LAST-MODIFIED:20250216T174426Z
UID:10028401-1782943200-1782946800@colorcomunitaria.org
SUMMARY:Con otra mirada (R)
DESCRIPTION:
URL:https://colorcomunitaria.org/evento/con-otra-mirada-r/2026-07-01/
END:VEVENT
BEGIN:VEVENT
DTSTART;TZID=Europe/Madrid:20260706T110500
DTEND;TZID=Europe/Madrid:20260706T120000
DTSTAMP:20260419T191110
CREATED:20250214T162718Z
LAST-MODIFIED:20250214T162800Z
UID:10009754-1783335900-1783339200@colorcomunitaria.org
SUMMARY:Con otra mirada
DESCRIPTION:
URL:https://colorcomunitaria.org/evento/con-otra-mirada/2026-07-06/
END:VEVENT
BEGIN:VEVENT
DTSTART;TZID=Europe/Madrid:20260708T220000
DTEND;TZID=Europe/Madrid:20260708T230000
DTSTAMP:20260419T191110
CREATED:20250216T174426Z
LAST-MODIFIED:20250216T174426Z
UID:10028402-1783548000-1783551600@colorcomunitaria.org
SUMMARY:Con otra mirada (R)
DESCRIPTION:
URL:https://colorcomunitaria.org/evento/con-otra-mirada-r/2026-07-08/
END:VEVENT
BEGIN:VEVENT
DTSTART;TZID=Europe/Madrid:20260713T110500
DTEND;TZID=Europe/Madrid:20260713T120000
DTSTAMP:20260419T191110
CREATED:20250214T162718Z
LAST-MODIFIED:20250214T162800Z
UID:10009755-1783940700-1783944000@colorcomunitaria.org
SUMMARY:Con otra mirada
DESCRIPTION:
URL:https://colorcomunitaria.org/evento/con-otra-mirada/2026-07-13/
END:VEVENT
BEGIN:VEVENT
DTSTART;TZID=Europe/Madrid:20260715T220000
DTEND;TZID=Europe/Madrid:20260715T230000
DTSTAMP:20260419T191110
CREATED:20250216T174426Z
LAST-MODIFIED:20250216T174426Z
UID:10028403-1784152800-1784156400@colorcomunitaria.org
SUMMARY:Con otra mirada (R)
DESCRIPTION:
URL:https://colorcomunitaria.org/evento/con-otra-mirada-r/2026-07-15/
END:VEVENT
BEGIN:VEVENT
DTSTART;TZID=Europe/Madrid:20260720T110500
DTEND;TZID=Europe/Madrid:20260720T120000
DTSTAMP:20260419T191110
CREATED:20250214T162718Z
LAST-MODIFIED:20250214T162800Z
UID:10009756-1784545500-1784548800@colorcomunitaria.org
SUMMARY:Con otra mirada
DESCRIPTION:
URL:https://colorcomunitaria.org/evento/con-otra-mirada/2026-07-20/
END:VEVENT
BEGIN:VEVENT
DTSTART;TZID=Europe/Madrid:20260722T220000
DTEND;TZID=Europe/Madrid:20260722T230000
DTSTAMP:20260419T191110
CREATED:20250216T174426Z
LAST-MODIFIED:20250216T174426Z
UID:10028404-1784757600-1784761200@colorcomunitaria.org
SUMMARY:Con otra mirada (R)
DESCRIPTION:
URL:https://colorcomunitaria.org/evento/con-otra-mirada-r/2026-07-22/
END:VEVENT
BEGIN:VEVENT
DTSTART;TZID=Europe/Madrid:20260727T110500
DTEND;TZID=Europe/Madrid:20260727T120000
DTSTAMP:20260419T191110
CREATED:20250214T162718Z
LAST-MODIFIED:20250214T162800Z
UID:10009757-1785150300-1785153600@colorcomunitaria.org
SUMMARY:Con otra mirada
DESCRIPTION:
URL:https://colorcomunitaria.org/evento/con-otra-mirada/2026-07-27/
END:VEVENT
BEGIN:VEVENT
DTSTART;TZID=Europe/Madrid:20260729T220000
DTEND;TZID=Europe/Madrid:20260729T230000
DTSTAMP:20260419T191110
CREATED:20250216T174426Z
LAST-MODIFIED:20250216T174426Z
UID:10028405-1785362400-1785366000@colorcomunitaria.org
SUMMARY:Con otra mirada (R)
DESCRIPTION:
URL:https://colorcomunitaria.org/evento/con-otra-mirada-r/2026-07-29/
END:VEVENT
END:VCALENDAR