BEGIN:VCALENDAR
VERSION:2.0
PRODID:-//Color comunitaria - ECPv6.9.1//NONSGML v1.0//EN
CALSCALE:GREGORIAN
METHOD:PUBLISH
X-WR-CALNAME:Color comunitaria
X-ORIGINAL-URL:https://colorcomunitaria.org
X-WR-CALDESC:Eventos para Color comunitaria
REFRESH-INTERVAL;VALUE=DURATION:PT1H
X-Robots-Tag:noindex
X-PUBLISHED-TTL:PT1H
BEGIN:VTIMEZONE
TZID:Europe/Madrid
BEGIN:DAYLIGHT
TZOFFSETFROM:+0100
TZOFFSETTO:+0200
TZNAME:CEST
DTSTART:20260329T010000
END:DAYLIGHT
BEGIN:STANDARD
TZOFFSETFROM:+0200
TZOFFSETTO:+0100
TZNAME:CET
DTSTART:20261025T010000
END:STANDARD
BEGIN:DAYLIGHT
TZOFFSETFROM:+0100
TZOFFSETTO:+0200
TZNAME:CEST
DTSTART:20270328T010000
END:DAYLIGHT
BEGIN:STANDARD
TZOFFSETFROM:+0200
TZOFFSETTO:+0100
TZNAME:CET
DTSTART:20271031T010000
END:STANDARD
END:VTIMEZONE
BEGIN:VEVENT
DTSTART;TZID=Europe/Madrid:20260508T180500
DTEND;TZID=Europe/Madrid:20260508T190000
DTSTAMP:20260421T123201
CREATED:20250216T182549Z
LAST-MODIFIED:20250216T182549Z
UID:10038486-1778263500-1778266800@colorcomunitaria.org
SUMMARY:Palabras con sentido (M)
DESCRIPTION:
URL:https://colorcomunitaria.org/evento/palabras-con-sentido-m/2026-05-08/
END:VEVENT
BEGIN:VEVENT
DTSTART;TZID=Europe/Madrid:20260510T210000
DTEND;TZID=Europe/Madrid:20260510T220000
DTSTAMP:20260421T123201
CREATED:20250216T182634Z
LAST-MODIFIED:20250216T182654Z
UID:10038614-1778446800-1778450400@colorcomunitaria.org
SUMMARY:Palabras con sentido (R)
DESCRIPTION:
URL:https://colorcomunitaria.org/evento/palabras-con-sentido-r/2026-05-10/
END:VEVENT
BEGIN:VEVENT
DTSTART;TZID=Europe/Madrid:20260605T180500
DTEND;TZID=Europe/Madrid:20260605T190000
DTSTAMP:20260421T123201
CREATED:20250216T182549Z
LAST-MODIFIED:20250216T182549Z
UID:10038487-1780682700-1780686000@colorcomunitaria.org
SUMMARY:Palabras con sentido (M)
DESCRIPTION:
URL:https://colorcomunitaria.org/evento/palabras-con-sentido-m/2026-06-05/
END:VEVENT
BEGIN:VEVENT
DTSTART;TZID=Europe/Madrid:20260607T210000
DTEND;TZID=Europe/Madrid:20260607T220000
DTSTAMP:20260421T123201
CREATED:20250216T182634Z
LAST-MODIFIED:20250216T182654Z
UID:10038615-1780866000-1780869600@colorcomunitaria.org
SUMMARY:Palabras con sentido (R)
DESCRIPTION:
URL:https://colorcomunitaria.org/evento/palabras-con-sentido-r/2026-06-07/
END:VEVENT
BEGIN:VEVENT
DTSTART;TZID=Europe/Madrid:20260703T180500
DTEND;TZID=Europe/Madrid:20260703T190000
DTSTAMP:20260421T123201
CREATED:20250216T182549Z
LAST-MODIFIED:20250216T182549Z
UID:10038488-1783101900-1783105200@colorcomunitaria.org
SUMMARY:Palabras con sentido (M)
DESCRIPTION:
URL:https://colorcomunitaria.org/evento/palabras-con-sentido-m/2026-07-03/
END:VEVENT
BEGIN:VEVENT
DTSTART;TZID=Europe/Madrid:20260705T210000
DTEND;TZID=Europe/Madrid:20260705T220000
DTSTAMP:20260421T123201
CREATED:20250216T182634Z
LAST-MODIFIED:20250216T182654Z
UID:10038616-1783285200-1783288800@colorcomunitaria.org
SUMMARY:Palabras con sentido (R)
DESCRIPTION:
URL:https://colorcomunitaria.org/evento/palabras-con-sentido-r/2026-07-05/
END:VEVENT
BEGIN:VEVENT
DTSTART;TZID=Europe/Madrid:20260731T180500
DTEND;TZID=Europe/Madrid:20260731T190000
DTSTAMP:20260421T123201
CREATED:20250216T182549Z
LAST-MODIFIED:20250216T182549Z
UID:10038489-1785521100-1785524400@colorcomunitaria.org
SUMMARY:Palabras con sentido (M)
DESCRIPTION:
URL:https://colorcomunitaria.org/evento/palabras-con-sentido-m/2026-07-31/
END:VEVENT
BEGIN:VEVENT
DTSTART;TZID=Europe/Madrid:20260802T210000
DTEND;TZID=Europe/Madrid:20260802T220000
DTSTAMP:20260421T123201
CREATED:20250216T182634Z
LAST-MODIFIED:20250216T182654Z
UID:10038617-1785704400-1785708000@colorcomunitaria.org
SUMMARY:Palabras con sentido (R)
DESCRIPTION:
URL:https://colorcomunitaria.org/evento/palabras-con-sentido-r/2026-08-02/
END:VEVENT
BEGIN:VEVENT
DTSTART;TZID=Europe/Madrid:20260828T180500
DTEND;TZID=Europe/Madrid:20260828T190000
DTSTAMP:20260421T123201
CREATED:20250216T182549Z
LAST-MODIFIED:20250216T182549Z
UID:10038490-1787940300-1787943600@colorcomunitaria.org
SUMMARY:Palabras con sentido (M)
DESCRIPTION:
URL:https://colorcomunitaria.org/evento/palabras-con-sentido-m/2026-08-28/
END:VEVENT
BEGIN:VEVENT
DTSTART;TZID=Europe/Madrid:20260830T210000
DTEND;TZID=Europe/Madrid:20260830T220000
DTSTAMP:20260421T123201
CREATED:20250216T182634Z
LAST-MODIFIED:20250216T182654Z
UID:10038618-1788123600-1788127200@colorcomunitaria.org
SUMMARY:Palabras con sentido (R)
DESCRIPTION:
URL:https://colorcomunitaria.org/evento/palabras-con-sentido-r/2026-08-30/
END:VEVENT
BEGIN:VEVENT
DTSTART;TZID=Europe/Madrid:20260925T180500
DTEND;TZID=Europe/Madrid:20260925T190000
DTSTAMP:20260421T123201
CREATED:20250216T182549Z
LAST-MODIFIED:20250216T182549Z
UID:10038491-1790359500-1790362800@colorcomunitaria.org
SUMMARY:Palabras con sentido (M)
DESCRIPTION:
URL:https://colorcomunitaria.org/evento/palabras-con-sentido-m/2026-09-25/
END:VEVENT
BEGIN:VEVENT
DTSTART;TZID=Europe/Madrid:20260927T210000
DTEND;TZID=Europe/Madrid:20260927T220000
DTSTAMP:20260421T123201
CREATED:20250216T182634Z
LAST-MODIFIED:20250216T182654Z
UID:10038619-1790542800-1790546400@colorcomunitaria.org
SUMMARY:Palabras con sentido (R)
DESCRIPTION:
URL:https://colorcomunitaria.org/evento/palabras-con-sentido-r/2026-09-27/
END:VEVENT
BEGIN:VEVENT
DTSTART;TZID=Europe/Madrid:20261023T180500
DTEND;TZID=Europe/Madrid:20261023T190000
DTSTAMP:20260421T123202
CREATED:20250216T182549Z
LAST-MODIFIED:20250216T182549Z
UID:10038492-1792778700-1792782000@colorcomunitaria.org
SUMMARY:Palabras con sentido (M)
DESCRIPTION:
URL:https://colorcomunitaria.org/evento/palabras-con-sentido-m/2026-10-23/
END:VEVENT
BEGIN:VEVENT
DTSTART;TZID=Europe/Madrid:20261025T210000
DTEND;TZID=Europe/Madrid:20261025T220000
DTSTAMP:20260421T123202
CREATED:20250216T182634Z
LAST-MODIFIED:20250216T182654Z
UID:10038620-1792962000-1792965600@colorcomunitaria.org
SUMMARY:Palabras con sentido (R)
DESCRIPTION:
URL:https://colorcomunitaria.org/evento/palabras-con-sentido-r/2026-10-25/
END:VEVENT
BEGIN:VEVENT
DTSTART;TZID=Europe/Madrid:20261120T180500
DTEND;TZID=Europe/Madrid:20261120T190000
DTSTAMP:20260421T123202
CREATED:20250216T182549Z
LAST-MODIFIED:20250216T182549Z
UID:10038493-1795197900-1795201200@colorcomunitaria.org
SUMMARY:Palabras con sentido (M)
DESCRIPTION:
URL:https://colorcomunitaria.org/evento/palabras-con-sentido-m/2026-11-20/
END:VEVENT
BEGIN:VEVENT
DTSTART;TZID=Europe/Madrid:20261122T210000
DTEND;TZID=Europe/Madrid:20261122T220000
DTSTAMP:20260421T123202
CREATED:20250216T182634Z
LAST-MODIFIED:20250216T182654Z
UID:10038621-1795381200-1795384800@colorcomunitaria.org
SUMMARY:Palabras con sentido (R)
DESCRIPTION:
URL:https://colorcomunitaria.org/evento/palabras-con-sentido-r/2026-11-22/
END:VEVENT
BEGIN:VEVENT
DTSTART;TZID=Europe/Madrid:20261218T180500
DTEND;TZID=Europe/Madrid:20261218T190000
DTSTAMP:20260421T123202
CREATED:20250216T182549Z
LAST-MODIFIED:20250216T182549Z
UID:10038494-1797617100-1797620400@colorcomunitaria.org
SUMMARY:Palabras con sentido (M)
DESCRIPTION:
URL:https://colorcomunitaria.org/evento/palabras-con-sentido-m/2026-12-18/
END:VEVENT
BEGIN:VEVENT
DTSTART;TZID=Europe/Madrid:20261220T210000
DTEND;TZID=Europe/Madrid:20261220T220000
DTSTAMP:20260421T123202
CREATED:20250216T182634Z
LAST-MODIFIED:20250216T182654Z
UID:10038622-1797800400-1797804000@colorcomunitaria.org
SUMMARY:Palabras con sentido (R)
DESCRIPTION:
URL:https://colorcomunitaria.org/evento/palabras-con-sentido-r/2026-12-20/
END:VEVENT
BEGIN:VEVENT
DTSTART;TZID=Europe/Madrid:20270115T180500
DTEND;TZID=Europe/Madrid:20270115T190000
DTSTAMP:20260421T123202
CREATED:20250216T182549Z
LAST-MODIFIED:20250216T182549Z
UID:10038495-1800036300-1800039600@colorcomunitaria.org
SUMMARY:Palabras con sentido (M)
DESCRIPTION:
URL:https://colorcomunitaria.org/evento/palabras-con-sentido-m/2027-01-15/
END:VEVENT
BEGIN:VEVENT
DTSTART;TZID=Europe/Madrid:20270117T210000
DTEND;TZID=Europe/Madrid:20270117T220000
DTSTAMP:20260421T123202
CREATED:20250216T182634Z
LAST-MODIFIED:20250216T182654Z
UID:10038623-1800219600-1800223200@colorcomunitaria.org
SUMMARY:Palabras con sentido (R)
DESCRIPTION:
URL:https://colorcomunitaria.org/evento/palabras-con-sentido-r/2027-01-17/
END:VEVENT
BEGIN:VEVENT
DTSTART;TZID=Europe/Madrid:20270212T180500
DTEND;TZID=Europe/Madrid:20270212T190000
DTSTAMP:20260421T123202
CREATED:20250216T182549Z
LAST-MODIFIED:20250216T182549Z
UID:10038496-1802455500-1802458800@colorcomunitaria.org
SUMMARY:Palabras con sentido (M)
DESCRIPTION:
URL:https://colorcomunitaria.org/evento/palabras-con-sentido-m/2027-02-12/
END:VEVENT
BEGIN:VEVENT
DTSTART;TZID=Europe/Madrid:20270214T210000
DTEND;TZID=Europe/Madrid:20270214T220000
DTSTAMP:20260421T123202
CREATED:20250216T182634Z
LAST-MODIFIED:20250216T182654Z
UID:10038624-1802638800-1802642400@colorcomunitaria.org
SUMMARY:Palabras con sentido (R)
DESCRIPTION:
URL:https://colorcomunitaria.org/evento/palabras-con-sentido-r/2027-02-14/
END:VEVENT
BEGIN:VEVENT
DTSTART;TZID=Europe/Madrid:20270312T180500
DTEND;TZID=Europe/Madrid:20270312T190000
DTSTAMP:20260421T123202
CREATED:20250216T182549Z
LAST-MODIFIED:20250216T182549Z
UID:10038497-1804874700-1804878000@colorcomunitaria.org
SUMMARY:Palabras con sentido (M)
DESCRIPTION:
URL:https://colorcomunitaria.org/evento/palabras-con-sentido-m/2027-03-12/
END:VEVENT
BEGIN:VEVENT
DTSTART;TZID=Europe/Madrid:20270314T210000
DTEND;TZID=Europe/Madrid:20270314T220000
DTSTAMP:20260421T123202
CREATED:20250216T182634Z
LAST-MODIFIED:20250216T182654Z
UID:10038625-1805058000-1805061600@colorcomunitaria.org
SUMMARY:Palabras con sentido (R)
DESCRIPTION:
URL:https://colorcomunitaria.org/evento/palabras-con-sentido-r/2027-03-14/
END:VEVENT
BEGIN:VEVENT
DTSTART;TZID=Europe/Madrid:20270409T180500
DTEND;TZID=Europe/Madrid:20270409T190000
DTSTAMP:20260421T123202
CREATED:20250216T182549Z
LAST-MODIFIED:20250216T182549Z
UID:10038498-1807293900-1807297200@colorcomunitaria.org
SUMMARY:Palabras con sentido (M)
DESCRIPTION:
URL:https://colorcomunitaria.org/evento/palabras-con-sentido-m/2027-04-09/
END:VEVENT
BEGIN:VEVENT
DTSTART;TZID=Europe/Madrid:20270411T210000
DTEND;TZID=Europe/Madrid:20270411T220000
DTSTAMP:20260421T123202
CREATED:20250216T182634Z
LAST-MODIFIED:20250216T182654Z
UID:10038626-1807477200-1807480800@colorcomunitaria.org
SUMMARY:Palabras con sentido (R)
DESCRIPTION:
URL:https://colorcomunitaria.org/evento/palabras-con-sentido-r/2027-04-11/
END:VEVENT
BEGIN:VEVENT
DTSTART;TZID=Europe/Madrid:20270507T180500
DTEND;TZID=Europe/Madrid:20270507T190000
DTSTAMP:20260421T123202
CREATED:20250216T182549Z
LAST-MODIFIED:20250216T182549Z
UID:10038499-1809713100-1809716400@colorcomunitaria.org
SUMMARY:Palabras con sentido (M)
DESCRIPTION:
URL:https://colorcomunitaria.org/evento/palabras-con-sentido-m/2027-05-07/
END:VEVENT
BEGIN:VEVENT
DTSTART;TZID=Europe/Madrid:20270509T210000
DTEND;TZID=Europe/Madrid:20270509T220000
DTSTAMP:20260421T123202
CREATED:20250216T182634Z
LAST-MODIFIED:20250216T182654Z
UID:10038627-1809896400-1809900000@colorcomunitaria.org
SUMMARY:Palabras con sentido (R)
DESCRIPTION:
URL:https://colorcomunitaria.org/evento/palabras-con-sentido-r/2027-05-09/
END:VEVENT
BEGIN:VEVENT
DTSTART;TZID=Europe/Madrid:20270604T180500
DTEND;TZID=Europe/Madrid:20270604T190000
DTSTAMP:20260421T123202
CREATED:20250216T182549Z
LAST-MODIFIED:20250216T182549Z
UID:10038500-1812132300-1812135600@colorcomunitaria.org
SUMMARY:Palabras con sentido (M)
DESCRIPTION:
URL:https://colorcomunitaria.org/evento/palabras-con-sentido-m/2027-06-04/
END:VEVENT
BEGIN:VEVENT
DTSTART;TZID=Europe/Madrid:20270606T210000
DTEND;TZID=Europe/Madrid:20270606T220000
DTSTAMP:20260421T123202
CREATED:20250216T182634Z
LAST-MODIFIED:20250216T182654Z
UID:10038628-1812315600-1812319200@colorcomunitaria.org
SUMMARY:Palabras con sentido (R)
DESCRIPTION:
URL:https://colorcomunitaria.org/evento/palabras-con-sentido-r/2027-06-06/
END:VEVENT
END:VCALENDAR