BEGIN:VCALENDAR
VERSION:2.0
PRODID:-//Color comunitaria - ECPv6.9.1//NONSGML v1.0//EN
CALSCALE:GREGORIAN
METHOD:PUBLISH
X-WR-CALNAME:Color comunitaria
X-ORIGINAL-URL:https://colorcomunitaria.org
X-WR-CALDESC:Eventos para Color comunitaria
REFRESH-INTERVAL;VALUE=DURATION:PT1H
X-Robots-Tag:noindex
X-PUBLISHED-TTL:PT1H
BEGIN:VTIMEZONE
TZID:Europe/Madrid
BEGIN:DAYLIGHT
TZOFFSETFROM:+0100
TZOFFSETTO:+0200
TZNAME:CEST
DTSTART:20270328T010000
END:DAYLIGHT
BEGIN:STANDARD
TZOFFSETFROM:+0200
TZOFFSETTO:+0100
TZNAME:CET
DTSTART:20271031T010000
END:STANDARD
END:VTIMEZONE
BEGIN:VEVENT
DTSTART;TZID=Europe/Madrid:20270705T010000
DTEND;TZID=Europe/Madrid:20270705T020000
DTSTAMP:20260420T022523
CREATED:20250216T173544Z
LAST-MODIFIED:20250216T173632Z
UID:10022236-1814749200-1814752800@colorcomunitaria.org
SUMMARY:Informativo De este a Oeste (OLA) (R)
DESCRIPTION:
URL:https://colorcomunitaria.org/evento/informativo-de-este-a-oeste-ola-r/2027-07-05/
END:VEVENT
BEGIN:VEVENT
DTSTART;TZID=Europe/Madrid:20270705T020000
DTEND;TZID=Europe/Madrid:20270705T040000
DTSTAMP:20260420T022523
CREATED:20250216T180923Z
LAST-MODIFIED:20250216T181107Z
UID:10033661-1814752800-1814760000@colorcomunitaria.org
SUMMARY:Radioteatros Bicicleta Atómica y Audiodrama Colectivo
DESCRIPTION:
URL:https://colorcomunitaria.org/evento/radioteatros-bicicleta-atomica-y-audiodrama-colectivo/2027-07-05/
END:VEVENT
BEGIN:VEVENT
DTSTART;TZID=Europe/Madrid:20270705T083000
DTEND;TZID=Europe/Madrid:20270705T100000
DTSTAMP:20260420T022523
CREATED:20250214T170834Z
LAST-MODIFIED:20250214T170906Z
UID:10011349-1814776200-1814781600@colorcomunitaria.org
SUMMARY:Informativo De este a Oeste (OLA)
DESCRIPTION:
URL:https://colorcomunitaria.org/evento/informativo-de-este-a-oeste-ola/2027-07-05/
END:VEVENT
BEGIN:VEVENT
DTSTART;TZID=Europe/Madrid:20270705T100000
DTEND;TZID=Europe/Madrid:20270705T100500
DTSTAMP:20260420T022523
CREATED:20250214T171100Z
LAST-MODIFIED:20250214T171102Z
UID:10012662-1814781600-1814781900@colorcomunitaria.org
SUMMARY:Boletín informativo OLA
DESCRIPTION:
URL:https://colorcomunitaria.org/evento/boletin-informativo-ola-2/2027-07-05/
END:VEVENT
BEGIN:VEVENT
DTSTART;TZID=Europe/Madrid:20270705T100500
DTEND;TZID=Europe/Madrid:20270705T103500
DTSTAMP:20260420T022523
CREATED:20250121T155655Z
LAST-MODIFIED:20250214T162406Z
UID:10008474-1814781900-1814783700@colorcomunitaria.org
SUMMARY:Cerca de tu casa
DESCRIPTION:Magacín sobre lo que pasa en Palma Palmilla. Colabora Junta de Distrito 5 Palma Palmilla del Ayuntamiento  de Málaga.
URL:https://colorcomunitaria.org/evento/cerca-de-tu-casa/2027-07-05/
CATEGORIES:Palma Palmilla
ATTACH;FMTTYPE=image/jpeg:https://colorcomunitaria.org/wp-content/uploads/2025/01/imagen-loco-cdtc-cerca-de-tu-casa-grande-e1737380447434.jpg
END:VEVENT
BEGIN:VEVENT
DTSTART;TZID=Europe/Madrid:20270705T103500
DTEND;TZID=Europe/Madrid:20270705T104500
DTSTAMP:20260420T022523
CREATED:20250216T172831Z
LAST-MODIFIED:20250216T173153Z
UID:10015674-1814783700-1814784300@colorcomunitaria.org
SUMMARY:Cerca de tu casa - Málaga
DESCRIPTION:
URL:https://colorcomunitaria.org/evento/cerca-de-tu-casa-edicion-malaga/2027-07-05/
END:VEVENT
BEGIN:VEVENT
DTSTART;TZID=Europe/Madrid:20270705T110500
DTEND;TZID=Europe/Madrid:20270705T120000
DTSTAMP:20260420T022524
CREATED:20250214T162718Z
LAST-MODIFIED:20250214T162800Z
UID:10009806-1814785500-1814788800@colorcomunitaria.org
SUMMARY:Con otra mirada
DESCRIPTION:
URL:https://colorcomunitaria.org/evento/con-otra-mirada/2027-07-05/
END:VEVENT
BEGIN:VEVENT
DTSTART;TZID=Europe/Madrid:20270705T120500
DTEND;TZID=Europe/Madrid:20270705T130000
DTSTAMP:20260420T022524
CREATED:20250214T165409Z
LAST-MODIFIED:20250214T165409Z
UID:10010067-1814789100-1814792400@colorcomunitaria.org
SUMMARY:Sabemos lo que queremos
DESCRIPTION:
URL:https://colorcomunitaria.org/evento/sabemos-lo-que-queremos/2027-07-05/
END:VEVENT
BEGIN:VEVENT
DTSTART;TZID=Europe/Madrid:20270705T130000
DTEND;TZID=Europe/Madrid:20270705T133000
DTSTAMP:20260420T022524
CREATED:20250216T173355Z
LAST-MODIFIED:20250216T173355Z
UID:10018044-1814792400-1814794200@colorcomunitaria.org
SUMMARY:Informativo De este a Oeste (OLA)
DESCRIPTION:
URL:https://colorcomunitaria.org/evento/informativo-de-este-a-oeste-ola-2/2027-07-05/
END:VEVENT
BEGIN:VEVENT
DTSTART;TZID=Europe/Madrid:20270705T160000
DTEND;TZID=Europe/Madrid:20270705T163000
DTSTAMP:20260420T022524
CREATED:20250216T173851Z
LAST-MODIFIED:20250216T173851Z
UID:10024749-1814803200-1814805000@colorcomunitaria.org
SUMMARY:Cerca de tu casa (R)
DESCRIPTION:Magacín sobre lo que pasa en Palma Palmilla. Colabora Junta de Distrito 5 Palma Palmilla del Ayuntamiento  de Málaga.
URL:https://colorcomunitaria.org/evento/cerca-de-tu-casa-r/2027-07-05/
CATEGORIES:Palma Palmilla
ATTACH;FMTTYPE=image/jpeg:https://colorcomunitaria.org/wp-content/uploads/2025/01/imagen-loco-cdtc-cerca-de-tu-casa-grande-e1737380447434.jpg
END:VEVENT
BEGIN:VEVENT
DTSTART;TZID=Europe/Madrid:20270705T163000
DTEND;TZID=Europe/Madrid:20270705T170000
DTSTAMP:20260420T022524
CREATED:20250216T174046Z
LAST-MODIFIED:20250216T174046Z
UID:10027384-1814805000-1814806800@colorcomunitaria.org
SUMMARY:Aprender con onda
DESCRIPTION:
URL:https://colorcomunitaria.org/evento/aprender-con-onda/2027-07-05/
END:VEVENT
BEGIN:VEVENT
DTSTART;TZID=Europe/Madrid:20270705T190000
DTEND;TZID=Europe/Madrid:20270705T200000
DTSTAMP:20260420T022524
CREATED:20250216T173505Z
LAST-MODIFIED:20250216T173505Z
UID:10020140-1814814000-1814817600@colorcomunitaria.org
SUMMARY:Informativo De este a Oeste (OLA)
DESCRIPTION:
URL:https://colorcomunitaria.org/evento/informativo-de-este-a-oeste-ola-3/2027-07-05/
END:VEVENT
BEGIN:VEVENT
DTSTART;TZID=Europe/Madrid:20270705T210000
DTEND;TZID=Europe/Madrid:20270705T220000
DTSTAMP:20260420T022524
CREATED:20250216T184112Z
LAST-MODIFIED:20250216T184112Z
UID:10039307-1814821200-1814824800@colorcomunitaria.org
SUMMARY:De mil colores
DESCRIPTION:
URL:https://colorcomunitaria.org/evento/de-mil-colores/2027-07-05/
END:VEVENT
BEGIN:VEVENT
DTSTART;TZID=Europe/Madrid:20270706T010000
DTEND;TZID=Europe/Madrid:20270706T020000
DTSTAMP:20260420T022524
CREATED:20250216T173544Z
LAST-MODIFIED:20250216T173632Z
UID:10022237-1814835600-1814839200@colorcomunitaria.org
SUMMARY:Informativo De este a Oeste (OLA) (R)
DESCRIPTION:
URL:https://colorcomunitaria.org/evento/informativo-de-este-a-oeste-ola-r/2027-07-06/
END:VEVENT
BEGIN:VEVENT
DTSTART;TZID=Europe/Madrid:20270706T020000
DTEND;TZID=Europe/Madrid:20270706T040000
DTSTAMP:20260420T022524
CREATED:20250216T180923Z
LAST-MODIFIED:20250216T181107Z
UID:10033662-1814839200-1814846400@colorcomunitaria.org
SUMMARY:Radioteatros Bicicleta Atómica y Audiodrama Colectivo
DESCRIPTION:
URL:https://colorcomunitaria.org/evento/radioteatros-bicicleta-atomica-y-audiodrama-colectivo/2027-07-06/
END:VEVENT
BEGIN:VEVENT
DTSTART;TZID=Europe/Madrid:20270706T083000
DTEND;TZID=Europe/Madrid:20270706T100000
DTSTAMP:20260420T022524
CREATED:20250214T170834Z
LAST-MODIFIED:20250214T170906Z
UID:10011350-1814862600-1814868000@colorcomunitaria.org
SUMMARY:Informativo De este a Oeste (OLA)
DESCRIPTION:
URL:https://colorcomunitaria.org/evento/informativo-de-este-a-oeste-ola/2027-07-06/
END:VEVENT
BEGIN:VEVENT
DTSTART;TZID=Europe/Madrid:20270706T100000
DTEND;TZID=Europe/Madrid:20270706T100500
DTSTAMP:20260420T022524
CREATED:20250214T171100Z
LAST-MODIFIED:20250214T171102Z
UID:10012663-1814868000-1814868300@colorcomunitaria.org
SUMMARY:Boletín informativo OLA
DESCRIPTION:
URL:https://colorcomunitaria.org/evento/boletin-informativo-ola-2/2027-07-06/
END:VEVENT
BEGIN:VEVENT
DTSTART;TZID=Europe/Madrid:20270706T100500
DTEND;TZID=Europe/Madrid:20270706T103500
DTSTAMP:20260420T022524
CREATED:20250121T155655Z
LAST-MODIFIED:20250214T162406Z
UID:10008475-1814868300-1814870100@colorcomunitaria.org
SUMMARY:Cerca de tu casa
DESCRIPTION:Magacín sobre lo que pasa en Palma Palmilla. Colabora Junta de Distrito 5 Palma Palmilla del Ayuntamiento  de Málaga.
URL:https://colorcomunitaria.org/evento/cerca-de-tu-casa/2027-07-06/
CATEGORIES:Palma Palmilla
ATTACH;FMTTYPE=image/jpeg:https://colorcomunitaria.org/wp-content/uploads/2025/01/imagen-loco-cdtc-cerca-de-tu-casa-grande-e1737380447434.jpg
END:VEVENT
BEGIN:VEVENT
DTSTART;TZID=Europe/Madrid:20270706T103500
DTEND;TZID=Europe/Madrid:20270706T104500
DTSTAMP:20260420T022524
CREATED:20250216T172831Z
LAST-MODIFIED:20250216T173153Z
UID:10015675-1814870100-1814870700@colorcomunitaria.org
SUMMARY:Cerca de tu casa - Málaga
DESCRIPTION:
URL:https://colorcomunitaria.org/evento/cerca-de-tu-casa-edicion-malaga/2027-07-06/
END:VEVENT
BEGIN:VEVENT
DTSTART;TZID=Europe/Madrid:20270706T110500
DTEND;TZID=Europe/Madrid:20270706T123000
DTSTAMP:20260420T022524
CREATED:20250214T165815Z
LAST-MODIFIED:20250214T165815Z
UID:10010329-1814871900-1814877000@colorcomunitaria.org
SUMMARY:La voz de vida
DESCRIPTION:
URL:https://colorcomunitaria.org/evento/la-voz-de-vida/2027-07-06/
END:VEVENT
BEGIN:VEVENT
DTSTART;TZID=Europe/Madrid:20270706T130000
DTEND;TZID=Europe/Madrid:20270706T133000
DTSTAMP:20260420T022524
CREATED:20250216T173355Z
LAST-MODIFIED:20250216T173355Z
UID:10018045-1814878800-1814880600@colorcomunitaria.org
SUMMARY:Informativo De este a Oeste (OLA)
DESCRIPTION:
URL:https://colorcomunitaria.org/evento/informativo-de-este-a-oeste-ola-2/2027-07-06/
END:VEVENT
BEGIN:VEVENT
DTSTART;TZID=Europe/Madrid:20270706T160000
DTEND;TZID=Europe/Madrid:20270706T163000
DTSTAMP:20260420T022524
CREATED:20250216T173851Z
LAST-MODIFIED:20250216T173851Z
UID:10024750-1814889600-1814891400@colorcomunitaria.org
SUMMARY:Cerca de tu casa (R)
DESCRIPTION:Magacín sobre lo que pasa en Palma Palmilla. Colabora Junta de Distrito 5 Palma Palmilla del Ayuntamiento  de Málaga.
URL:https://colorcomunitaria.org/evento/cerca-de-tu-casa-r/2027-07-06/
CATEGORIES:Palma Palmilla
ATTACH;FMTTYPE=image/jpeg:https://colorcomunitaria.org/wp-content/uploads/2025/01/imagen-loco-cdtc-cerca-de-tu-casa-grande-e1737380447434.jpg
END:VEVENT
BEGIN:VEVENT
DTSTART;TZID=Europe/Madrid:20270706T163000
DTEND;TZID=Europe/Madrid:20270706T170000
DTSTAMP:20260420T022524
CREATED:20250216T174046Z
LAST-MODIFIED:20250216T174046Z
UID:10027385-1814891400-1814893200@colorcomunitaria.org
SUMMARY:Aprender con onda
DESCRIPTION:
URL:https://colorcomunitaria.org/evento/aprender-con-onda/2027-07-06/
END:VEVENT
BEGIN:VEVENT
DTSTART;TZID=Europe/Madrid:20270706T190000
DTEND;TZID=Europe/Madrid:20270706T200000
DTSTAMP:20260420T022524
CREATED:20250216T173505Z
LAST-MODIFIED:20250216T173505Z
UID:10020141-1814900400-1814904000@colorcomunitaria.org
SUMMARY:Informativo De este a Oeste (OLA)
DESCRIPTION:
URL:https://colorcomunitaria.org/evento/informativo-de-este-a-oeste-ola-3/2027-07-06/
END:VEVENT
BEGIN:VEVENT
DTSTART;TZID=Europe/Madrid:20270706T200000
DTEND;TZID=Europe/Madrid:20270706T210000
DTSTAMP:20260420T022524
CREATED:20250214T172034Z
LAST-MODIFIED:20250214T172034Z
UID:10013739-1814904000-1814907600@colorcomunitaria.org
SUMMARY:Puentes
DESCRIPTION:
URL:https://colorcomunitaria.org/evento/puentes/2027-07-06/
END:VEVENT
BEGIN:VEVENT
DTSTART;TZID=Europe/Madrid:20270706T210000
DTEND;TZID=Europe/Madrid:20270706T220000
DTSTAMP:20260420T022524
CREATED:20250214T172202Z
LAST-MODIFIED:20250214T172202Z
UID:10014001-1814907600-1814911200@colorcomunitaria.org
SUMMARY:La voz de los sin voz
DESCRIPTION:
URL:https://colorcomunitaria.org/evento/la-voz-de-los-sin-voz/2027-07-06/
END:VEVENT
BEGIN:VEVENT
DTSTART;TZID=Europe/Madrid:20270707T000000
DTEND;TZID=Europe/Madrid:20270707T010000
DTSTAMP:20260420T022524
CREATED:20250216T175230Z
LAST-MODIFIED:20250216T175230Z
UID:10029502-1814918400-1814922000@colorcomunitaria.org
SUMMARY:Málaga Cultura Viva (R)
DESCRIPTION:
URL:https://colorcomunitaria.org/evento/malaga-cultura-viva-r/2027-07-07/
END:VEVENT
BEGIN:VEVENT
DTSTART;TZID=Europe/Madrid:20270707T010000
DTEND;TZID=Europe/Madrid:20270707T020000
DTSTAMP:20260420T022524
CREATED:20250216T173544Z
LAST-MODIFIED:20250216T173632Z
UID:10022238-1814922000-1814925600@colorcomunitaria.org
SUMMARY:Informativo De este a Oeste (OLA) (R)
DESCRIPTION:
URL:https://colorcomunitaria.org/evento/informativo-de-este-a-oeste-ola-r/2027-07-07/
END:VEVENT
BEGIN:VEVENT
DTSTART;TZID=Europe/Madrid:20270707T020000
DTEND;TZID=Europe/Madrid:20270707T040000
DTSTAMP:20260420T022524
CREATED:20250216T180923Z
LAST-MODIFIED:20250216T181107Z
UID:10033663-1814925600-1814932800@colorcomunitaria.org
SUMMARY:Radioteatros Bicicleta Atómica y Audiodrama Colectivo
DESCRIPTION:
URL:https://colorcomunitaria.org/evento/radioteatros-bicicleta-atomica-y-audiodrama-colectivo/2027-07-07/
END:VEVENT
BEGIN:VEVENT
DTSTART;TZID=Europe/Madrid:20270707T083000
DTEND;TZID=Europe/Madrid:20270707T100000
DTSTAMP:20260420T022524
CREATED:20250214T170834Z
LAST-MODIFIED:20250214T170906Z
UID:10011351-1814949000-1814954400@colorcomunitaria.org
SUMMARY:Informativo De este a Oeste (OLA)
DESCRIPTION:
URL:https://colorcomunitaria.org/evento/informativo-de-este-a-oeste-ola/2027-07-07/
END:VEVENT
END:VCALENDAR