BEGIN:VCALENDAR
VERSION:2.0
PRODID:-//Color comunitaria - ECPv6.9.1//NONSGML v1.0//EN
CALSCALE:GREGORIAN
METHOD:PUBLISH
X-ORIGINAL-URL:https://colorcomunitaria.org
X-WR-CALDESC:Eventos para Color comunitaria
REFRESH-INTERVAL;VALUE=DURATION:PT1H
X-Robots-Tag:noindex
X-PUBLISHED-TTL:PT1H
BEGIN:VTIMEZONE
TZID:Europe/Madrid
BEGIN:DAYLIGHT
TZOFFSETFROM:+0100
TZOFFSETTO:+0200
TZNAME:CEST
DTSTART:20270328T010000
END:DAYLIGHT
BEGIN:STANDARD
TZOFFSETFROM:+0200
TZOFFSETTO:+0100
TZNAME:CET
DTSTART:20271031T010000
END:STANDARD
END:VTIMEZONE
BEGIN:VEVENT
DTSTART;TZID=Europe/Madrid:20270802T010000
DTEND;TZID=Europe/Madrid:20270802T020000
DTSTAMP:20260420T094353
CREATED:20250216T173544Z
LAST-MODIFIED:20250216T173632Z
UID:10022252-1817168400-1817172000@colorcomunitaria.org
SUMMARY:Informativo De este a Oeste (OLA) (R)
DESCRIPTION:
URL:https://colorcomunitaria.org/evento/informativo-de-este-a-oeste-ola-r/2027-08-02/
END:VEVENT
BEGIN:VEVENT
DTSTART;TZID=Europe/Madrid:20270802T020000
DTEND;TZID=Europe/Madrid:20270802T040000
DTSTAMP:20260420T094353
CREATED:20250216T180923Z
LAST-MODIFIED:20250216T181107Z
UID:10033689-1817172000-1817179200@colorcomunitaria.org
SUMMARY:Radioteatros Bicicleta Atómica y Audiodrama Colectivo
DESCRIPTION:
URL:https://colorcomunitaria.org/evento/radioteatros-bicicleta-atomica-y-audiodrama-colectivo/2027-08-02/
END:VEVENT
BEGIN:VEVENT
DTSTART;TZID=Europe/Madrid:20270802T083000
DTEND;TZID=Europe/Madrid:20270802T100000
DTSTAMP:20260420T094353
CREATED:20250214T170834Z
LAST-MODIFIED:20250214T170906Z
UID:10011369-1817195400-1817200800@colorcomunitaria.org
SUMMARY:Informativo De este a Oeste (OLA)
DESCRIPTION:
URL:https://colorcomunitaria.org/evento/informativo-de-este-a-oeste-ola/2027-08-02/
END:VEVENT
BEGIN:VEVENT
DTSTART;TZID=Europe/Madrid:20270802T100000
DTEND;TZID=Europe/Madrid:20270802T100500
DTSTAMP:20260420T094353
CREATED:20250214T171100Z
LAST-MODIFIED:20250214T171102Z
UID:10012682-1817200800-1817201100@colorcomunitaria.org
SUMMARY:Boletín informativo OLA
DESCRIPTION:
URL:https://colorcomunitaria.org/evento/boletin-informativo-ola-2/2027-08-02/
END:VEVENT
BEGIN:VEVENT
DTSTART;TZID=Europe/Madrid:20270802T100500
DTEND;TZID=Europe/Madrid:20270802T103500
DTSTAMP:20260420T094353
CREATED:20250121T155655Z
LAST-MODIFIED:20250214T162406Z
UID:10008494-1817201100-1817202900@colorcomunitaria.org
SUMMARY:Cerca de tu casa
DESCRIPTION:Magacín sobre lo que pasa en Palma Palmilla. Colabora Junta de Distrito 5 Palma Palmilla del Ayuntamiento  de Málaga.
URL:https://colorcomunitaria.org/evento/cerca-de-tu-casa/2027-08-02/
CATEGORIES:Palma Palmilla
ATTACH;FMTTYPE=image/jpeg:https://colorcomunitaria.org/wp-content/uploads/2025/01/imagen-loco-cdtc-cerca-de-tu-casa-grande-e1737380447434.jpg
END:VEVENT
BEGIN:VEVENT
DTSTART;TZID=Europe/Madrid:20270802T103500
DTEND;TZID=Europe/Madrid:20270802T104500
DTSTAMP:20260420T094353
CREATED:20250216T172831Z
LAST-MODIFIED:20250216T173153Z
UID:10015698-1817202900-1817203500@colorcomunitaria.org
SUMMARY:Cerca de tu casa - Málaga
DESCRIPTION:
URL:https://colorcomunitaria.org/evento/cerca-de-tu-casa-edicion-malaga/2027-08-02/
END:VEVENT
BEGIN:VEVENT
DTSTART;TZID=Europe/Madrid:20270802T110500
DTEND;TZID=Europe/Madrid:20270802T120000
DTSTAMP:20260420T094353
CREATED:20250214T162718Z
LAST-MODIFIED:20250214T162800Z
UID:10009810-1817204700-1817208000@colorcomunitaria.org
SUMMARY:Con otra mirada
DESCRIPTION:
URL:https://colorcomunitaria.org/evento/con-otra-mirada/2027-08-02/
END:VEVENT
BEGIN:VEVENT
DTSTART;TZID=Europe/Madrid:20270802T120500
DTEND;TZID=Europe/Madrid:20270802T130000
DTSTAMP:20260420T094353
CREATED:20250214T165409Z
LAST-MODIFIED:20250214T165409Z
UID:10010071-1817208300-1817211600@colorcomunitaria.org
SUMMARY:Sabemos lo que queremos
DESCRIPTION:
URL:https://colorcomunitaria.org/evento/sabemos-lo-que-queremos/2027-08-02/
END:VEVENT
BEGIN:VEVENT
DTSTART;TZID=Europe/Madrid:20270802T130000
DTEND;TZID=Europe/Madrid:20270802T133000
DTSTAMP:20260420T094353
CREATED:20250216T173355Z
LAST-MODIFIED:20250216T173355Z
UID:10018060-1817211600-1817213400@colorcomunitaria.org
SUMMARY:Informativo De este a Oeste (OLA)
DESCRIPTION:
URL:https://colorcomunitaria.org/evento/informativo-de-este-a-oeste-ola-2/2027-08-02/
END:VEVENT
BEGIN:VEVENT
DTSTART;TZID=Europe/Madrid:20270802T160000
DTEND;TZID=Europe/Madrid:20270802T163000
DTSTAMP:20260420T094353
CREATED:20250216T173851Z
LAST-MODIFIED:20250216T173851Z
UID:10024769-1817222400-1817224200@colorcomunitaria.org
SUMMARY:Cerca de tu casa (R)
DESCRIPTION:Magacín sobre lo que pasa en Palma Palmilla. Colabora Junta de Distrito 5 Palma Palmilla del Ayuntamiento  de Málaga.
URL:https://colorcomunitaria.org/evento/cerca-de-tu-casa-r/2027-08-02/
CATEGORIES:Palma Palmilla
ATTACH;FMTTYPE=image/jpeg:https://colorcomunitaria.org/wp-content/uploads/2025/01/imagen-loco-cdtc-cerca-de-tu-casa-grande-e1737380447434.jpg
END:VEVENT
BEGIN:VEVENT
DTSTART;TZID=Europe/Madrid:20270802T163000
DTEND;TZID=Europe/Madrid:20270802T170000
DTSTAMP:20260420T094353
CREATED:20250216T174046Z
LAST-MODIFIED:20250216T174046Z
UID:10027404-1817224200-1817226000@colorcomunitaria.org
SUMMARY:Aprender con onda
DESCRIPTION:
URL:https://colorcomunitaria.org/evento/aprender-con-onda/2027-08-02/
END:VEVENT
BEGIN:VEVENT
DTSTART;TZID=Europe/Madrid:20270802T190000
DTEND;TZID=Europe/Madrid:20270802T200000
DTSTAMP:20260420T094353
CREATED:20250216T173505Z
LAST-MODIFIED:20250216T173505Z
UID:10020156-1817233200-1817236800@colorcomunitaria.org
SUMMARY:Informativo De este a Oeste (OLA)
DESCRIPTION:
URL:https://colorcomunitaria.org/evento/informativo-de-este-a-oeste-ola-3/2027-08-02/
END:VEVENT
BEGIN:VEVENT
DTSTART;TZID=Europe/Madrid:20270802T210000
DTEND;TZID=Europe/Madrid:20270802T220000
DTSTAMP:20260420T094353
CREATED:20250216T184112Z
LAST-MODIFIED:20250216T184112Z
UID:10039311-1817240400-1817244000@colorcomunitaria.org
SUMMARY:De mil colores
DESCRIPTION:
URL:https://colorcomunitaria.org/evento/de-mil-colores/2027-08-02/
END:VEVENT
BEGIN:VEVENT
DTSTART;TZID=Europe/Madrid:20270803T010000
DTEND;TZID=Europe/Madrid:20270803T020000
DTSTAMP:20260420T094353
CREATED:20250216T173544Z
LAST-MODIFIED:20250216T173632Z
UID:10022253-1817254800-1817258400@colorcomunitaria.org
SUMMARY:Informativo De este a Oeste (OLA) (R)
DESCRIPTION:
URL:https://colorcomunitaria.org/evento/informativo-de-este-a-oeste-ola-r/2027-08-03/
END:VEVENT
BEGIN:VEVENT
DTSTART;TZID=Europe/Madrid:20270803T020000
DTEND;TZID=Europe/Madrid:20270803T040000
DTSTAMP:20260420T094353
CREATED:20250216T180923Z
LAST-MODIFIED:20250216T181107Z
UID:10033690-1817258400-1817265600@colorcomunitaria.org
SUMMARY:Radioteatros Bicicleta Atómica y Audiodrama Colectivo
DESCRIPTION:
URL:https://colorcomunitaria.org/evento/radioteatros-bicicleta-atomica-y-audiodrama-colectivo/2027-08-03/
END:VEVENT
BEGIN:VEVENT
DTSTART;TZID=Europe/Madrid:20270803T083000
DTEND;TZID=Europe/Madrid:20270803T100000
DTSTAMP:20260420T094354
CREATED:20250214T170834Z
LAST-MODIFIED:20250214T170906Z
UID:10011370-1817281800-1817287200@colorcomunitaria.org
SUMMARY:Informativo De este a Oeste (OLA)
DESCRIPTION:
URL:https://colorcomunitaria.org/evento/informativo-de-este-a-oeste-ola/2027-08-03/
END:VEVENT
BEGIN:VEVENT
DTSTART;TZID=Europe/Madrid:20270803T100000
DTEND;TZID=Europe/Madrid:20270803T100500
DTSTAMP:20260420T094354
CREATED:20250214T171100Z
LAST-MODIFIED:20250214T171102Z
UID:10012683-1817287200-1817287500@colorcomunitaria.org
SUMMARY:Boletín informativo OLA
DESCRIPTION:
URL:https://colorcomunitaria.org/evento/boletin-informativo-ola-2/2027-08-03/
END:VEVENT
BEGIN:VEVENT
DTSTART;TZID=Europe/Madrid:20270803T100500
DTEND;TZID=Europe/Madrid:20270803T103500
DTSTAMP:20260420T094354
CREATED:20250121T155655Z
LAST-MODIFIED:20250214T162406Z
UID:10008495-1817287500-1817289300@colorcomunitaria.org
SUMMARY:Cerca de tu casa
DESCRIPTION:Magacín sobre lo que pasa en Palma Palmilla. Colabora Junta de Distrito 5 Palma Palmilla del Ayuntamiento  de Málaga.
URL:https://colorcomunitaria.org/evento/cerca-de-tu-casa/2027-08-03/
CATEGORIES:Palma Palmilla
ATTACH;FMTTYPE=image/jpeg:https://colorcomunitaria.org/wp-content/uploads/2025/01/imagen-loco-cdtc-cerca-de-tu-casa-grande-e1737380447434.jpg
END:VEVENT
BEGIN:VEVENT
DTSTART;TZID=Europe/Madrid:20270803T103500
DTEND;TZID=Europe/Madrid:20270803T104500
DTSTAMP:20260420T094354
CREATED:20250216T172831Z
LAST-MODIFIED:20250216T173153Z
UID:10015699-1817289300-1817289900@colorcomunitaria.org
SUMMARY:Cerca de tu casa - Málaga
DESCRIPTION:
URL:https://colorcomunitaria.org/evento/cerca-de-tu-casa-edicion-malaga/2027-08-03/
END:VEVENT
BEGIN:VEVENT
DTSTART;TZID=Europe/Madrid:20270803T110500
DTEND;TZID=Europe/Madrid:20270803T123000
DTSTAMP:20260420T094354
CREATED:20250214T165815Z
LAST-MODIFIED:20250214T165815Z
UID:10010333-1817291100-1817296200@colorcomunitaria.org
SUMMARY:La voz de vida
DESCRIPTION:
URL:https://colorcomunitaria.org/evento/la-voz-de-vida/2027-08-03/
END:VEVENT
BEGIN:VEVENT
DTSTART;TZID=Europe/Madrid:20270803T130000
DTEND;TZID=Europe/Madrid:20270803T133000
DTSTAMP:20260420T094354
CREATED:20250216T173355Z
LAST-MODIFIED:20250216T173355Z
UID:10018061-1817298000-1817299800@colorcomunitaria.org
SUMMARY:Informativo De este a Oeste (OLA)
DESCRIPTION:
URL:https://colorcomunitaria.org/evento/informativo-de-este-a-oeste-ola-2/2027-08-03/
END:VEVENT
BEGIN:VEVENT
DTSTART;TZID=Europe/Madrid:20270803T160000
DTEND;TZID=Europe/Madrid:20270803T163000
DTSTAMP:20260420T094354
CREATED:20250216T173851Z
LAST-MODIFIED:20250216T173851Z
UID:10024770-1817308800-1817310600@colorcomunitaria.org
SUMMARY:Cerca de tu casa (R)
DESCRIPTION:Magacín sobre lo que pasa en Palma Palmilla. Colabora Junta de Distrito 5 Palma Palmilla del Ayuntamiento  de Málaga.
URL:https://colorcomunitaria.org/evento/cerca-de-tu-casa-r/2027-08-03/
CATEGORIES:Palma Palmilla
ATTACH;FMTTYPE=image/jpeg:https://colorcomunitaria.org/wp-content/uploads/2025/01/imagen-loco-cdtc-cerca-de-tu-casa-grande-e1737380447434.jpg
END:VEVENT
BEGIN:VEVENT
DTSTART;TZID=Europe/Madrid:20270803T163000
DTEND;TZID=Europe/Madrid:20270803T170000
DTSTAMP:20260420T094354
CREATED:20250216T174046Z
LAST-MODIFIED:20250216T174046Z
UID:10027405-1817310600-1817312400@colorcomunitaria.org
SUMMARY:Aprender con onda
DESCRIPTION:
URL:https://colorcomunitaria.org/evento/aprender-con-onda/2027-08-03/
END:VEVENT
BEGIN:VEVENT
DTSTART;TZID=Europe/Madrid:20270803T190000
DTEND;TZID=Europe/Madrid:20270803T200000
DTSTAMP:20260420T094354
CREATED:20250216T173505Z
LAST-MODIFIED:20250216T173505Z
UID:10020157-1817319600-1817323200@colorcomunitaria.org
SUMMARY:Informativo De este a Oeste (OLA)
DESCRIPTION:
URL:https://colorcomunitaria.org/evento/informativo-de-este-a-oeste-ola-3/2027-08-03/
END:VEVENT
BEGIN:VEVENT
DTSTART;TZID=Europe/Madrid:20270803T200000
DTEND;TZID=Europe/Madrid:20270803T210000
DTSTAMP:20260420T094354
CREATED:20250214T172034Z
LAST-MODIFIED:20250214T172034Z
UID:10013743-1817323200-1817326800@colorcomunitaria.org
SUMMARY:Puentes
DESCRIPTION:
URL:https://colorcomunitaria.org/evento/puentes/2027-08-03/
END:VEVENT
BEGIN:VEVENT
DTSTART;TZID=Europe/Madrid:20270803T210000
DTEND;TZID=Europe/Madrid:20270803T220000
DTSTAMP:20260420T094354
CREATED:20250214T172202Z
LAST-MODIFIED:20250214T172202Z
UID:10014005-1817326800-1817330400@colorcomunitaria.org
SUMMARY:La voz de los sin voz
DESCRIPTION:
URL:https://colorcomunitaria.org/evento/la-voz-de-los-sin-voz/2027-08-03/
END:VEVENT
BEGIN:VEVENT
DTSTART;TZID=Europe/Madrid:20270804T000000
DTEND;TZID=Europe/Madrid:20270804T010000
DTSTAMP:20260420T094354
CREATED:20250216T175230Z
LAST-MODIFIED:20250216T175230Z
UID:10029506-1817337600-1817341200@colorcomunitaria.org
SUMMARY:Málaga Cultura Viva (R)
DESCRIPTION:
URL:https://colorcomunitaria.org/evento/malaga-cultura-viva-r/2027-08-04/
END:VEVENT
BEGIN:VEVENT
DTSTART;TZID=Europe/Madrid:20270804T010000
DTEND;TZID=Europe/Madrid:20270804T020000
DTSTAMP:20260420T094354
CREATED:20250216T173544Z
LAST-MODIFIED:20250216T173632Z
UID:10022254-1817341200-1817344800@colorcomunitaria.org
SUMMARY:Informativo De este a Oeste (OLA) (R)
DESCRIPTION:
URL:https://colorcomunitaria.org/evento/informativo-de-este-a-oeste-ola-r/2027-08-04/
END:VEVENT
BEGIN:VEVENT
DTSTART;TZID=Europe/Madrid:20270804T020000
DTEND;TZID=Europe/Madrid:20270804T040000
DTSTAMP:20260420T094354
CREATED:20250216T180923Z
LAST-MODIFIED:20250216T181107Z
UID:10033691-1817344800-1817352000@colorcomunitaria.org
SUMMARY:Radioteatros Bicicleta Atómica y Audiodrama Colectivo
DESCRIPTION:
URL:https://colorcomunitaria.org/evento/radioteatros-bicicleta-atomica-y-audiodrama-colectivo/2027-08-04/
END:VEVENT
BEGIN:VEVENT
DTSTART;TZID=Europe/Madrid:20270804T083000
DTEND;TZID=Europe/Madrid:20270804T100000
DTSTAMP:20260420T094354
CREATED:20250214T170834Z
LAST-MODIFIED:20250214T170906Z
UID:10011371-1817368200-1817373600@colorcomunitaria.org
SUMMARY:Informativo De este a Oeste (OLA)
DESCRIPTION:
URL:https://colorcomunitaria.org/evento/informativo-de-este-a-oeste-ola/2027-08-04/
END:VEVENT
END:VCALENDAR