BEGIN:VCALENDAR
VERSION:2.0
PRODID:-//Color comunitaria - ECPv6.9.1//NONSGML v1.0//EN
CALSCALE:GREGORIAN
METHOD:PUBLISH
X-WR-CALNAME:Color comunitaria
X-ORIGINAL-URL:https://colorcomunitaria.org
X-WR-CALDESC:Eventos para Color comunitaria
REFRESH-INTERVAL;VALUE=DURATION:PT1H
X-Robots-Tag:noindex
X-PUBLISHED-TTL:PT1H
BEGIN:VTIMEZONE
TZID:Europe/Madrid
BEGIN:DAYLIGHT
TZOFFSETFROM:+0100
TZOFFSETTO:+0200
TZNAME:CEST
DTSTART:20270328T010000
END:DAYLIGHT
BEGIN:STANDARD
TZOFFSETFROM:+0200
TZOFFSETTO:+0100
TZNAME:CET
DTSTART:20271031T010000
END:STANDARD
END:VTIMEZONE
BEGIN:VEVENT
DTSTART;TZID=Europe/Madrid:20270823T010000
DTEND;TZID=Europe/Madrid:20270823T020000
DTSTAMP:20260420T143209
CREATED:20250216T173544Z
LAST-MODIFIED:20250216T173632Z
UID:10022264-1818982800-1818986400@colorcomunitaria.org
SUMMARY:Informativo De este a Oeste (OLA) (R)
DESCRIPTION:
URL:https://colorcomunitaria.org/evento/informativo-de-este-a-oeste-ola-r/2027-08-23/
END:VEVENT
BEGIN:VEVENT
DTSTART;TZID=Europe/Madrid:20270823T020000
DTEND;TZID=Europe/Madrid:20270823T040000
DTSTAMP:20260420T143209
CREATED:20250216T180923Z
LAST-MODIFIED:20250216T181107Z
UID:10033710-1818986400-1818993600@colorcomunitaria.org
SUMMARY:Radioteatros Bicicleta Atómica y Audiodrama Colectivo
DESCRIPTION:
URL:https://colorcomunitaria.org/evento/radioteatros-bicicleta-atomica-y-audiodrama-colectivo/2027-08-23/
END:VEVENT
BEGIN:VEVENT
DTSTART;TZID=Europe/Madrid:20270823T083000
DTEND;TZID=Europe/Madrid:20270823T100000
DTSTAMP:20260420T143209
CREATED:20250214T170834Z
LAST-MODIFIED:20250214T170906Z
UID:10011384-1819009800-1819015200@colorcomunitaria.org
SUMMARY:Informativo De este a Oeste (OLA)
DESCRIPTION:
URL:https://colorcomunitaria.org/evento/informativo-de-este-a-oeste-ola/2027-08-23/
END:VEVENT
BEGIN:VEVENT
DTSTART;TZID=Europe/Madrid:20270823T100000
DTEND;TZID=Europe/Madrid:20270823T100500
DTSTAMP:20260420T143209
CREATED:20250214T171100Z
LAST-MODIFIED:20250214T171102Z
UID:10012697-1819015200-1819015500@colorcomunitaria.org
SUMMARY:Boletín informativo OLA
DESCRIPTION:
URL:https://colorcomunitaria.org/evento/boletin-informativo-ola-2/2027-08-23/
END:VEVENT
BEGIN:VEVENT
DTSTART;TZID=Europe/Madrid:20270823T100500
DTEND;TZID=Europe/Madrid:20270823T103500
DTSTAMP:20260420T143209
CREATED:20250121T155655Z
LAST-MODIFIED:20250214T162406Z
UID:10008509-1819015500-1819017300@colorcomunitaria.org
SUMMARY:Cerca de tu casa
DESCRIPTION:Magacín sobre lo que pasa en Palma Palmilla. Colabora Junta de Distrito 5 Palma Palmilla del Ayuntamiento  de Málaga.
URL:https://colorcomunitaria.org/evento/cerca-de-tu-casa/2027-08-23/
CATEGORIES:Palma Palmilla
ATTACH;FMTTYPE=image/jpeg:https://colorcomunitaria.org/wp-content/uploads/2025/01/imagen-loco-cdtc-cerca-de-tu-casa-grande-e1737380447434.jpg
END:VEVENT
BEGIN:VEVENT
DTSTART;TZID=Europe/Madrid:20270823T103500
DTEND;TZID=Europe/Madrid:20270823T104500
DTSTAMP:20260420T143209
CREATED:20250216T172831Z
LAST-MODIFIED:20250216T173153Z
UID:10015716-1819017300-1819017900@colorcomunitaria.org
SUMMARY:Cerca de tu casa - Málaga
DESCRIPTION:
URL:https://colorcomunitaria.org/evento/cerca-de-tu-casa-edicion-malaga/2027-08-23/
END:VEVENT
BEGIN:VEVENT
DTSTART;TZID=Europe/Madrid:20270823T110500
DTEND;TZID=Europe/Madrid:20270823T120000
DTSTAMP:20260420T143209
CREATED:20250214T162718Z
LAST-MODIFIED:20250214T162800Z
UID:10009813-1819019100-1819022400@colorcomunitaria.org
SUMMARY:Con otra mirada
DESCRIPTION:
URL:https://colorcomunitaria.org/evento/con-otra-mirada/2027-08-23/
END:VEVENT
BEGIN:VEVENT
DTSTART;TZID=Europe/Madrid:20270823T120500
DTEND;TZID=Europe/Madrid:20270823T130000
DTSTAMP:20260420T143209
CREATED:20250214T165409Z
LAST-MODIFIED:20250214T165409Z
UID:10010074-1819022700-1819026000@colorcomunitaria.org
SUMMARY:Sabemos lo que queremos
DESCRIPTION:
URL:https://colorcomunitaria.org/evento/sabemos-lo-que-queremos/2027-08-23/
END:VEVENT
BEGIN:VEVENT
DTSTART;TZID=Europe/Madrid:20270823T130000
DTEND;TZID=Europe/Madrid:20270823T133000
DTSTAMP:20260420T143209
CREATED:20250216T173355Z
LAST-MODIFIED:20250216T173355Z
UID:10018072-1819026000-1819027800@colorcomunitaria.org
SUMMARY:Informativo De este a Oeste (OLA)
DESCRIPTION:
URL:https://colorcomunitaria.org/evento/informativo-de-este-a-oeste-ola-2/2027-08-23/
END:VEVENT
BEGIN:VEVENT
DTSTART;TZID=Europe/Madrid:20270823T160000
DTEND;TZID=Europe/Madrid:20270823T163000
DTSTAMP:20260420T143209
CREATED:20250216T173851Z
LAST-MODIFIED:20250216T173851Z
UID:10024784-1819036800-1819038600@colorcomunitaria.org
SUMMARY:Cerca de tu casa (R)
DESCRIPTION:Magacín sobre lo que pasa en Palma Palmilla. Colabora Junta de Distrito 5 Palma Palmilla del Ayuntamiento  de Málaga.
URL:https://colorcomunitaria.org/evento/cerca-de-tu-casa-r/2027-08-23/
CATEGORIES:Palma Palmilla
ATTACH;FMTTYPE=image/jpeg:https://colorcomunitaria.org/wp-content/uploads/2025/01/imagen-loco-cdtc-cerca-de-tu-casa-grande-e1737380447434.jpg
END:VEVENT
BEGIN:VEVENT
DTSTART;TZID=Europe/Madrid:20270823T163000
DTEND;TZID=Europe/Madrid:20270823T170000
DTSTAMP:20260420T143209
CREATED:20250216T174046Z
LAST-MODIFIED:20250216T174046Z
UID:10027419-1819038600-1819040400@colorcomunitaria.org
SUMMARY:Aprender con onda
DESCRIPTION:
URL:https://colorcomunitaria.org/evento/aprender-con-onda/2027-08-23/
END:VEVENT
BEGIN:VEVENT
DTSTART;TZID=Europe/Madrid:20270823T190000
DTEND;TZID=Europe/Madrid:20270823T200000
DTSTAMP:20260420T143209
CREATED:20250216T173505Z
LAST-MODIFIED:20250216T173505Z
UID:10020168-1819047600-1819051200@colorcomunitaria.org
SUMMARY:Informativo De este a Oeste (OLA)
DESCRIPTION:
URL:https://colorcomunitaria.org/evento/informativo-de-este-a-oeste-ola-3/2027-08-23/
END:VEVENT
BEGIN:VEVENT
DTSTART;TZID=Europe/Madrid:20270823T200500
DTEND;TZID=Europe/Madrid:20270823T210000
DTSTAMP:20260420T143209
CREATED:20250216T182912Z
LAST-MODIFIED:20250216T183417Z
UID:10039119-1819051500-1819054800@colorcomunitaria.org
SUMMARY:Este libro está muy vivo (R)
DESCRIPTION:
URL:https://colorcomunitaria.org/evento/este-libro-esta-muy-vivo/2027-08-23/
END:VEVENT
BEGIN:VEVENT
DTSTART;TZID=Europe/Madrid:20270823T210000
DTEND;TZID=Europe/Madrid:20270823T220000
DTSTAMP:20260420T143209
CREATED:20250216T184112Z
LAST-MODIFIED:20250216T184112Z
UID:10039314-1819054800-1819058400@colorcomunitaria.org
SUMMARY:De mil colores
DESCRIPTION:
URL:https://colorcomunitaria.org/evento/de-mil-colores/2027-08-23/
END:VEVENT
BEGIN:VEVENT
DTSTART;TZID=Europe/Madrid:20270824T010000
DTEND;TZID=Europe/Madrid:20270824T020000
DTSTAMP:20260420T143209
CREATED:20250216T173544Z
LAST-MODIFIED:20250216T173632Z
UID:10022265-1819069200-1819072800@colorcomunitaria.org
SUMMARY:Informativo De este a Oeste (OLA) (R)
DESCRIPTION:
URL:https://colorcomunitaria.org/evento/informativo-de-este-a-oeste-ola-r/2027-08-24/
END:VEVENT
BEGIN:VEVENT
DTSTART;TZID=Europe/Madrid:20270824T020000
DTEND;TZID=Europe/Madrid:20270824T040000
DTSTAMP:20260420T143209
CREATED:20250216T180923Z
LAST-MODIFIED:20250216T181107Z
UID:10033711-1819072800-1819080000@colorcomunitaria.org
SUMMARY:Radioteatros Bicicleta Atómica y Audiodrama Colectivo
DESCRIPTION:
URL:https://colorcomunitaria.org/evento/radioteatros-bicicleta-atomica-y-audiodrama-colectivo/2027-08-24/
END:VEVENT
BEGIN:VEVENT
DTSTART;TZID=Europe/Madrid:20270824T083000
DTEND;TZID=Europe/Madrid:20270824T100000
DTSTAMP:20260420T143209
CREATED:20250214T170834Z
LAST-MODIFIED:20250214T170906Z
UID:10011385-1819096200-1819101600@colorcomunitaria.org
SUMMARY:Informativo De este a Oeste (OLA)
DESCRIPTION:
URL:https://colorcomunitaria.org/evento/informativo-de-este-a-oeste-ola/2027-08-24/
END:VEVENT
BEGIN:VEVENT
DTSTART;TZID=Europe/Madrid:20270824T100000
DTEND;TZID=Europe/Madrid:20270824T100500
DTSTAMP:20260420T143209
CREATED:20250214T171100Z
LAST-MODIFIED:20250214T171102Z
UID:10012698-1819101600-1819101900@colorcomunitaria.org
SUMMARY:Boletín informativo OLA
DESCRIPTION:
URL:https://colorcomunitaria.org/evento/boletin-informativo-ola-2/2027-08-24/
END:VEVENT
BEGIN:VEVENT
DTSTART;TZID=Europe/Madrid:20270824T100500
DTEND;TZID=Europe/Madrid:20270824T103500
DTSTAMP:20260420T143209
CREATED:20250121T155655Z
LAST-MODIFIED:20250214T162406Z
UID:10008510-1819101900-1819103700@colorcomunitaria.org
SUMMARY:Cerca de tu casa
DESCRIPTION:Magacín sobre lo que pasa en Palma Palmilla. Colabora Junta de Distrito 5 Palma Palmilla del Ayuntamiento  de Málaga.
URL:https://colorcomunitaria.org/evento/cerca-de-tu-casa/2027-08-24/
CATEGORIES:Palma Palmilla
ATTACH;FMTTYPE=image/jpeg:https://colorcomunitaria.org/wp-content/uploads/2025/01/imagen-loco-cdtc-cerca-de-tu-casa-grande-e1737380447434.jpg
END:VEVENT
BEGIN:VEVENT
DTSTART;TZID=Europe/Madrid:20270824T103500
DTEND;TZID=Europe/Madrid:20270824T104500
DTSTAMP:20260420T143209
CREATED:20250216T172831Z
LAST-MODIFIED:20250216T173153Z
UID:10015717-1819103700-1819104300@colorcomunitaria.org
SUMMARY:Cerca de tu casa - Málaga
DESCRIPTION:
URL:https://colorcomunitaria.org/evento/cerca-de-tu-casa-edicion-malaga/2027-08-24/
END:VEVENT
BEGIN:VEVENT
DTSTART;TZID=Europe/Madrid:20270824T110500
DTEND;TZID=Europe/Madrid:20270824T123000
DTSTAMP:20260420T143209
CREATED:20250214T165815Z
LAST-MODIFIED:20250214T165815Z
UID:10010336-1819105500-1819110600@colorcomunitaria.org
SUMMARY:La voz de vida
DESCRIPTION:
URL:https://colorcomunitaria.org/evento/la-voz-de-vida/2027-08-24/
END:VEVENT
BEGIN:VEVENT
DTSTART;TZID=Europe/Madrid:20270824T130000
DTEND;TZID=Europe/Madrid:20270824T133000
DTSTAMP:20260420T143209
CREATED:20250216T173355Z
LAST-MODIFIED:20250216T173355Z
UID:10018073-1819112400-1819114200@colorcomunitaria.org
SUMMARY:Informativo De este a Oeste (OLA)
DESCRIPTION:
URL:https://colorcomunitaria.org/evento/informativo-de-este-a-oeste-ola-2/2027-08-24/
END:VEVENT
BEGIN:VEVENT
DTSTART;TZID=Europe/Madrid:20270824T160000
DTEND;TZID=Europe/Madrid:20270824T163000
DTSTAMP:20260420T143209
CREATED:20250216T173851Z
LAST-MODIFIED:20250216T173851Z
UID:10024785-1819123200-1819125000@colorcomunitaria.org
SUMMARY:Cerca de tu casa (R)
DESCRIPTION:Magacín sobre lo que pasa en Palma Palmilla. Colabora Junta de Distrito 5 Palma Palmilla del Ayuntamiento  de Málaga.
URL:https://colorcomunitaria.org/evento/cerca-de-tu-casa-r/2027-08-24/
CATEGORIES:Palma Palmilla
ATTACH;FMTTYPE=image/jpeg:https://colorcomunitaria.org/wp-content/uploads/2025/01/imagen-loco-cdtc-cerca-de-tu-casa-grande-e1737380447434.jpg
END:VEVENT
BEGIN:VEVENT
DTSTART;TZID=Europe/Madrid:20270824T163000
DTEND;TZID=Europe/Madrid:20270824T170000
DTSTAMP:20260420T143209
CREATED:20250216T174046Z
LAST-MODIFIED:20250216T174046Z
UID:10027420-1819125000-1819126800@colorcomunitaria.org
SUMMARY:Aprender con onda
DESCRIPTION:
URL:https://colorcomunitaria.org/evento/aprender-con-onda/2027-08-24/
END:VEVENT
BEGIN:VEVENT
DTSTART;TZID=Europe/Madrid:20270824T190000
DTEND;TZID=Europe/Madrid:20270824T200000
DTSTAMP:20260420T143209
CREATED:20250216T173505Z
LAST-MODIFIED:20250216T173505Z
UID:10020169-1819134000-1819137600@colorcomunitaria.org
SUMMARY:Informativo De este a Oeste (OLA)
DESCRIPTION:
URL:https://colorcomunitaria.org/evento/informativo-de-este-a-oeste-ola-3/2027-08-24/
END:VEVENT
BEGIN:VEVENT
DTSTART;TZID=Europe/Madrid:20270824T200000
DTEND;TZID=Europe/Madrid:20270824T210000
DTSTAMP:20260420T143209
CREATED:20250214T172034Z
LAST-MODIFIED:20250214T172034Z
UID:10013746-1819137600-1819141200@colorcomunitaria.org
SUMMARY:Puentes
DESCRIPTION:
URL:https://colorcomunitaria.org/evento/puentes/2027-08-24/
END:VEVENT
BEGIN:VEVENT
DTSTART;TZID=Europe/Madrid:20270824T210000
DTEND;TZID=Europe/Madrid:20270824T220000
DTSTAMP:20260420T143209
CREATED:20250214T172202Z
LAST-MODIFIED:20250214T172202Z
UID:10014008-1819141200-1819144800@colorcomunitaria.org
SUMMARY:La voz de los sin voz
DESCRIPTION:
URL:https://colorcomunitaria.org/evento/la-voz-de-los-sin-voz/2027-08-24/
END:VEVENT
BEGIN:VEVENT
DTSTART;TZID=Europe/Madrid:20270825T000000
DTEND;TZID=Europe/Madrid:20270825T010000
DTSTAMP:20260420T143209
CREATED:20250216T175230Z
LAST-MODIFIED:20250216T175230Z
UID:10029509-1819152000-1819155600@colorcomunitaria.org
SUMMARY:Málaga Cultura Viva (R)
DESCRIPTION:
URL:https://colorcomunitaria.org/evento/malaga-cultura-viva-r/2027-08-25/
END:VEVENT
BEGIN:VEVENT
DTSTART;TZID=Europe/Madrid:20270825T010000
DTEND;TZID=Europe/Madrid:20270825T020000
DTSTAMP:20260420T143209
CREATED:20250216T173544Z
LAST-MODIFIED:20250216T173632Z
UID:10022266-1819155600-1819159200@colorcomunitaria.org
SUMMARY:Informativo De este a Oeste (OLA) (R)
DESCRIPTION:
URL:https://colorcomunitaria.org/evento/informativo-de-este-a-oeste-ola-r/2027-08-25/
END:VEVENT
BEGIN:VEVENT
DTSTART;TZID=Europe/Madrid:20270825T020000
DTEND;TZID=Europe/Madrid:20270825T040000
DTSTAMP:20260420T143209
CREATED:20250216T180923Z
LAST-MODIFIED:20250216T181107Z
UID:10033712-1819159200-1819166400@colorcomunitaria.org
SUMMARY:Radioteatros Bicicleta Atómica y Audiodrama Colectivo
DESCRIPTION:
URL:https://colorcomunitaria.org/evento/radioteatros-bicicleta-atomica-y-audiodrama-colectivo/2027-08-25/
END:VEVENT
END:VCALENDAR