BEGIN:VCALENDAR
VERSION:2.0
PRODID:-//Color comunitaria - ECPv6.9.1//NONSGML v1.0//EN
CALSCALE:GREGORIAN
METHOD:PUBLISH
X-ORIGINAL-URL:https://colorcomunitaria.org
X-WR-CALDESC:Eventos para Color comunitaria
REFRESH-INTERVAL;VALUE=DURATION:PT1H
X-Robots-Tag:noindex
X-PUBLISHED-TTL:PT1H
BEGIN:VTIMEZONE
TZID:Europe/Madrid
BEGIN:DAYLIGHT
TZOFFSETFROM:+0100
TZOFFSETTO:+0200
TZNAME:CEST
DTSTART:20270328T010000
END:DAYLIGHT
BEGIN:STANDARD
TZOFFSETFROM:+0200
TZOFFSETTO:+0100
TZNAME:CET
DTSTART:20271031T010000
END:STANDARD
END:VTIMEZONE
BEGIN:VEVENT
DTSTART;TZID=Europe/Madrid:20270920T010000
DTEND;TZID=Europe/Madrid:20270920T020000
DTSTAMP:20260420T212648
CREATED:20250216T173544Z
LAST-MODIFIED:20250216T173632Z
UID:10022280-1821402000-1821405600@colorcomunitaria.org
SUMMARY:Informativo De este a Oeste (OLA) (R)
DESCRIPTION:
URL:https://colorcomunitaria.org/evento/informativo-de-este-a-oeste-ola-r/2027-09-20/
END:VEVENT
BEGIN:VEVENT
DTSTART;TZID=Europe/Madrid:20270920T020000
DTEND;TZID=Europe/Madrid:20270920T040000
DTSTAMP:20260420T212648
CREATED:20250216T180923Z
LAST-MODIFIED:20250216T181107Z
UID:10033738-1821405600-1821412800@colorcomunitaria.org
SUMMARY:Radioteatros Bicicleta Atómica y Audiodrama Colectivo
DESCRIPTION:
URL:https://colorcomunitaria.org/evento/radioteatros-bicicleta-atomica-y-audiodrama-colectivo/2027-09-20/
END:VEVENT
BEGIN:VEVENT
DTSTART;TZID=Europe/Madrid:20270920T083000
DTEND;TZID=Europe/Madrid:20270920T100000
DTSTAMP:20260420T212648
CREATED:20250214T170834Z
LAST-MODIFIED:20250214T170906Z
UID:10011404-1821429000-1821434400@colorcomunitaria.org
SUMMARY:Informativo De este a Oeste (OLA)
DESCRIPTION:
URL:https://colorcomunitaria.org/evento/informativo-de-este-a-oeste-ola/2027-09-20/
END:VEVENT
BEGIN:VEVENT
DTSTART;TZID=Europe/Madrid:20270920T100000
DTEND;TZID=Europe/Madrid:20270920T100500
DTSTAMP:20260420T212648
CREATED:20250214T171100Z
LAST-MODIFIED:20250214T171102Z
UID:10012717-1821434400-1821434700@colorcomunitaria.org
SUMMARY:Boletín informativo OLA
DESCRIPTION:
URL:https://colorcomunitaria.org/evento/boletin-informativo-ola-2/2027-09-20/
END:VEVENT
BEGIN:VEVENT
DTSTART;TZID=Europe/Madrid:20270920T100500
DTEND;TZID=Europe/Madrid:20270920T103500
DTSTAMP:20260420T212648
CREATED:20250121T155655Z
LAST-MODIFIED:20250214T162406Z
UID:10008529-1821434700-1821436500@colorcomunitaria.org
SUMMARY:Cerca de tu casa
DESCRIPTION:Magacín sobre lo que pasa en Palma Palmilla. Colabora Junta de Distrito 5 Palma Palmilla del Ayuntamiento  de Málaga.
URL:https://colorcomunitaria.org/evento/cerca-de-tu-casa/2027-09-20/
CATEGORIES:Palma Palmilla
ATTACH;FMTTYPE=image/jpeg:https://colorcomunitaria.org/wp-content/uploads/2025/01/imagen-loco-cdtc-cerca-de-tu-casa-grande-e1737380447434.jpg
END:VEVENT
BEGIN:VEVENT
DTSTART;TZID=Europe/Madrid:20270920T103500
DTEND;TZID=Europe/Madrid:20270920T104500
DTSTAMP:20260420T212648
CREATED:20250216T172831Z
LAST-MODIFIED:20250216T173153Z
UID:10015740-1821436500-1821437100@colorcomunitaria.org
SUMMARY:Cerca de tu casa - Málaga
DESCRIPTION:
URL:https://colorcomunitaria.org/evento/cerca-de-tu-casa-edicion-malaga/2027-09-20/
END:VEVENT
BEGIN:VEVENT
DTSTART;TZID=Europe/Madrid:20270920T110500
DTEND;TZID=Europe/Madrid:20270920T120000
DTSTAMP:20260420T212648
CREATED:20250214T162718Z
LAST-MODIFIED:20250214T162800Z
UID:10009817-1821438300-1821441600@colorcomunitaria.org
SUMMARY:Con otra mirada
DESCRIPTION:
URL:https://colorcomunitaria.org/evento/con-otra-mirada/2027-09-20/
END:VEVENT
BEGIN:VEVENT
DTSTART;TZID=Europe/Madrid:20270920T120500
DTEND;TZID=Europe/Madrid:20270920T130000
DTSTAMP:20260420T212648
CREATED:20250214T165409Z
LAST-MODIFIED:20250214T165409Z
UID:10010078-1821441900-1821445200@colorcomunitaria.org
SUMMARY:Sabemos lo que queremos
DESCRIPTION:
URL:https://colorcomunitaria.org/evento/sabemos-lo-que-queremos/2027-09-20/
END:VEVENT
BEGIN:VEVENT
DTSTART;TZID=Europe/Madrid:20270920T130000
DTEND;TZID=Europe/Madrid:20270920T133000
DTSTAMP:20260420T212648
CREATED:20250216T173355Z
LAST-MODIFIED:20250216T173355Z
UID:10018088-1821445200-1821447000@colorcomunitaria.org
SUMMARY:Informativo De este a Oeste (OLA)
DESCRIPTION:
URL:https://colorcomunitaria.org/evento/informativo-de-este-a-oeste-ola-2/2027-09-20/
END:VEVENT
BEGIN:VEVENT
DTSTART;TZID=Europe/Madrid:20270920T160000
DTEND;TZID=Europe/Madrid:20270920T163000
DTSTAMP:20260420T212648
CREATED:20250216T173851Z
LAST-MODIFIED:20250216T173851Z
UID:10024804-1821456000-1821457800@colorcomunitaria.org
SUMMARY:Cerca de tu casa (R)
DESCRIPTION:Magacín sobre lo que pasa en Palma Palmilla. Colabora Junta de Distrito 5 Palma Palmilla del Ayuntamiento  de Málaga.
URL:https://colorcomunitaria.org/evento/cerca-de-tu-casa-r/2027-09-20/
CATEGORIES:Palma Palmilla
ATTACH;FMTTYPE=image/jpeg:https://colorcomunitaria.org/wp-content/uploads/2025/01/imagen-loco-cdtc-cerca-de-tu-casa-grande-e1737380447434.jpg
END:VEVENT
BEGIN:VEVENT
DTSTART;TZID=Europe/Madrid:20270920T163000
DTEND;TZID=Europe/Madrid:20270920T170000
DTSTAMP:20260420T212648
CREATED:20250216T174046Z
LAST-MODIFIED:20250216T174046Z
UID:10027439-1821457800-1821459600@colorcomunitaria.org
SUMMARY:Aprender con onda
DESCRIPTION:
URL:https://colorcomunitaria.org/evento/aprender-con-onda/2027-09-20/
END:VEVENT
BEGIN:VEVENT
DTSTART;TZID=Europe/Madrid:20270920T190000
DTEND;TZID=Europe/Madrid:20270920T200000
DTSTAMP:20260420T212648
CREATED:20250216T173505Z
LAST-MODIFIED:20250216T173505Z
UID:10020184-1821466800-1821470400@colorcomunitaria.org
SUMMARY:Informativo De este a Oeste (OLA)
DESCRIPTION:
URL:https://colorcomunitaria.org/evento/informativo-de-este-a-oeste-ola-3/2027-09-20/
END:VEVENT
BEGIN:VEVENT
DTSTART;TZID=Europe/Madrid:20270920T200500
DTEND;TZID=Europe/Madrid:20270920T210000
DTSTAMP:20260420T212648
CREATED:20250216T182912Z
LAST-MODIFIED:20250216T183417Z
UID:10039121-1821470700-1821474000@colorcomunitaria.org
SUMMARY:Este libro está muy vivo (R)
DESCRIPTION:
URL:https://colorcomunitaria.org/evento/este-libro-esta-muy-vivo/2027-09-20/
END:VEVENT
BEGIN:VEVENT
DTSTART;TZID=Europe/Madrid:20270920T210000
DTEND;TZID=Europe/Madrid:20270920T220000
DTSTAMP:20260420T212648
CREATED:20250216T184112Z
LAST-MODIFIED:20250216T184112Z
UID:10039318-1821474000-1821477600@colorcomunitaria.org
SUMMARY:De mil colores
DESCRIPTION:
URL:https://colorcomunitaria.org/evento/de-mil-colores/2027-09-20/
END:VEVENT
BEGIN:VEVENT
DTSTART;TZID=Europe/Madrid:20270921T010000
DTEND;TZID=Europe/Madrid:20270921T020000
DTSTAMP:20260420T212648
CREATED:20250216T173544Z
LAST-MODIFIED:20250216T173632Z
UID:10022281-1821488400-1821492000@colorcomunitaria.org
SUMMARY:Informativo De este a Oeste (OLA) (R)
DESCRIPTION:
URL:https://colorcomunitaria.org/evento/informativo-de-este-a-oeste-ola-r/2027-09-21/
END:VEVENT
BEGIN:VEVENT
DTSTART;TZID=Europe/Madrid:20270921T020000
DTEND;TZID=Europe/Madrid:20270921T040000
DTSTAMP:20260420T212648
CREATED:20250216T180923Z
LAST-MODIFIED:20250216T181107Z
UID:10033739-1821492000-1821499200@colorcomunitaria.org
SUMMARY:Radioteatros Bicicleta Atómica y Audiodrama Colectivo
DESCRIPTION:
URL:https://colorcomunitaria.org/evento/radioteatros-bicicleta-atomica-y-audiodrama-colectivo/2027-09-21/
END:VEVENT
BEGIN:VEVENT
DTSTART;TZID=Europe/Madrid:20270921T083000
DTEND;TZID=Europe/Madrid:20270921T100000
DTSTAMP:20260420T212648
CREATED:20250214T170834Z
LAST-MODIFIED:20250214T170906Z
UID:10011405-1821515400-1821520800@colorcomunitaria.org
SUMMARY:Informativo De este a Oeste (OLA)
DESCRIPTION:
URL:https://colorcomunitaria.org/evento/informativo-de-este-a-oeste-ola/2027-09-21/
END:VEVENT
BEGIN:VEVENT
DTSTART;TZID=Europe/Madrid:20270921T100000
DTEND;TZID=Europe/Madrid:20270921T100500
DTSTAMP:20260420T212648
CREATED:20250214T171100Z
LAST-MODIFIED:20250214T171102Z
UID:10012718-1821520800-1821521100@colorcomunitaria.org
SUMMARY:Boletín informativo OLA
DESCRIPTION:
URL:https://colorcomunitaria.org/evento/boletin-informativo-ola-2/2027-09-21/
END:VEVENT
BEGIN:VEVENT
DTSTART;TZID=Europe/Madrid:20270921T100500
DTEND;TZID=Europe/Madrid:20270921T103500
DTSTAMP:20260420T212648
CREATED:20250121T155655Z
LAST-MODIFIED:20250214T162406Z
UID:10008530-1821521100-1821522900@colorcomunitaria.org
SUMMARY:Cerca de tu casa
DESCRIPTION:Magacín sobre lo que pasa en Palma Palmilla. Colabora Junta de Distrito 5 Palma Palmilla del Ayuntamiento  de Málaga.
URL:https://colorcomunitaria.org/evento/cerca-de-tu-casa/2027-09-21/
CATEGORIES:Palma Palmilla
ATTACH;FMTTYPE=image/jpeg:https://colorcomunitaria.org/wp-content/uploads/2025/01/imagen-loco-cdtc-cerca-de-tu-casa-grande-e1737380447434.jpg
END:VEVENT
BEGIN:VEVENT
DTSTART;TZID=Europe/Madrid:20270921T103500
DTEND;TZID=Europe/Madrid:20270921T104500
DTSTAMP:20260420T212648
CREATED:20250216T172831Z
LAST-MODIFIED:20250216T173153Z
UID:10015741-1821522900-1821523500@colorcomunitaria.org
SUMMARY:Cerca de tu casa - Málaga
DESCRIPTION:
URL:https://colorcomunitaria.org/evento/cerca-de-tu-casa-edicion-malaga/2027-09-21/
END:VEVENT
BEGIN:VEVENT
DTSTART;TZID=Europe/Madrid:20270921T110500
DTEND;TZID=Europe/Madrid:20270921T123000
DTSTAMP:20260420T212648
CREATED:20250214T165815Z
LAST-MODIFIED:20250214T165815Z
UID:10010340-1821524700-1821529800@colorcomunitaria.org
SUMMARY:La voz de vida
DESCRIPTION:
URL:https://colorcomunitaria.org/evento/la-voz-de-vida/2027-09-21/
END:VEVENT
BEGIN:VEVENT
DTSTART;TZID=Europe/Madrid:20270921T130000
DTEND;TZID=Europe/Madrid:20270921T133000
DTSTAMP:20260420T212648
CREATED:20250216T173355Z
LAST-MODIFIED:20250216T173355Z
UID:10018089-1821531600-1821533400@colorcomunitaria.org
SUMMARY:Informativo De este a Oeste (OLA)
DESCRIPTION:
URL:https://colorcomunitaria.org/evento/informativo-de-este-a-oeste-ola-2/2027-09-21/
END:VEVENT
BEGIN:VEVENT
DTSTART;TZID=Europe/Madrid:20270921T160000
DTEND;TZID=Europe/Madrid:20270921T163000
DTSTAMP:20260420T212648
CREATED:20250216T173851Z
LAST-MODIFIED:20250216T173851Z
UID:10024805-1821542400-1821544200@colorcomunitaria.org
SUMMARY:Cerca de tu casa (R)
DESCRIPTION:Magacín sobre lo que pasa en Palma Palmilla. Colabora Junta de Distrito 5 Palma Palmilla del Ayuntamiento  de Málaga.
URL:https://colorcomunitaria.org/evento/cerca-de-tu-casa-r/2027-09-21/
CATEGORIES:Palma Palmilla
ATTACH;FMTTYPE=image/jpeg:https://colorcomunitaria.org/wp-content/uploads/2025/01/imagen-loco-cdtc-cerca-de-tu-casa-grande-e1737380447434.jpg
END:VEVENT
BEGIN:VEVENT
DTSTART;TZID=Europe/Madrid:20270921T163000
DTEND;TZID=Europe/Madrid:20270921T170000
DTSTAMP:20260420T212648
CREATED:20250216T174046Z
LAST-MODIFIED:20250216T174046Z
UID:10027440-1821544200-1821546000@colorcomunitaria.org
SUMMARY:Aprender con onda
DESCRIPTION:
URL:https://colorcomunitaria.org/evento/aprender-con-onda/2027-09-21/
END:VEVENT
BEGIN:VEVENT
DTSTART;TZID=Europe/Madrid:20270921T190000
DTEND;TZID=Europe/Madrid:20270921T200000
DTSTAMP:20260420T212648
CREATED:20250216T173505Z
LAST-MODIFIED:20250216T173505Z
UID:10020185-1821553200-1821556800@colorcomunitaria.org
SUMMARY:Informativo De este a Oeste (OLA)
DESCRIPTION:
URL:https://colorcomunitaria.org/evento/informativo-de-este-a-oeste-ola-3/2027-09-21/
END:VEVENT
BEGIN:VEVENT
DTSTART;TZID=Europe/Madrid:20270921T200000
DTEND;TZID=Europe/Madrid:20270921T210000
DTSTAMP:20260420T212648
CREATED:20250214T172034Z
LAST-MODIFIED:20250214T172034Z
UID:10013750-1821556800-1821560400@colorcomunitaria.org
SUMMARY:Puentes
DESCRIPTION:
URL:https://colorcomunitaria.org/evento/puentes/2027-09-21/
END:VEVENT
BEGIN:VEVENT
DTSTART;TZID=Europe/Madrid:20270921T210000
DTEND;TZID=Europe/Madrid:20270921T220000
DTSTAMP:20260420T212648
CREATED:20250214T172202Z
LAST-MODIFIED:20250214T172202Z
UID:10014012-1821560400-1821564000@colorcomunitaria.org
SUMMARY:La voz de los sin voz
DESCRIPTION:
URL:https://colorcomunitaria.org/evento/la-voz-de-los-sin-voz/2027-09-21/
END:VEVENT
BEGIN:VEVENT
DTSTART;TZID=Europe/Madrid:20270922T000000
DTEND;TZID=Europe/Madrid:20270922T010000
DTSTAMP:20260420T212648
CREATED:20250216T175230Z
LAST-MODIFIED:20250216T175230Z
UID:10029513-1821571200-1821574800@colorcomunitaria.org
SUMMARY:Málaga Cultura Viva (R)
DESCRIPTION:
URL:https://colorcomunitaria.org/evento/malaga-cultura-viva-r/2027-09-22/
END:VEVENT
BEGIN:VEVENT
DTSTART;TZID=Europe/Madrid:20270922T010000
DTEND;TZID=Europe/Madrid:20270922T020000
DTSTAMP:20260420T212648
CREATED:20250216T173544Z
LAST-MODIFIED:20250216T173632Z
UID:10022282-1821574800-1821578400@colorcomunitaria.org
SUMMARY:Informativo De este a Oeste (OLA) (R)
DESCRIPTION:
URL:https://colorcomunitaria.org/evento/informativo-de-este-a-oeste-ola-r/2027-09-22/
END:VEVENT
BEGIN:VEVENT
DTSTART;TZID=Europe/Madrid:20270922T020000
DTEND;TZID=Europe/Madrid:20270922T040000
DTSTAMP:20260420T212648
CREATED:20250216T180923Z
LAST-MODIFIED:20250216T181107Z
UID:10033740-1821578400-1821585600@colorcomunitaria.org
SUMMARY:Radioteatros Bicicleta Atómica y Audiodrama Colectivo
DESCRIPTION:
URL:https://colorcomunitaria.org/evento/radioteatros-bicicleta-atomica-y-audiodrama-colectivo/2027-09-22/
END:VEVENT
END:VCALENDAR