BEGIN:VCALENDAR
VERSION:2.0
PRODID:-//Color comunitaria - ECPv6.9.1//NONSGML v1.0//EN
CALSCALE:GREGORIAN
METHOD:PUBLISH
X-WR-CALNAME:Color comunitaria
X-ORIGINAL-URL:https://colorcomunitaria.org
X-WR-CALDESC:Eventos para Color comunitaria
REFRESH-INTERVAL;VALUE=DURATION:PT1H
X-Robots-Tag:noindex
X-PUBLISHED-TTL:PT1H
BEGIN:VTIMEZONE
TZID:Europe/Madrid
BEGIN:DAYLIGHT
TZOFFSETFROM:+0100
TZOFFSETTO:+0200
TZNAME:CEST
DTSTART:20270328T010000
END:DAYLIGHT
BEGIN:STANDARD
TZOFFSETFROM:+0200
TZOFFSETTO:+0100
TZNAME:CET
DTSTART:20271031T010000
END:STANDARD
END:VTIMEZONE
BEGIN:VEVENT
DTSTART;TZID=Europe/Madrid:20270927T010000
DTEND;TZID=Europe/Madrid:20270927T020000
DTSTAMP:20260420T232111
CREATED:20250216T173544Z
LAST-MODIFIED:20250216T173632Z
UID:10022284-1822006800-1822010400@colorcomunitaria.org
SUMMARY:Informativo De este a Oeste (OLA) (R)
DESCRIPTION:
URL:https://colorcomunitaria.org/evento/informativo-de-este-a-oeste-ola-r/2027-09-27/
END:VEVENT
BEGIN:VEVENT
DTSTART;TZID=Europe/Madrid:20270927T020000
DTEND;TZID=Europe/Madrid:20270927T040000
DTSTAMP:20260420T232111
CREATED:20250216T180923Z
LAST-MODIFIED:20250216T181107Z
UID:10033745-1822010400-1822017600@colorcomunitaria.org
SUMMARY:Radioteatros Bicicleta Atómica y Audiodrama Colectivo
DESCRIPTION:
URL:https://colorcomunitaria.org/evento/radioteatros-bicicleta-atomica-y-audiodrama-colectivo/2027-09-27/
END:VEVENT
BEGIN:VEVENT
DTSTART;TZID=Europe/Madrid:20270927T083000
DTEND;TZID=Europe/Madrid:20270927T100000
DTSTAMP:20260420T232111
CREATED:20250214T170834Z
LAST-MODIFIED:20250214T170906Z
UID:10011409-1822033800-1822039200@colorcomunitaria.org
SUMMARY:Informativo De este a Oeste (OLA)
DESCRIPTION:
URL:https://colorcomunitaria.org/evento/informativo-de-este-a-oeste-ola/2027-09-27/
END:VEVENT
BEGIN:VEVENT
DTSTART;TZID=Europe/Madrid:20270927T100000
DTEND;TZID=Europe/Madrid:20270927T100500
DTSTAMP:20260420T232111
CREATED:20250214T171100Z
LAST-MODIFIED:20250214T171102Z
UID:10012722-1822039200-1822039500@colorcomunitaria.org
SUMMARY:Boletín informativo OLA
DESCRIPTION:
URL:https://colorcomunitaria.org/evento/boletin-informativo-ola-2/2027-09-27/
END:VEVENT
BEGIN:VEVENT
DTSTART;TZID=Europe/Madrid:20270927T100500
DTEND;TZID=Europe/Madrid:20270927T103500
DTSTAMP:20260420T232111
CREATED:20250121T155655Z
LAST-MODIFIED:20250214T162406Z
UID:10008534-1822039500-1822041300@colorcomunitaria.org
SUMMARY:Cerca de tu casa
DESCRIPTION:Magacín sobre lo que pasa en Palma Palmilla. Colabora Junta de Distrito 5 Palma Palmilla del Ayuntamiento  de Málaga.
URL:https://colorcomunitaria.org/evento/cerca-de-tu-casa/2027-09-27/
CATEGORIES:Palma Palmilla
ATTACH;FMTTYPE=image/jpeg:https://colorcomunitaria.org/wp-content/uploads/2025/01/imagen-loco-cdtc-cerca-de-tu-casa-grande-e1737380447434.jpg
END:VEVENT
BEGIN:VEVENT
DTSTART;TZID=Europe/Madrid:20270927T103500
DTEND;TZID=Europe/Madrid:20270927T104500
DTSTAMP:20260420T232111
CREATED:20250216T172831Z
LAST-MODIFIED:20250216T173153Z
UID:10015746-1822041300-1822041900@colorcomunitaria.org
SUMMARY:Cerca de tu casa - Málaga
DESCRIPTION:
URL:https://colorcomunitaria.org/evento/cerca-de-tu-casa-edicion-malaga/2027-09-27/
END:VEVENT
BEGIN:VEVENT
DTSTART;TZID=Europe/Madrid:20270927T110500
DTEND;TZID=Europe/Madrid:20270927T120000
DTSTAMP:20260420T232111
CREATED:20250214T162718Z
LAST-MODIFIED:20250214T162800Z
UID:10009818-1822043100-1822046400@colorcomunitaria.org
SUMMARY:Con otra mirada
DESCRIPTION:
URL:https://colorcomunitaria.org/evento/con-otra-mirada/2027-09-27/
END:VEVENT
BEGIN:VEVENT
DTSTART;TZID=Europe/Madrid:20270927T120500
DTEND;TZID=Europe/Madrid:20270927T130000
DTSTAMP:20260420T232111
CREATED:20250214T165409Z
LAST-MODIFIED:20250214T165409Z
UID:10010079-1822046700-1822050000@colorcomunitaria.org
SUMMARY:Sabemos lo que queremos
DESCRIPTION:
URL:https://colorcomunitaria.org/evento/sabemos-lo-que-queremos/2027-09-27/
END:VEVENT
BEGIN:VEVENT
DTSTART;TZID=Europe/Madrid:20270927T130000
DTEND;TZID=Europe/Madrid:20270927T133000
DTSTAMP:20260420T232111
CREATED:20250216T173355Z
LAST-MODIFIED:20250216T173355Z
UID:10018092-1822050000-1822051800@colorcomunitaria.org
SUMMARY:Informativo De este a Oeste (OLA)
DESCRIPTION:
URL:https://colorcomunitaria.org/evento/informativo-de-este-a-oeste-ola-2/2027-09-27/
END:VEVENT
BEGIN:VEVENT
DTSTART;TZID=Europe/Madrid:20270927T160000
DTEND;TZID=Europe/Madrid:20270927T163000
DTSTAMP:20260420T232111
CREATED:20250216T173851Z
LAST-MODIFIED:20250216T173851Z
UID:10024809-1822060800-1822062600@colorcomunitaria.org
SUMMARY:Cerca de tu casa (R)
DESCRIPTION:Magacín sobre lo que pasa en Palma Palmilla. Colabora Junta de Distrito 5 Palma Palmilla del Ayuntamiento  de Málaga.
URL:https://colorcomunitaria.org/evento/cerca-de-tu-casa-r/2027-09-27/
CATEGORIES:Palma Palmilla
ATTACH;FMTTYPE=image/jpeg:https://colorcomunitaria.org/wp-content/uploads/2025/01/imagen-loco-cdtc-cerca-de-tu-casa-grande-e1737380447434.jpg
END:VEVENT
BEGIN:VEVENT
DTSTART;TZID=Europe/Madrid:20270927T163000
DTEND;TZID=Europe/Madrid:20270927T170000
DTSTAMP:20260420T232111
CREATED:20250216T174046Z
LAST-MODIFIED:20250216T174046Z
UID:10027444-1822062600-1822064400@colorcomunitaria.org
SUMMARY:Aprender con onda
DESCRIPTION:
URL:https://colorcomunitaria.org/evento/aprender-con-onda/2027-09-27/
END:VEVENT
BEGIN:VEVENT
DTSTART;TZID=Europe/Madrid:20270927T190000
DTEND;TZID=Europe/Madrid:20270927T200000
DTSTAMP:20260420T232111
CREATED:20250216T173505Z
LAST-MODIFIED:20250216T173505Z
UID:10020188-1822071600-1822075200@colorcomunitaria.org
SUMMARY:Informativo De este a Oeste (OLA)
DESCRIPTION:
URL:https://colorcomunitaria.org/evento/informativo-de-este-a-oeste-ola-3/2027-09-27/
END:VEVENT
BEGIN:VEVENT
DTSTART;TZID=Europe/Madrid:20270927T210000
DTEND;TZID=Europe/Madrid:20270927T220000
DTSTAMP:20260420T232111
CREATED:20250216T184112Z
LAST-MODIFIED:20250216T184112Z
UID:10039319-1822078800-1822082400@colorcomunitaria.org
SUMMARY:De mil colores
DESCRIPTION:
URL:https://colorcomunitaria.org/evento/de-mil-colores/2027-09-27/
END:VEVENT
BEGIN:VEVENT
DTSTART;TZID=Europe/Madrid:20270928T010000
DTEND;TZID=Europe/Madrid:20270928T020000
DTSTAMP:20260420T232111
CREATED:20250216T173544Z
LAST-MODIFIED:20250216T173632Z
UID:10022285-1822093200-1822096800@colorcomunitaria.org
SUMMARY:Informativo De este a Oeste (OLA) (R)
DESCRIPTION:
URL:https://colorcomunitaria.org/evento/informativo-de-este-a-oeste-ola-r/2027-09-28/
END:VEVENT
BEGIN:VEVENT
DTSTART;TZID=Europe/Madrid:20270928T020000
DTEND;TZID=Europe/Madrid:20270928T040000
DTSTAMP:20260420T232111
CREATED:20250216T180923Z
LAST-MODIFIED:20250216T181107Z
UID:10033746-1822096800-1822104000@colorcomunitaria.org
SUMMARY:Radioteatros Bicicleta Atómica y Audiodrama Colectivo
DESCRIPTION:
URL:https://colorcomunitaria.org/evento/radioteatros-bicicleta-atomica-y-audiodrama-colectivo/2027-09-28/
END:VEVENT
BEGIN:VEVENT
DTSTART;TZID=Europe/Madrid:20270928T083000
DTEND;TZID=Europe/Madrid:20270928T100000
DTSTAMP:20260420T232111
CREATED:20250214T170834Z
LAST-MODIFIED:20250214T170906Z
UID:10011410-1822120200-1822125600@colorcomunitaria.org
SUMMARY:Informativo De este a Oeste (OLA)
DESCRIPTION:
URL:https://colorcomunitaria.org/evento/informativo-de-este-a-oeste-ola/2027-09-28/
END:VEVENT
BEGIN:VEVENT
DTSTART;TZID=Europe/Madrid:20270928T100000
DTEND;TZID=Europe/Madrid:20270928T100500
DTSTAMP:20260420T232111
CREATED:20250214T171100Z
LAST-MODIFIED:20250214T171102Z
UID:10012723-1822125600-1822125900@colorcomunitaria.org
SUMMARY:Boletín informativo OLA
DESCRIPTION:
URL:https://colorcomunitaria.org/evento/boletin-informativo-ola-2/2027-09-28/
END:VEVENT
BEGIN:VEVENT
DTSTART;TZID=Europe/Madrid:20270928T100500
DTEND;TZID=Europe/Madrid:20270928T103500
DTSTAMP:20260420T232111
CREATED:20250121T155655Z
LAST-MODIFIED:20250214T162406Z
UID:10008535-1822125900-1822127700@colorcomunitaria.org
SUMMARY:Cerca de tu casa
DESCRIPTION:Magacín sobre lo que pasa en Palma Palmilla. Colabora Junta de Distrito 5 Palma Palmilla del Ayuntamiento  de Málaga.
URL:https://colorcomunitaria.org/evento/cerca-de-tu-casa/2027-09-28/
CATEGORIES:Palma Palmilla
ATTACH;FMTTYPE=image/jpeg:https://colorcomunitaria.org/wp-content/uploads/2025/01/imagen-loco-cdtc-cerca-de-tu-casa-grande-e1737380447434.jpg
END:VEVENT
BEGIN:VEVENT
DTSTART;TZID=Europe/Madrid:20270928T103500
DTEND;TZID=Europe/Madrid:20270928T104500
DTSTAMP:20260420T232111
CREATED:20250216T172831Z
LAST-MODIFIED:20250216T173153Z
UID:10015747-1822127700-1822128300@colorcomunitaria.org
SUMMARY:Cerca de tu casa - Málaga
DESCRIPTION:
URL:https://colorcomunitaria.org/evento/cerca-de-tu-casa-edicion-malaga/2027-09-28/
END:VEVENT
BEGIN:VEVENT
DTSTART;TZID=Europe/Madrid:20270928T110500
DTEND;TZID=Europe/Madrid:20270928T123000
DTSTAMP:20260420T232111
CREATED:20250214T165815Z
LAST-MODIFIED:20250214T165815Z
UID:10010341-1822129500-1822134600@colorcomunitaria.org
SUMMARY:La voz de vida
DESCRIPTION:
URL:https://colorcomunitaria.org/evento/la-voz-de-vida/2027-09-28/
END:VEVENT
BEGIN:VEVENT
DTSTART;TZID=Europe/Madrid:20270928T130000
DTEND;TZID=Europe/Madrid:20270928T133000
DTSTAMP:20260420T232111
CREATED:20250216T173355Z
LAST-MODIFIED:20250216T173355Z
UID:10018093-1822136400-1822138200@colorcomunitaria.org
SUMMARY:Informativo De este a Oeste (OLA)
DESCRIPTION:
URL:https://colorcomunitaria.org/evento/informativo-de-este-a-oeste-ola-2/2027-09-28/
END:VEVENT
BEGIN:VEVENT
DTSTART;TZID=Europe/Madrid:20270928T160000
DTEND;TZID=Europe/Madrid:20270928T163000
DTSTAMP:20260420T232111
CREATED:20250216T173851Z
LAST-MODIFIED:20250216T173851Z
UID:10024810-1822147200-1822149000@colorcomunitaria.org
SUMMARY:Cerca de tu casa (R)
DESCRIPTION:Magacín sobre lo que pasa en Palma Palmilla. Colabora Junta de Distrito 5 Palma Palmilla del Ayuntamiento  de Málaga.
URL:https://colorcomunitaria.org/evento/cerca-de-tu-casa-r/2027-09-28/
CATEGORIES:Palma Palmilla
ATTACH;FMTTYPE=image/jpeg:https://colorcomunitaria.org/wp-content/uploads/2025/01/imagen-loco-cdtc-cerca-de-tu-casa-grande-e1737380447434.jpg
END:VEVENT
BEGIN:VEVENT
DTSTART;TZID=Europe/Madrid:20270928T163000
DTEND;TZID=Europe/Madrid:20270928T170000
DTSTAMP:20260420T232111
CREATED:20250216T174046Z
LAST-MODIFIED:20250216T174046Z
UID:10027445-1822149000-1822150800@colorcomunitaria.org
SUMMARY:Aprender con onda
DESCRIPTION:
URL:https://colorcomunitaria.org/evento/aprender-con-onda/2027-09-28/
END:VEVENT
BEGIN:VEVENT
DTSTART;TZID=Europe/Madrid:20270928T190000
DTEND;TZID=Europe/Madrid:20270928T200000
DTSTAMP:20260420T232111
CREATED:20250216T173505Z
LAST-MODIFIED:20250216T173505Z
UID:10020189-1822158000-1822161600@colorcomunitaria.org
SUMMARY:Informativo De este a Oeste (OLA)
DESCRIPTION:
URL:https://colorcomunitaria.org/evento/informativo-de-este-a-oeste-ola-3/2027-09-28/
END:VEVENT
BEGIN:VEVENT
DTSTART;TZID=Europe/Madrid:20270928T200000
DTEND;TZID=Europe/Madrid:20270928T210000
DTSTAMP:20260420T232111
CREATED:20250214T172034Z
LAST-MODIFIED:20250214T172034Z
UID:10013751-1822161600-1822165200@colorcomunitaria.org
SUMMARY:Puentes
DESCRIPTION:
URL:https://colorcomunitaria.org/evento/puentes/2027-09-28/
END:VEVENT
BEGIN:VEVENT
DTSTART;TZID=Europe/Madrid:20270928T210000
DTEND;TZID=Europe/Madrid:20270928T220000
DTSTAMP:20260420T232111
CREATED:20250214T172202Z
LAST-MODIFIED:20250214T172202Z
UID:10014013-1822165200-1822168800@colorcomunitaria.org
SUMMARY:La voz de los sin voz
DESCRIPTION:
URL:https://colorcomunitaria.org/evento/la-voz-de-los-sin-voz/2027-09-28/
END:VEVENT
BEGIN:VEVENT
DTSTART;TZID=Europe/Madrid:20270929T000000
DTEND;TZID=Europe/Madrid:20270929T010000
DTSTAMP:20260420T232111
CREATED:20250216T175230Z
LAST-MODIFIED:20250216T175230Z
UID:10029514-1822176000-1822179600@colorcomunitaria.org
SUMMARY:Málaga Cultura Viva (R)
DESCRIPTION:
URL:https://colorcomunitaria.org/evento/malaga-cultura-viva-r/2027-09-29/
END:VEVENT
BEGIN:VEVENT
DTSTART;TZID=Europe/Madrid:20270929T010000
DTEND;TZID=Europe/Madrid:20270929T020000
DTSTAMP:20260420T232111
CREATED:20250216T173544Z
LAST-MODIFIED:20250216T173632Z
UID:10022286-1822179600-1822183200@colorcomunitaria.org
SUMMARY:Informativo De este a Oeste (OLA) (R)
DESCRIPTION:
URL:https://colorcomunitaria.org/evento/informativo-de-este-a-oeste-ola-r/2027-09-29/
END:VEVENT
BEGIN:VEVENT
DTSTART;TZID=Europe/Madrid:20270929T020000
DTEND;TZID=Europe/Madrid:20270929T040000
DTSTAMP:20260420T232111
CREATED:20250216T180923Z
LAST-MODIFIED:20250216T181107Z
UID:10033747-1822183200-1822190400@colorcomunitaria.org
SUMMARY:Radioteatros Bicicleta Atómica y Audiodrama Colectivo
DESCRIPTION:
URL:https://colorcomunitaria.org/evento/radioteatros-bicicleta-atomica-y-audiodrama-colectivo/2027-09-29/
END:VEVENT
BEGIN:VEVENT
DTSTART;TZID=Europe/Madrid:20270929T083000
DTEND;TZID=Europe/Madrid:20270929T100000
DTSTAMP:20260420T232111
CREATED:20250214T170834Z
LAST-MODIFIED:20250214T170906Z
UID:10011411-1822206600-1822212000@colorcomunitaria.org
SUMMARY:Informativo De este a Oeste (OLA)
DESCRIPTION:
URL:https://colorcomunitaria.org/evento/informativo-de-este-a-oeste-ola/2027-09-29/
END:VEVENT
END:VCALENDAR