BEGIN:VCALENDAR
VERSION:2.0
PRODID:-//Color comunitaria - ECPv6.9.1//NONSGML v1.0//EN
CALSCALE:GREGORIAN
METHOD:PUBLISH
X-WR-CALNAME:Color comunitaria
X-ORIGINAL-URL:https://colorcomunitaria.org
X-WR-CALDESC:Eventos para Color comunitaria
REFRESH-INTERVAL;VALUE=DURATION:PT1H
X-Robots-Tag:noindex
X-PUBLISHED-TTL:PT1H
BEGIN:VTIMEZONE
TZID:Europe/Madrid
BEGIN:DAYLIGHT
TZOFFSETFROM:+0100
TZOFFSETTO:+0200
TZNAME:CEST
DTSTART:20270328T010000
END:DAYLIGHT
BEGIN:STANDARD
TZOFFSETFROM:+0200
TZOFFSETTO:+0100
TZNAME:CET
DTSTART:20271031T010000
END:STANDARD
END:VTIMEZONE
BEGIN:VEVENT
DTSTART;TZID=Europe/Madrid:20271011T010000
DTEND;TZID=Europe/Madrid:20271011T020000
DTSTAMP:20260421T031313
CREATED:20250216T173544Z
LAST-MODIFIED:20250216T173632Z
UID:10022292-1823216400-1823220000@colorcomunitaria.org
SUMMARY:Informativo De este a Oeste (OLA) (R)
DESCRIPTION:
URL:https://colorcomunitaria.org/evento/informativo-de-este-a-oeste-ola-r/2027-10-11/
END:VEVENT
BEGIN:VEVENT
DTSTART;TZID=Europe/Madrid:20271011T020000
DTEND;TZID=Europe/Madrid:20271011T040000
DTSTAMP:20260421T031313
CREATED:20250216T180923Z
LAST-MODIFIED:20250216T181107Z
UID:10033759-1823220000-1823227200@colorcomunitaria.org
SUMMARY:Radioteatros Bicicleta Atómica y Audiodrama Colectivo
DESCRIPTION:
URL:https://colorcomunitaria.org/evento/radioteatros-bicicleta-atomica-y-audiodrama-colectivo/2027-10-11/
END:VEVENT
BEGIN:VEVENT
DTSTART;TZID=Europe/Madrid:20271011T083000
DTEND;TZID=Europe/Madrid:20271011T100000
DTSTAMP:20260421T031313
CREATED:20250214T170834Z
LAST-MODIFIED:20250214T170906Z
UID:10011419-1823243400-1823248800@colorcomunitaria.org
SUMMARY:Informativo De este a Oeste (OLA)
DESCRIPTION:
URL:https://colorcomunitaria.org/evento/informativo-de-este-a-oeste-ola/2027-10-11/
END:VEVENT
BEGIN:VEVENT
DTSTART;TZID=Europe/Madrid:20271011T100000
DTEND;TZID=Europe/Madrid:20271011T100500
DTSTAMP:20260421T031313
CREATED:20250214T171100Z
LAST-MODIFIED:20250214T171102Z
UID:10012732-1823248800-1823249100@colorcomunitaria.org
SUMMARY:Boletín informativo OLA
DESCRIPTION:
URL:https://colorcomunitaria.org/evento/boletin-informativo-ola-2/2027-10-11/
END:VEVENT
BEGIN:VEVENT
DTSTART;TZID=Europe/Madrid:20271011T100500
DTEND;TZID=Europe/Madrid:20271011T103500
DTSTAMP:20260421T031313
CREATED:20250121T155655Z
LAST-MODIFIED:20250214T162406Z
UID:10008544-1823249100-1823250900@colorcomunitaria.org
SUMMARY:Cerca de tu casa
DESCRIPTION:Magacín sobre lo que pasa en Palma Palmilla. Colabora Junta de Distrito 5 Palma Palmilla del Ayuntamiento  de Málaga.
URL:https://colorcomunitaria.org/evento/cerca-de-tu-casa/2027-10-11/
CATEGORIES:Palma Palmilla
ATTACH;FMTTYPE=image/jpeg:https://colorcomunitaria.org/wp-content/uploads/2025/01/imagen-loco-cdtc-cerca-de-tu-casa-grande-e1737380447434.jpg
END:VEVENT
BEGIN:VEVENT
DTSTART;TZID=Europe/Madrid:20271011T103500
DTEND;TZID=Europe/Madrid:20271011T104500
DTSTAMP:20260421T031313
CREATED:20250216T172831Z
LAST-MODIFIED:20250216T173153Z
UID:10015758-1823250900-1823251500@colorcomunitaria.org
SUMMARY:Cerca de tu casa - Málaga
DESCRIPTION:
URL:https://colorcomunitaria.org/evento/cerca-de-tu-casa-edicion-malaga/2027-10-11/
END:VEVENT
BEGIN:VEVENT
DTSTART;TZID=Europe/Madrid:20271011T110500
DTEND;TZID=Europe/Madrid:20271011T120000
DTSTAMP:20260421T031313
CREATED:20250214T162718Z
LAST-MODIFIED:20250214T162800Z
UID:10009820-1823252700-1823256000@colorcomunitaria.org
SUMMARY:Con otra mirada
DESCRIPTION:
URL:https://colorcomunitaria.org/evento/con-otra-mirada/2027-10-11/
END:VEVENT
BEGIN:VEVENT
DTSTART;TZID=Europe/Madrid:20271011T120500
DTEND;TZID=Europe/Madrid:20271011T130000
DTSTAMP:20260421T031313
CREATED:20250214T165409Z
LAST-MODIFIED:20250214T165409Z
UID:10010081-1823256300-1823259600@colorcomunitaria.org
SUMMARY:Sabemos lo que queremos
DESCRIPTION:
URL:https://colorcomunitaria.org/evento/sabemos-lo-que-queremos/2027-10-11/
END:VEVENT
BEGIN:VEVENT
DTSTART;TZID=Europe/Madrid:20271011T130000
DTEND;TZID=Europe/Madrid:20271011T133000
DTSTAMP:20260421T031313
CREATED:20250216T173355Z
LAST-MODIFIED:20250216T173355Z
UID:10018100-1823259600-1823261400@colorcomunitaria.org
SUMMARY:Informativo De este a Oeste (OLA)
DESCRIPTION:
URL:https://colorcomunitaria.org/evento/informativo-de-este-a-oeste-ola-2/2027-10-11/
END:VEVENT
BEGIN:VEVENT
DTSTART;TZID=Europe/Madrid:20271011T160000
DTEND;TZID=Europe/Madrid:20271011T163000
DTSTAMP:20260421T031313
CREATED:20250216T173851Z
LAST-MODIFIED:20250216T173851Z
UID:10024819-1823270400-1823272200@colorcomunitaria.org
SUMMARY:Cerca de tu casa (R)
DESCRIPTION:Magacín sobre lo que pasa en Palma Palmilla. Colabora Junta de Distrito 5 Palma Palmilla del Ayuntamiento  de Málaga.
URL:https://colorcomunitaria.org/evento/cerca-de-tu-casa-r/2027-10-11/
CATEGORIES:Palma Palmilla
ATTACH;FMTTYPE=image/jpeg:https://colorcomunitaria.org/wp-content/uploads/2025/01/imagen-loco-cdtc-cerca-de-tu-casa-grande-e1737380447434.jpg
END:VEVENT
BEGIN:VEVENT
DTSTART;TZID=Europe/Madrid:20271011T163000
DTEND;TZID=Europe/Madrid:20271011T170000
DTSTAMP:20260421T031313
CREATED:20250216T174046Z
LAST-MODIFIED:20250216T174046Z
UID:10027454-1823272200-1823274000@colorcomunitaria.org
SUMMARY:Aprender con onda
DESCRIPTION:
URL:https://colorcomunitaria.org/evento/aprender-con-onda/2027-10-11/
END:VEVENT
BEGIN:VEVENT
DTSTART;TZID=Europe/Madrid:20271011T190000
DTEND;TZID=Europe/Madrid:20271011T200000
DTSTAMP:20260421T031313
CREATED:20250216T173505Z
LAST-MODIFIED:20250216T173505Z
UID:10020196-1823281200-1823284800@colorcomunitaria.org
SUMMARY:Informativo De este a Oeste (OLA)
DESCRIPTION:
URL:https://colorcomunitaria.org/evento/informativo-de-este-a-oeste-ola-3/2027-10-11/
END:VEVENT
BEGIN:VEVENT
DTSTART;TZID=Europe/Madrid:20271011T210000
DTEND;TZID=Europe/Madrid:20271011T220000
DTSTAMP:20260421T031313
CREATED:20250216T184112Z
LAST-MODIFIED:20250216T184112Z
UID:10039321-1823288400-1823292000@colorcomunitaria.org
SUMMARY:De mil colores
DESCRIPTION:
URL:https://colorcomunitaria.org/evento/de-mil-colores/2027-10-11/
END:VEVENT
BEGIN:VEVENT
DTSTART;TZID=Europe/Madrid:20271012T010000
DTEND;TZID=Europe/Madrid:20271012T020000
DTSTAMP:20260421T031313
CREATED:20250216T173544Z
LAST-MODIFIED:20250216T173632Z
UID:10022293-1823302800-1823306400@colorcomunitaria.org
SUMMARY:Informativo De este a Oeste (OLA) (R)
DESCRIPTION:
URL:https://colorcomunitaria.org/evento/informativo-de-este-a-oeste-ola-r/2027-10-12/
END:VEVENT
BEGIN:VEVENT
DTSTART;TZID=Europe/Madrid:20271012T020000
DTEND;TZID=Europe/Madrid:20271012T040000
DTSTAMP:20260421T031313
CREATED:20250216T180923Z
LAST-MODIFIED:20250216T181107Z
UID:10033760-1823306400-1823313600@colorcomunitaria.org
SUMMARY:Radioteatros Bicicleta Atómica y Audiodrama Colectivo
DESCRIPTION:
URL:https://colorcomunitaria.org/evento/radioteatros-bicicleta-atomica-y-audiodrama-colectivo/2027-10-12/
END:VEVENT
BEGIN:VEVENT
DTSTART;TZID=Europe/Madrid:20271012T083000
DTEND;TZID=Europe/Madrid:20271012T100000
DTSTAMP:20260421T031313
CREATED:20250214T170834Z
LAST-MODIFIED:20250214T170906Z
UID:10011420-1823329800-1823335200@colorcomunitaria.org
SUMMARY:Informativo De este a Oeste (OLA)
DESCRIPTION:
URL:https://colorcomunitaria.org/evento/informativo-de-este-a-oeste-ola/2027-10-12/
END:VEVENT
BEGIN:VEVENT
DTSTART;TZID=Europe/Madrid:20271012T100000
DTEND;TZID=Europe/Madrid:20271012T100500
DTSTAMP:20260421T031313
CREATED:20250214T171100Z
LAST-MODIFIED:20250214T171102Z
UID:10012733-1823335200-1823335500@colorcomunitaria.org
SUMMARY:Boletín informativo OLA
DESCRIPTION:
URL:https://colorcomunitaria.org/evento/boletin-informativo-ola-2/2027-10-12/
END:VEVENT
BEGIN:VEVENT
DTSTART;TZID=Europe/Madrid:20271012T100500
DTEND;TZID=Europe/Madrid:20271012T103500
DTSTAMP:20260421T031313
CREATED:20250121T155655Z
LAST-MODIFIED:20250214T162406Z
UID:10008545-1823335500-1823337300@colorcomunitaria.org
SUMMARY:Cerca de tu casa
DESCRIPTION:Magacín sobre lo que pasa en Palma Palmilla. Colabora Junta de Distrito 5 Palma Palmilla del Ayuntamiento  de Málaga.
URL:https://colorcomunitaria.org/evento/cerca-de-tu-casa/2027-10-12/
CATEGORIES:Palma Palmilla
ATTACH;FMTTYPE=image/jpeg:https://colorcomunitaria.org/wp-content/uploads/2025/01/imagen-loco-cdtc-cerca-de-tu-casa-grande-e1737380447434.jpg
END:VEVENT
BEGIN:VEVENT
DTSTART;TZID=Europe/Madrid:20271012T103500
DTEND;TZID=Europe/Madrid:20271012T104500
DTSTAMP:20260421T031313
CREATED:20250216T172831Z
LAST-MODIFIED:20250216T173153Z
UID:10015759-1823337300-1823337900@colorcomunitaria.org
SUMMARY:Cerca de tu casa - Málaga
DESCRIPTION:
URL:https://colorcomunitaria.org/evento/cerca-de-tu-casa-edicion-malaga/2027-10-12/
END:VEVENT
BEGIN:VEVENT
DTSTART;TZID=Europe/Madrid:20271012T110500
DTEND;TZID=Europe/Madrid:20271012T123000
DTSTAMP:20260421T031313
CREATED:20250214T165815Z
LAST-MODIFIED:20250214T165815Z
UID:10010343-1823339100-1823344200@colorcomunitaria.org
SUMMARY:La voz de vida
DESCRIPTION:
URL:https://colorcomunitaria.org/evento/la-voz-de-vida/2027-10-12/
END:VEVENT
BEGIN:VEVENT
DTSTART;TZID=Europe/Madrid:20271012T130000
DTEND;TZID=Europe/Madrid:20271012T133000
DTSTAMP:20260421T031313
CREATED:20250216T173355Z
LAST-MODIFIED:20250216T173355Z
UID:10018101-1823346000-1823347800@colorcomunitaria.org
SUMMARY:Informativo De este a Oeste (OLA)
DESCRIPTION:
URL:https://colorcomunitaria.org/evento/informativo-de-este-a-oeste-ola-2/2027-10-12/
END:VEVENT
BEGIN:VEVENT
DTSTART;TZID=Europe/Madrid:20271012T160000
DTEND;TZID=Europe/Madrid:20271012T163000
DTSTAMP:20260421T031314
CREATED:20250216T173851Z
LAST-MODIFIED:20250216T173851Z
UID:10024820-1823356800-1823358600@colorcomunitaria.org
SUMMARY:Cerca de tu casa (R)
DESCRIPTION:Magacín sobre lo que pasa en Palma Palmilla. Colabora Junta de Distrito 5 Palma Palmilla del Ayuntamiento  de Málaga.
URL:https://colorcomunitaria.org/evento/cerca-de-tu-casa-r/2027-10-12/
CATEGORIES:Palma Palmilla
ATTACH;FMTTYPE=image/jpeg:https://colorcomunitaria.org/wp-content/uploads/2025/01/imagen-loco-cdtc-cerca-de-tu-casa-grande-e1737380447434.jpg
END:VEVENT
BEGIN:VEVENT
DTSTART;TZID=Europe/Madrid:20271012T163000
DTEND;TZID=Europe/Madrid:20271012T170000
DTSTAMP:20260421T031314
CREATED:20250216T174046Z
LAST-MODIFIED:20250216T174046Z
UID:10027455-1823358600-1823360400@colorcomunitaria.org
SUMMARY:Aprender con onda
DESCRIPTION:
URL:https://colorcomunitaria.org/evento/aprender-con-onda/2027-10-12/
END:VEVENT
BEGIN:VEVENT
DTSTART;TZID=Europe/Madrid:20271012T190000
DTEND;TZID=Europe/Madrid:20271012T200000
DTSTAMP:20260421T031314
CREATED:20250216T173505Z
LAST-MODIFIED:20250216T173505Z
UID:10020197-1823367600-1823371200@colorcomunitaria.org
SUMMARY:Informativo De este a Oeste (OLA)
DESCRIPTION:
URL:https://colorcomunitaria.org/evento/informativo-de-este-a-oeste-ola-3/2027-10-12/
END:VEVENT
BEGIN:VEVENT
DTSTART;TZID=Europe/Madrid:20271012T200000
DTEND;TZID=Europe/Madrid:20271012T210000
DTSTAMP:20260421T031314
CREATED:20250214T172034Z
LAST-MODIFIED:20250214T172034Z
UID:10013753-1823371200-1823374800@colorcomunitaria.org
SUMMARY:Puentes
DESCRIPTION:
URL:https://colorcomunitaria.org/evento/puentes/2027-10-12/
END:VEVENT
BEGIN:VEVENT
DTSTART;TZID=Europe/Madrid:20271012T210000
DTEND;TZID=Europe/Madrid:20271012T220000
DTSTAMP:20260421T031314
CREATED:20250214T172202Z
LAST-MODIFIED:20250214T172202Z
UID:10014015-1823374800-1823378400@colorcomunitaria.org
SUMMARY:La voz de los sin voz
DESCRIPTION:
URL:https://colorcomunitaria.org/evento/la-voz-de-los-sin-voz/2027-10-12/
END:VEVENT
BEGIN:VEVENT
DTSTART;TZID=Europe/Madrid:20271013T000000
DTEND;TZID=Europe/Madrid:20271013T010000
DTSTAMP:20260421T031314
CREATED:20250216T175230Z
LAST-MODIFIED:20250216T175230Z
UID:10029516-1823385600-1823389200@colorcomunitaria.org
SUMMARY:Málaga Cultura Viva (R)
DESCRIPTION:
URL:https://colorcomunitaria.org/evento/malaga-cultura-viva-r/2027-10-13/
END:VEVENT
BEGIN:VEVENT
DTSTART;TZID=Europe/Madrid:20271013T010000
DTEND;TZID=Europe/Madrid:20271013T020000
DTSTAMP:20260421T031314
CREATED:20250216T173544Z
LAST-MODIFIED:20250216T173632Z
UID:10022294-1823389200-1823392800@colorcomunitaria.org
SUMMARY:Informativo De este a Oeste (OLA) (R)
DESCRIPTION:
URL:https://colorcomunitaria.org/evento/informativo-de-este-a-oeste-ola-r/2027-10-13/
END:VEVENT
BEGIN:VEVENT
DTSTART;TZID=Europe/Madrid:20271013T020000
DTEND;TZID=Europe/Madrid:20271013T040000
DTSTAMP:20260421T031314
CREATED:20250216T180923Z
LAST-MODIFIED:20250216T181107Z
UID:10033761-1823392800-1823400000@colorcomunitaria.org
SUMMARY:Radioteatros Bicicleta Atómica y Audiodrama Colectivo
DESCRIPTION:
URL:https://colorcomunitaria.org/evento/radioteatros-bicicleta-atomica-y-audiodrama-colectivo/2027-10-13/
END:VEVENT
BEGIN:VEVENT
DTSTART;TZID=Europe/Madrid:20271013T083000
DTEND;TZID=Europe/Madrid:20271013T100000
DTSTAMP:20260421T031314
CREATED:20250214T170834Z
LAST-MODIFIED:20250214T170906Z
UID:10011421-1823416200-1823421600@colorcomunitaria.org
SUMMARY:Informativo De este a Oeste (OLA)
DESCRIPTION:
URL:https://colorcomunitaria.org/evento/informativo-de-este-a-oeste-ola/2027-10-13/
END:VEVENT
END:VCALENDAR