BEGIN:VCALENDAR
VERSION:2.0
PRODID:-//Color comunitaria - ECPv6.9.1//NONSGML v1.0//EN
CALSCALE:GREGORIAN
METHOD:PUBLISH
X-ORIGINAL-URL:https://colorcomunitaria.org
X-WR-CALDESC:Eventos para Color comunitaria
REFRESH-INTERVAL;VALUE=DURATION:PT1H
X-Robots-Tag:noindex
X-PUBLISHED-TTL:PT1H
BEGIN:VTIMEZONE
TZID:Europe/Madrid
BEGIN:DAYLIGHT
TZOFFSETFROM:+0100
TZOFFSETTO:+0200
TZNAME:CEST
DTSTART:20270328T010000
END:DAYLIGHT
BEGIN:STANDARD
TZOFFSETFROM:+0200
TZOFFSETTO:+0100
TZNAME:CET
DTSTART:20271031T010000
END:STANDARD
END:VTIMEZONE
BEGIN:VEVENT
DTSTART;TZID=Europe/Madrid:20271101T010000
DTEND;TZID=Europe/Madrid:20271101T020000
DTSTAMP:20260421T051602
CREATED:20250216T173544Z
LAST-MODIFIED:20250216T173632Z
UID:10022304-1825030800-1825034400@colorcomunitaria.org
SUMMARY:Informativo De este a Oeste (OLA) (R)
DESCRIPTION:
URL:https://colorcomunitaria.org/evento/informativo-de-este-a-oeste-ola-r/2027-11-01/
END:VEVENT
BEGIN:VEVENT
DTSTART;TZID=Europe/Madrid:20271101T020000
DTEND;TZID=Europe/Madrid:20271101T040000
DTSTAMP:20260421T051602
CREATED:20250216T180923Z
LAST-MODIFIED:20250216T181107Z
UID:10033780-1825034400-1825041600@colorcomunitaria.org
SUMMARY:Radioteatros Bicicleta Atómica y Audiodrama Colectivo
DESCRIPTION:
URL:https://colorcomunitaria.org/evento/radioteatros-bicicleta-atomica-y-audiodrama-colectivo/2027-11-01/
END:VEVENT
BEGIN:VEVENT
DTSTART;TZID=Europe/Madrid:20271101T083000
DTEND;TZID=Europe/Madrid:20271101T100000
DTSTAMP:20260421T051602
CREATED:20250214T170834Z
LAST-MODIFIED:20250214T170906Z
UID:10011434-1825057800-1825063200@colorcomunitaria.org
SUMMARY:Informativo De este a Oeste (OLA)
DESCRIPTION:
URL:https://colorcomunitaria.org/evento/informativo-de-este-a-oeste-ola/2027-11-01/
END:VEVENT
BEGIN:VEVENT
DTSTART;TZID=Europe/Madrid:20271101T100000
DTEND;TZID=Europe/Madrid:20271101T100500
DTSTAMP:20260421T051602
CREATED:20250214T171100Z
LAST-MODIFIED:20250214T171102Z
UID:10012747-1825063200-1825063500@colorcomunitaria.org
SUMMARY:Boletín informativo OLA
DESCRIPTION:
URL:https://colorcomunitaria.org/evento/boletin-informativo-ola-2/2027-11-01/
END:VEVENT
BEGIN:VEVENT
DTSTART;TZID=Europe/Madrid:20271101T100500
DTEND;TZID=Europe/Madrid:20271101T103500
DTSTAMP:20260421T051602
CREATED:20250121T155655Z
LAST-MODIFIED:20250214T162406Z
UID:10008559-1825063500-1825065300@colorcomunitaria.org
SUMMARY:Cerca de tu casa
DESCRIPTION:Magacín sobre lo que pasa en Palma Palmilla. Colabora Junta de Distrito 5 Palma Palmilla del Ayuntamiento  de Málaga.
URL:https://colorcomunitaria.org/evento/cerca-de-tu-casa/2027-11-01/
CATEGORIES:Palma Palmilla
ATTACH;FMTTYPE=image/jpeg:https://colorcomunitaria.org/wp-content/uploads/2025/01/imagen-loco-cdtc-cerca-de-tu-casa-grande-e1737380447434.jpg
END:VEVENT
BEGIN:VEVENT
DTSTART;TZID=Europe/Madrid:20271101T103500
DTEND;TZID=Europe/Madrid:20271101T104500
DTSTAMP:20260421T051602
CREATED:20250216T172831Z
LAST-MODIFIED:20250216T173153Z
UID:10015776-1825065300-1825065900@colorcomunitaria.org
SUMMARY:Cerca de tu casa - Málaga
DESCRIPTION:
URL:https://colorcomunitaria.org/evento/cerca-de-tu-casa-edicion-malaga/2027-11-01/
END:VEVENT
BEGIN:VEVENT
DTSTART;TZID=Europe/Madrid:20271101T110500
DTEND;TZID=Europe/Madrid:20271101T120000
DTSTAMP:20260421T051602
CREATED:20250214T162718Z
LAST-MODIFIED:20250214T162800Z
UID:10009823-1825067100-1825070400@colorcomunitaria.org
SUMMARY:Con otra mirada
DESCRIPTION:
URL:https://colorcomunitaria.org/evento/con-otra-mirada/2027-11-01/
END:VEVENT
BEGIN:VEVENT
DTSTART;TZID=Europe/Madrid:20271101T120500
DTEND;TZID=Europe/Madrid:20271101T130000
DTSTAMP:20260421T051602
CREATED:20250214T165409Z
LAST-MODIFIED:20250214T165409Z
UID:10010084-1825070700-1825074000@colorcomunitaria.org
SUMMARY:Sabemos lo que queremos
DESCRIPTION:
URL:https://colorcomunitaria.org/evento/sabemos-lo-que-queremos/2027-11-01/
END:VEVENT
BEGIN:VEVENT
DTSTART;TZID=Europe/Madrid:20271101T130000
DTEND;TZID=Europe/Madrid:20271101T133000
DTSTAMP:20260421T051602
CREATED:20250216T173355Z
LAST-MODIFIED:20250216T173355Z
UID:10018112-1825074000-1825075800@colorcomunitaria.org
SUMMARY:Informativo De este a Oeste (OLA)
DESCRIPTION:
URL:https://colorcomunitaria.org/evento/informativo-de-este-a-oeste-ola-2/2027-11-01/
END:VEVENT
BEGIN:VEVENT
DTSTART;TZID=Europe/Madrid:20271101T160000
DTEND;TZID=Europe/Madrid:20271101T163000
DTSTAMP:20260421T051602
CREATED:20250216T173851Z
LAST-MODIFIED:20250216T173851Z
UID:10024834-1825084800-1825086600@colorcomunitaria.org
SUMMARY:Cerca de tu casa (R)
DESCRIPTION:Magacín sobre lo que pasa en Palma Palmilla. Colabora Junta de Distrito 5 Palma Palmilla del Ayuntamiento  de Málaga.
URL:https://colorcomunitaria.org/evento/cerca-de-tu-casa-r/2027-11-01/
CATEGORIES:Palma Palmilla
ATTACH;FMTTYPE=image/jpeg:https://colorcomunitaria.org/wp-content/uploads/2025/01/imagen-loco-cdtc-cerca-de-tu-casa-grande-e1737380447434.jpg
END:VEVENT
BEGIN:VEVENT
DTSTART;TZID=Europe/Madrid:20271101T163000
DTEND;TZID=Europe/Madrid:20271101T170000
DTSTAMP:20260421T051602
CREATED:20250216T174046Z
LAST-MODIFIED:20250216T174046Z
UID:10027469-1825086600-1825088400@colorcomunitaria.org
SUMMARY:Aprender con onda
DESCRIPTION:
URL:https://colorcomunitaria.org/evento/aprender-con-onda/2027-11-01/
END:VEVENT
BEGIN:VEVENT
DTSTART;TZID=Europe/Madrid:20271101T170500
DTEND;TZID=Europe/Madrid:20271101T180000
DTSTAMP:20260421T051602
CREATED:20250216T181824Z
LAST-MODIFIED:20250216T181824Z
UID:10038314-1825088700-1825092000@colorcomunitaria.org
SUMMARY:Emociones con esencia
DESCRIPTION:
URL:https://colorcomunitaria.org/evento/emociones-con-esencia/2027-11-01/
END:VEVENT
BEGIN:VEVENT
DTSTART;TZID=Europe/Madrid:20271101T190000
DTEND;TZID=Europe/Madrid:20271101T200000
DTSTAMP:20260421T051602
CREATED:20250216T173505Z
LAST-MODIFIED:20250216T173505Z
UID:10020208-1825095600-1825099200@colorcomunitaria.org
SUMMARY:Informativo De este a Oeste (OLA)
DESCRIPTION:
URL:https://colorcomunitaria.org/evento/informativo-de-este-a-oeste-ola-3/2027-11-01/
END:VEVENT
BEGIN:VEVENT
DTSTART;TZID=Europe/Madrid:20271101T200500
DTEND;TZID=Europe/Madrid:20271101T210000
DTSTAMP:20260421T051602
CREATED:20250216T182912Z
LAST-MODIFIED:20250216T183417Z
UID:10039124-1825099500-1825102800@colorcomunitaria.org
SUMMARY:Este libro está muy vivo (R)
DESCRIPTION:
URL:https://colorcomunitaria.org/evento/este-libro-esta-muy-vivo/2027-11-01/
END:VEVENT
BEGIN:VEVENT
DTSTART;TZID=Europe/Madrid:20271101T210000
DTEND;TZID=Europe/Madrid:20271101T220000
DTSTAMP:20260421T051603
CREATED:20250216T184112Z
LAST-MODIFIED:20250216T184112Z
UID:10039324-1825102800-1825106400@colorcomunitaria.org
SUMMARY:De mil colores
DESCRIPTION:
URL:https://colorcomunitaria.org/evento/de-mil-colores/2027-11-01/
END:VEVENT
BEGIN:VEVENT
DTSTART;TZID=Europe/Madrid:20271102T010000
DTEND;TZID=Europe/Madrid:20271102T020000
DTSTAMP:20260421T051603
CREATED:20250216T173544Z
LAST-MODIFIED:20250216T173632Z
UID:10022305-1825117200-1825120800@colorcomunitaria.org
SUMMARY:Informativo De este a Oeste (OLA) (R)
DESCRIPTION:
URL:https://colorcomunitaria.org/evento/informativo-de-este-a-oeste-ola-r/2027-11-02/
END:VEVENT
BEGIN:VEVENT
DTSTART;TZID=Europe/Madrid:20271102T020000
DTEND;TZID=Europe/Madrid:20271102T040000
DTSTAMP:20260421T051603
CREATED:20250216T180923Z
LAST-MODIFIED:20250216T181107Z
UID:10033781-1825120800-1825128000@colorcomunitaria.org
SUMMARY:Radioteatros Bicicleta Atómica y Audiodrama Colectivo
DESCRIPTION:
URL:https://colorcomunitaria.org/evento/radioteatros-bicicleta-atomica-y-audiodrama-colectivo/2027-11-02/
END:VEVENT
BEGIN:VEVENT
DTSTART;TZID=Europe/Madrid:20271102T083000
DTEND;TZID=Europe/Madrid:20271102T100000
DTSTAMP:20260421T051603
CREATED:20250214T170834Z
LAST-MODIFIED:20250214T170906Z
UID:10011435-1825144200-1825149600@colorcomunitaria.org
SUMMARY:Informativo De este a Oeste (OLA)
DESCRIPTION:
URL:https://colorcomunitaria.org/evento/informativo-de-este-a-oeste-ola/2027-11-02/
END:VEVENT
BEGIN:VEVENT
DTSTART;TZID=Europe/Madrid:20271102T100000
DTEND;TZID=Europe/Madrid:20271102T100500
DTSTAMP:20260421T051603
CREATED:20250214T171100Z
LAST-MODIFIED:20250214T171102Z
UID:10012748-1825149600-1825149900@colorcomunitaria.org
SUMMARY:Boletín informativo OLA
DESCRIPTION:
URL:https://colorcomunitaria.org/evento/boletin-informativo-ola-2/2027-11-02/
END:VEVENT
BEGIN:VEVENT
DTSTART;TZID=Europe/Madrid:20271102T100500
DTEND;TZID=Europe/Madrid:20271102T103500
DTSTAMP:20260421T051603
CREATED:20250121T155655Z
LAST-MODIFIED:20250214T162406Z
UID:10008560-1825149900-1825151700@colorcomunitaria.org
SUMMARY:Cerca de tu casa
DESCRIPTION:Magacín sobre lo que pasa en Palma Palmilla. Colabora Junta de Distrito 5 Palma Palmilla del Ayuntamiento  de Málaga.
URL:https://colorcomunitaria.org/evento/cerca-de-tu-casa/2027-11-02/
CATEGORIES:Palma Palmilla
ATTACH;FMTTYPE=image/jpeg:https://colorcomunitaria.org/wp-content/uploads/2025/01/imagen-loco-cdtc-cerca-de-tu-casa-grande-e1737380447434.jpg
END:VEVENT
BEGIN:VEVENT
DTSTART;TZID=Europe/Madrid:20271102T103500
DTEND;TZID=Europe/Madrid:20271102T104500
DTSTAMP:20260421T051603
CREATED:20250216T172831Z
LAST-MODIFIED:20250216T173153Z
UID:10015777-1825151700-1825152300@colorcomunitaria.org
SUMMARY:Cerca de tu casa - Málaga
DESCRIPTION:
URL:https://colorcomunitaria.org/evento/cerca-de-tu-casa-edicion-malaga/2027-11-02/
END:VEVENT
BEGIN:VEVENT
DTSTART;TZID=Europe/Madrid:20271102T110500
DTEND;TZID=Europe/Madrid:20271102T123000
DTSTAMP:20260421T051603
CREATED:20250214T165815Z
LAST-MODIFIED:20250214T165815Z
UID:10010346-1825153500-1825158600@colorcomunitaria.org
SUMMARY:La voz de vida
DESCRIPTION:
URL:https://colorcomunitaria.org/evento/la-voz-de-vida/2027-11-02/
END:VEVENT
BEGIN:VEVENT
DTSTART;TZID=Europe/Madrid:20271102T130000
DTEND;TZID=Europe/Madrid:20271102T133000
DTSTAMP:20260421T051603
CREATED:20250216T173355Z
LAST-MODIFIED:20250216T173355Z
UID:10018113-1825160400-1825162200@colorcomunitaria.org
SUMMARY:Informativo De este a Oeste (OLA)
DESCRIPTION:
URL:https://colorcomunitaria.org/evento/informativo-de-este-a-oeste-ola-2/2027-11-02/
END:VEVENT
BEGIN:VEVENT
DTSTART;TZID=Europe/Madrid:20271102T160000
DTEND;TZID=Europe/Madrid:20271102T163000
DTSTAMP:20260421T051603
CREATED:20250216T173851Z
LAST-MODIFIED:20250216T173851Z
UID:10024835-1825171200-1825173000@colorcomunitaria.org
SUMMARY:Cerca de tu casa (R)
DESCRIPTION:Magacín sobre lo que pasa en Palma Palmilla. Colabora Junta de Distrito 5 Palma Palmilla del Ayuntamiento  de Málaga.
URL:https://colorcomunitaria.org/evento/cerca-de-tu-casa-r/2027-11-02/
CATEGORIES:Palma Palmilla
ATTACH;FMTTYPE=image/jpeg:https://colorcomunitaria.org/wp-content/uploads/2025/01/imagen-loco-cdtc-cerca-de-tu-casa-grande-e1737380447434.jpg
END:VEVENT
BEGIN:VEVENT
DTSTART;TZID=Europe/Madrid:20271102T163000
DTEND;TZID=Europe/Madrid:20271102T170000
DTSTAMP:20260421T051603
CREATED:20250216T174046Z
LAST-MODIFIED:20250216T174046Z
UID:10027470-1825173000-1825174800@colorcomunitaria.org
SUMMARY:Aprender con onda
DESCRIPTION:
URL:https://colorcomunitaria.org/evento/aprender-con-onda/2027-11-02/
END:VEVENT
BEGIN:VEVENT
DTSTART;TZID=Europe/Madrid:20271102T190000
DTEND;TZID=Europe/Madrid:20271102T200000
DTSTAMP:20260421T051603
CREATED:20250216T173505Z
LAST-MODIFIED:20250216T173505Z
UID:10020209-1825182000-1825185600@colorcomunitaria.org
SUMMARY:Informativo De este a Oeste (OLA)
DESCRIPTION:
URL:https://colorcomunitaria.org/evento/informativo-de-este-a-oeste-ola-3/2027-11-02/
END:VEVENT
BEGIN:VEVENT
DTSTART;TZID=Europe/Madrid:20271102T200000
DTEND;TZID=Europe/Madrid:20271102T210000
DTSTAMP:20260421T051603
CREATED:20250214T172034Z
LAST-MODIFIED:20250214T172034Z
UID:10013756-1825185600-1825189200@colorcomunitaria.org
SUMMARY:Puentes
DESCRIPTION:
URL:https://colorcomunitaria.org/evento/puentes/2027-11-02/
END:VEVENT
BEGIN:VEVENT
DTSTART;TZID=Europe/Madrid:20271102T210000
DTEND;TZID=Europe/Madrid:20271102T220000
DTSTAMP:20260421T051603
CREATED:20250214T172202Z
LAST-MODIFIED:20250214T172202Z
UID:10014018-1825189200-1825192800@colorcomunitaria.org
SUMMARY:La voz de los sin voz
DESCRIPTION:
URL:https://colorcomunitaria.org/evento/la-voz-de-los-sin-voz/2027-11-02/
END:VEVENT
BEGIN:VEVENT
DTSTART;TZID=Europe/Madrid:20271103T000000
DTEND;TZID=Europe/Madrid:20271103T010000
DTSTAMP:20260421T051603
CREATED:20250216T175230Z
LAST-MODIFIED:20250216T175230Z
UID:10029519-1825200000-1825203600@colorcomunitaria.org
SUMMARY:Málaga Cultura Viva (R)
DESCRIPTION:
URL:https://colorcomunitaria.org/evento/malaga-cultura-viva-r/2027-11-03/
END:VEVENT
BEGIN:VEVENT
DTSTART;TZID=Europe/Madrid:20271103T010000
DTEND;TZID=Europe/Madrid:20271103T020000
DTSTAMP:20260421T051603
CREATED:20250216T173544Z
LAST-MODIFIED:20250216T173632Z
UID:10022306-1825203600-1825207200@colorcomunitaria.org
SUMMARY:Informativo De este a Oeste (OLA) (R)
DESCRIPTION:
URL:https://colorcomunitaria.org/evento/informativo-de-este-a-oeste-ola-r/2027-11-03/
END:VEVENT
END:VCALENDAR