BEGIN:VCALENDAR
VERSION:2.0
PRODID:-//Color comunitaria - ECPv6.9.1//NONSGML v1.0//EN
CALSCALE:GREGORIAN
METHOD:PUBLISH
X-WR-CALNAME:Color comunitaria
X-ORIGINAL-URL:https://colorcomunitaria.org
X-WR-CALDESC:Eventos para Color comunitaria
REFRESH-INTERVAL;VALUE=DURATION:PT1H
X-Robots-Tag:noindex
X-PUBLISHED-TTL:PT1H
BEGIN:VTIMEZONE
TZID:Europe/Madrid
BEGIN:DAYLIGHT
TZOFFSETFROM:+0100
TZOFFSETTO:+0200
TZNAME:CEST
DTSTART:20270328T010000
END:DAYLIGHT
BEGIN:STANDARD
TZOFFSETFROM:+0200
TZOFFSETTO:+0100
TZNAME:CET
DTSTART:20271031T010000
END:STANDARD
END:VTIMEZONE
BEGIN:VEVENT
DTSTART;TZID=Europe/Madrid:20271122T010000
DTEND;TZID=Europe/Madrid:20271122T020000
DTSTAMP:20260421T110606
CREATED:20250216T173544Z
LAST-MODIFIED:20250216T173632Z
UID:10022316-1826845200-1826848800@colorcomunitaria.org
SUMMARY:Informativo De este a Oeste (OLA) (R)
DESCRIPTION:
URL:https://colorcomunitaria.org/evento/informativo-de-este-a-oeste-ola-r/2027-11-22/
END:VEVENT
BEGIN:VEVENT
DTSTART;TZID=Europe/Madrid:20271122T020000
DTEND;TZID=Europe/Madrid:20271122T040000
DTSTAMP:20260421T110606
CREATED:20250216T180923Z
LAST-MODIFIED:20250216T181107Z
UID:10033801-1826848800-1826856000@colorcomunitaria.org
SUMMARY:Radioteatros Bicicleta Atómica y Audiodrama Colectivo
DESCRIPTION:
URL:https://colorcomunitaria.org/evento/radioteatros-bicicleta-atomica-y-audiodrama-colectivo/2027-11-22/
END:VEVENT
BEGIN:VEVENT
DTSTART;TZID=Europe/Madrid:20271122T083000
DTEND;TZID=Europe/Madrid:20271122T100000
DTSTAMP:20260421T110606
CREATED:20250214T170834Z
LAST-MODIFIED:20250214T170906Z
UID:10011449-1826872200-1826877600@colorcomunitaria.org
SUMMARY:Informativo De este a Oeste (OLA)
DESCRIPTION:
URL:https://colorcomunitaria.org/evento/informativo-de-este-a-oeste-ola/2027-11-22/
END:VEVENT
BEGIN:VEVENT
DTSTART;TZID=Europe/Madrid:20271122T100000
DTEND;TZID=Europe/Madrid:20271122T100500
DTSTAMP:20260421T110606
CREATED:20250214T171100Z
LAST-MODIFIED:20250214T171102Z
UID:10012762-1826877600-1826877900@colorcomunitaria.org
SUMMARY:Boletín informativo OLA
DESCRIPTION:
URL:https://colorcomunitaria.org/evento/boletin-informativo-ola-2/2027-11-22/
END:VEVENT
BEGIN:VEVENT
DTSTART;TZID=Europe/Madrid:20271122T100500
DTEND;TZID=Europe/Madrid:20271122T103500
DTSTAMP:20260421T110606
CREATED:20250121T155655Z
LAST-MODIFIED:20250214T162406Z
UID:10008574-1826877900-1826879700@colorcomunitaria.org
SUMMARY:Cerca de tu casa
DESCRIPTION:Magacín sobre lo que pasa en Palma Palmilla. Colabora Junta de Distrito 5 Palma Palmilla del Ayuntamiento  de Málaga.
URL:https://colorcomunitaria.org/evento/cerca-de-tu-casa/2027-11-22/
CATEGORIES:Palma Palmilla
ATTACH;FMTTYPE=image/jpeg:https://colorcomunitaria.org/wp-content/uploads/2025/01/imagen-loco-cdtc-cerca-de-tu-casa-grande-e1737380447434.jpg
END:VEVENT
BEGIN:VEVENT
DTSTART;TZID=Europe/Madrid:20271122T103500
DTEND;TZID=Europe/Madrid:20271122T104500
DTSTAMP:20260421T110606
CREATED:20250216T172831Z
LAST-MODIFIED:20250216T173153Z
UID:10015794-1826879700-1826880300@colorcomunitaria.org
SUMMARY:Cerca de tu casa - Málaga
DESCRIPTION:
URL:https://colorcomunitaria.org/evento/cerca-de-tu-casa-edicion-malaga/2027-11-22/
END:VEVENT
BEGIN:VEVENT
DTSTART;TZID=Europe/Madrid:20271122T110500
DTEND;TZID=Europe/Madrid:20271122T120000
DTSTAMP:20260421T110606
CREATED:20250214T162718Z
LAST-MODIFIED:20250214T162800Z
UID:10009826-1826881500-1826884800@colorcomunitaria.org
SUMMARY:Con otra mirada
DESCRIPTION:
URL:https://colorcomunitaria.org/evento/con-otra-mirada/2027-11-22/
END:VEVENT
BEGIN:VEVENT
DTSTART;TZID=Europe/Madrid:20271122T120500
DTEND;TZID=Europe/Madrid:20271122T130000
DTSTAMP:20260421T110606
CREATED:20250214T165409Z
LAST-MODIFIED:20250214T165409Z
UID:10010087-1826885100-1826888400@colorcomunitaria.org
SUMMARY:Sabemos lo que queremos
DESCRIPTION:
URL:https://colorcomunitaria.org/evento/sabemos-lo-que-queremos/2027-11-22/
END:VEVENT
BEGIN:VEVENT
DTSTART;TZID=Europe/Madrid:20271122T130000
DTEND;TZID=Europe/Madrid:20271122T133000
DTSTAMP:20260421T110606
CREATED:20250216T173355Z
LAST-MODIFIED:20250216T173355Z
UID:10018124-1826888400-1826890200@colorcomunitaria.org
SUMMARY:Informativo De este a Oeste (OLA)
DESCRIPTION:
URL:https://colorcomunitaria.org/evento/informativo-de-este-a-oeste-ola-2/2027-11-22/
END:VEVENT
BEGIN:VEVENT
DTSTART;TZID=Europe/Madrid:20271122T160000
DTEND;TZID=Europe/Madrid:20271122T163000
DTSTAMP:20260421T110606
CREATED:20250216T173851Z
LAST-MODIFIED:20250216T173851Z
UID:10024849-1826899200-1826901000@colorcomunitaria.org
SUMMARY:Cerca de tu casa (R)
DESCRIPTION:Magacín sobre lo que pasa en Palma Palmilla. Colabora Junta de Distrito 5 Palma Palmilla del Ayuntamiento  de Málaga.
URL:https://colorcomunitaria.org/evento/cerca-de-tu-casa-r/2027-11-22/
CATEGORIES:Palma Palmilla
ATTACH;FMTTYPE=image/jpeg:https://colorcomunitaria.org/wp-content/uploads/2025/01/imagen-loco-cdtc-cerca-de-tu-casa-grande-e1737380447434.jpg
END:VEVENT
BEGIN:VEVENT
DTSTART;TZID=Europe/Madrid:20271122T163000
DTEND;TZID=Europe/Madrid:20271122T170000
DTSTAMP:20260421T110606
CREATED:20250216T174046Z
LAST-MODIFIED:20250216T174046Z
UID:10027484-1826901000-1826902800@colorcomunitaria.org
SUMMARY:Aprender con onda
DESCRIPTION:
URL:https://colorcomunitaria.org/evento/aprender-con-onda/2027-11-22/
END:VEVENT
BEGIN:VEVENT
DTSTART;TZID=Europe/Madrid:20271122T190000
DTEND;TZID=Europe/Madrid:20271122T200000
DTSTAMP:20260421T110606
CREATED:20250216T173505Z
LAST-MODIFIED:20250216T173505Z
UID:10020220-1826910000-1826913600@colorcomunitaria.org
SUMMARY:Informativo De este a Oeste (OLA)
DESCRIPTION:
URL:https://colorcomunitaria.org/evento/informativo-de-este-a-oeste-ola-3/2027-11-22/
END:VEVENT
BEGIN:VEVENT
DTSTART;TZID=Europe/Madrid:20271122T210000
DTEND;TZID=Europe/Madrid:20271122T220000
DTSTAMP:20260421T110606
CREATED:20250216T184112Z
LAST-MODIFIED:20250216T184112Z
UID:10039327-1826917200-1826920800@colorcomunitaria.org
SUMMARY:De mil colores
DESCRIPTION:
URL:https://colorcomunitaria.org/evento/de-mil-colores/2027-11-22/
END:VEVENT
BEGIN:VEVENT
DTSTART;TZID=Europe/Madrid:20271123T010000
DTEND;TZID=Europe/Madrid:20271123T020000
DTSTAMP:20260421T110606
CREATED:20250216T173544Z
LAST-MODIFIED:20250216T173632Z
UID:10022317-1826931600-1826935200@colorcomunitaria.org
SUMMARY:Informativo De este a Oeste (OLA) (R)
DESCRIPTION:
URL:https://colorcomunitaria.org/evento/informativo-de-este-a-oeste-ola-r/2027-11-23/
END:VEVENT
BEGIN:VEVENT
DTSTART;TZID=Europe/Madrid:20271123T020000
DTEND;TZID=Europe/Madrid:20271123T040000
DTSTAMP:20260421T110606
CREATED:20250216T180923Z
LAST-MODIFIED:20250216T181107Z
UID:10033802-1826935200-1826942400@colorcomunitaria.org
SUMMARY:Radioteatros Bicicleta Atómica y Audiodrama Colectivo
DESCRIPTION:
URL:https://colorcomunitaria.org/evento/radioteatros-bicicleta-atomica-y-audiodrama-colectivo/2027-11-23/
END:VEVENT
BEGIN:VEVENT
DTSTART;TZID=Europe/Madrid:20271123T083000
DTEND;TZID=Europe/Madrid:20271123T100000
DTSTAMP:20260421T110606
CREATED:20250214T170834Z
LAST-MODIFIED:20250214T170906Z
UID:10011450-1826958600-1826964000@colorcomunitaria.org
SUMMARY:Informativo De este a Oeste (OLA)
DESCRIPTION:
URL:https://colorcomunitaria.org/evento/informativo-de-este-a-oeste-ola/2027-11-23/
END:VEVENT
BEGIN:VEVENT
DTSTART;TZID=Europe/Madrid:20271123T100000
DTEND;TZID=Europe/Madrid:20271123T100500
DTSTAMP:20260421T110606
CREATED:20250214T171100Z
LAST-MODIFIED:20250214T171102Z
UID:10012763-1826964000-1826964300@colorcomunitaria.org
SUMMARY:Boletín informativo OLA
DESCRIPTION:
URL:https://colorcomunitaria.org/evento/boletin-informativo-ola-2/2027-11-23/
END:VEVENT
BEGIN:VEVENT
DTSTART;TZID=Europe/Madrid:20271123T100500
DTEND;TZID=Europe/Madrid:20271123T103500
DTSTAMP:20260421T110606
CREATED:20250121T155655Z
LAST-MODIFIED:20250214T162406Z
UID:10008575-1826964300-1826966100@colorcomunitaria.org
SUMMARY:Cerca de tu casa
DESCRIPTION:Magacín sobre lo que pasa en Palma Palmilla. Colabora Junta de Distrito 5 Palma Palmilla del Ayuntamiento  de Málaga.
URL:https://colorcomunitaria.org/evento/cerca-de-tu-casa/2027-11-23/
CATEGORIES:Palma Palmilla
ATTACH;FMTTYPE=image/jpeg:https://colorcomunitaria.org/wp-content/uploads/2025/01/imagen-loco-cdtc-cerca-de-tu-casa-grande-e1737380447434.jpg
END:VEVENT
BEGIN:VEVENT
DTSTART;TZID=Europe/Madrid:20271123T103500
DTEND;TZID=Europe/Madrid:20271123T104500
DTSTAMP:20260421T110606
CREATED:20250216T172831Z
LAST-MODIFIED:20250216T173153Z
UID:10015795-1826966100-1826966700@colorcomunitaria.org
SUMMARY:Cerca de tu casa - Málaga
DESCRIPTION:
URL:https://colorcomunitaria.org/evento/cerca-de-tu-casa-edicion-malaga/2027-11-23/
END:VEVENT
BEGIN:VEVENT
DTSTART;TZID=Europe/Madrid:20271123T110500
DTEND;TZID=Europe/Madrid:20271123T123000
DTSTAMP:20260421T110606
CREATED:20250214T165815Z
LAST-MODIFIED:20250214T165815Z
UID:10010349-1826967900-1826973000@colorcomunitaria.org
SUMMARY:La voz de vida
DESCRIPTION:
URL:https://colorcomunitaria.org/evento/la-voz-de-vida/2027-11-23/
END:VEVENT
BEGIN:VEVENT
DTSTART;TZID=Europe/Madrid:20271123T130000
DTEND;TZID=Europe/Madrid:20271123T133000
DTSTAMP:20260421T110606
CREATED:20250216T173355Z
LAST-MODIFIED:20250216T173355Z
UID:10018125-1826974800-1826976600@colorcomunitaria.org
SUMMARY:Informativo De este a Oeste (OLA)
DESCRIPTION:
URL:https://colorcomunitaria.org/evento/informativo-de-este-a-oeste-ola-2/2027-11-23/
END:VEVENT
BEGIN:VEVENT
DTSTART;TZID=Europe/Madrid:20271123T160000
DTEND;TZID=Europe/Madrid:20271123T163000
DTSTAMP:20260421T110606
CREATED:20250216T173851Z
LAST-MODIFIED:20250216T173851Z
UID:10024850-1826985600-1826987400@colorcomunitaria.org
SUMMARY:Cerca de tu casa (R)
DESCRIPTION:Magacín sobre lo que pasa en Palma Palmilla. Colabora Junta de Distrito 5 Palma Palmilla del Ayuntamiento  de Málaga.
URL:https://colorcomunitaria.org/evento/cerca-de-tu-casa-r/2027-11-23/
CATEGORIES:Palma Palmilla
ATTACH;FMTTYPE=image/jpeg:https://colorcomunitaria.org/wp-content/uploads/2025/01/imagen-loco-cdtc-cerca-de-tu-casa-grande-e1737380447434.jpg
END:VEVENT
BEGIN:VEVENT
DTSTART;TZID=Europe/Madrid:20271123T163000
DTEND;TZID=Europe/Madrid:20271123T170000
DTSTAMP:20260421T110606
CREATED:20250216T174046Z
LAST-MODIFIED:20250216T174046Z
UID:10027485-1826987400-1826989200@colorcomunitaria.org
SUMMARY:Aprender con onda
DESCRIPTION:
URL:https://colorcomunitaria.org/evento/aprender-con-onda/2027-11-23/
END:VEVENT
BEGIN:VEVENT
DTSTART;TZID=Europe/Madrid:20271123T190000
DTEND;TZID=Europe/Madrid:20271123T200000
DTSTAMP:20260421T110606
CREATED:20250216T173505Z
LAST-MODIFIED:20250216T173505Z
UID:10020221-1826996400-1827000000@colorcomunitaria.org
SUMMARY:Informativo De este a Oeste (OLA)
DESCRIPTION:
URL:https://colorcomunitaria.org/evento/informativo-de-este-a-oeste-ola-3/2027-11-23/
END:VEVENT
BEGIN:VEVENT
DTSTART;TZID=Europe/Madrid:20271123T200000
DTEND;TZID=Europe/Madrid:20271123T210000
DTSTAMP:20260421T110606
CREATED:20250214T172034Z
LAST-MODIFIED:20250214T172034Z
UID:10013759-1827000000-1827003600@colorcomunitaria.org
SUMMARY:Puentes
DESCRIPTION:
URL:https://colorcomunitaria.org/evento/puentes/2027-11-23/
END:VEVENT
BEGIN:VEVENT
DTSTART;TZID=Europe/Madrid:20271123T210000
DTEND;TZID=Europe/Madrid:20271123T220000
DTSTAMP:20260421T110606
CREATED:20250214T172202Z
LAST-MODIFIED:20250214T172202Z
UID:10014021-1827003600-1827007200@colorcomunitaria.org
SUMMARY:La voz de los sin voz
DESCRIPTION:
URL:https://colorcomunitaria.org/evento/la-voz-de-los-sin-voz/2027-11-23/
END:VEVENT
BEGIN:VEVENT
DTSTART;TZID=Europe/Madrid:20271124T000000
DTEND;TZID=Europe/Madrid:20271124T010000
DTSTAMP:20260421T110606
CREATED:20250216T175230Z
LAST-MODIFIED:20250216T175230Z
UID:10029522-1827014400-1827018000@colorcomunitaria.org
SUMMARY:Málaga Cultura Viva (R)
DESCRIPTION:
URL:https://colorcomunitaria.org/evento/malaga-cultura-viva-r/2027-11-24/
END:VEVENT
BEGIN:VEVENT
DTSTART;TZID=Europe/Madrid:20271124T010000
DTEND;TZID=Europe/Madrid:20271124T020000
DTSTAMP:20260421T110606
CREATED:20250216T173544Z
LAST-MODIFIED:20250216T173632Z
UID:10022318-1827018000-1827021600@colorcomunitaria.org
SUMMARY:Informativo De este a Oeste (OLA) (R)
DESCRIPTION:
URL:https://colorcomunitaria.org/evento/informativo-de-este-a-oeste-ola-r/2027-11-24/
END:VEVENT
BEGIN:VEVENT
DTSTART;TZID=Europe/Madrid:20271124T020000
DTEND;TZID=Europe/Madrid:20271124T040000
DTSTAMP:20260421T110606
CREATED:20250216T180923Z
LAST-MODIFIED:20250216T181107Z
UID:10033803-1827021600-1827028800@colorcomunitaria.org
SUMMARY:Radioteatros Bicicleta Atómica y Audiodrama Colectivo
DESCRIPTION:
URL:https://colorcomunitaria.org/evento/radioteatros-bicicleta-atomica-y-audiodrama-colectivo/2027-11-24/
END:VEVENT
BEGIN:VEVENT
DTSTART;TZID=Europe/Madrid:20271124T083000
DTEND;TZID=Europe/Madrid:20271124T100000
DTSTAMP:20260421T110606
CREATED:20250214T170834Z
LAST-MODIFIED:20250214T170906Z
UID:10011451-1827045000-1827050400@colorcomunitaria.org
SUMMARY:Informativo De este a Oeste (OLA)
DESCRIPTION:
URL:https://colorcomunitaria.org/evento/informativo-de-este-a-oeste-ola/2027-11-24/
END:VEVENT
END:VCALENDAR