BEGIN:VCALENDAR
VERSION:2.0
PRODID:-//Color comunitaria - ECPv6.9.1//NONSGML v1.0//EN
CALSCALE:GREGORIAN
METHOD:PUBLISH
X-WR-CALNAME:Color comunitaria
X-ORIGINAL-URL:https://colorcomunitaria.org
X-WR-CALDESC:Eventos para Color comunitaria
REFRESH-INTERVAL;VALUE=DURATION:PT1H
X-Robots-Tag:noindex
X-PUBLISHED-TTL:PT1H
BEGIN:VTIMEZONE
TZID:Europe/Madrid
BEGIN:DAYLIGHT
TZOFFSETFROM:+0100
TZOFFSETTO:+0200
TZNAME:CEST
DTSTART:20280326T010000
END:DAYLIGHT
BEGIN:STANDARD
TZOFFSETFROM:+0200
TZOFFSETTO:+0100
TZNAME:CET
DTSTART:20281029T010000
END:STANDARD
END:VTIMEZONE
BEGIN:VEVENT
DTSTART;TZID=Europe/Madrid:20280103T010000
DTEND;TZID=Europe/Madrid:20280103T020000
DTSTAMP:20260422T033802
CREATED:20250216T173544Z
LAST-MODIFIED:20250216T173632Z
UID:10022340-1830474000-1830477600@colorcomunitaria.org
SUMMARY:Informativo De este a Oeste (OLA) (R)
DESCRIPTION:
URL:https://colorcomunitaria.org/evento/informativo-de-este-a-oeste-ola-r/2028-01-03/
END:VEVENT
BEGIN:VEVENT
DTSTART;TZID=Europe/Madrid:20280103T020000
DTEND;TZID=Europe/Madrid:20280103T040000
DTSTAMP:20260422T033802
CREATED:20250216T180923Z
LAST-MODIFIED:20250216T181107Z
UID:10033843-1830477600-1830484800@colorcomunitaria.org
SUMMARY:Radioteatros Bicicleta Atómica y Audiodrama Colectivo
DESCRIPTION:
URL:https://colorcomunitaria.org/evento/radioteatros-bicicleta-atomica-y-audiodrama-colectivo/2028-01-03/
END:VEVENT
BEGIN:VEVENT
DTSTART;TZID=Europe/Madrid:20280103T083000
DTEND;TZID=Europe/Madrid:20280103T100000
DTSTAMP:20260422T033802
CREATED:20250214T170834Z
LAST-MODIFIED:20250214T170906Z
UID:10011479-1830501000-1830506400@colorcomunitaria.org
SUMMARY:Informativo De este a Oeste (OLA)
DESCRIPTION:
URL:https://colorcomunitaria.org/evento/informativo-de-este-a-oeste-ola/2028-01-03/
END:VEVENT
BEGIN:VEVENT
DTSTART;TZID=Europe/Madrid:20280103T100000
DTEND;TZID=Europe/Madrid:20280103T100500
DTSTAMP:20260422T033802
CREATED:20250214T171100Z
LAST-MODIFIED:20250214T171102Z
UID:10012792-1830506400-1830506700@colorcomunitaria.org
SUMMARY:Boletín informativo OLA
DESCRIPTION:
URL:https://colorcomunitaria.org/evento/boletin-informativo-ola-2/2028-01-03/
END:VEVENT
BEGIN:VEVENT
DTSTART;TZID=Europe/Madrid:20280103T100500
DTEND;TZID=Europe/Madrid:20280103T103500
DTSTAMP:20260422T033802
CREATED:20250121T155655Z
LAST-MODIFIED:20250214T162406Z
UID:10008604-1830506700-1830508500@colorcomunitaria.org
SUMMARY:Cerca de tu casa
DESCRIPTION:Magacín sobre lo que pasa en Palma Palmilla. Colabora Junta de Distrito 5 Palma Palmilla del Ayuntamiento  de Málaga.
URL:https://colorcomunitaria.org/evento/cerca-de-tu-casa/2028-01-03/
CATEGORIES:Palma Palmilla
ATTACH;FMTTYPE=image/jpeg:https://colorcomunitaria.org/wp-content/uploads/2025/01/imagen-loco-cdtc-cerca-de-tu-casa-grande-e1737380447434.jpg
END:VEVENT
BEGIN:VEVENT
DTSTART;TZID=Europe/Madrid:20280103T103500
DTEND;TZID=Europe/Madrid:20280103T104500
DTSTAMP:20260422T033802
CREATED:20250216T172831Z
LAST-MODIFIED:20250216T173153Z
UID:10015830-1830508500-1830509100@colorcomunitaria.org
SUMMARY:Cerca de tu casa - Málaga
DESCRIPTION:
URL:https://colorcomunitaria.org/evento/cerca-de-tu-casa-edicion-malaga/2028-01-03/
END:VEVENT
BEGIN:VEVENT
DTSTART;TZID=Europe/Madrid:20280103T110500
DTEND;TZID=Europe/Madrid:20280103T120000
DTSTAMP:20260422T033802
CREATED:20250214T162718Z
LAST-MODIFIED:20250214T162800Z
UID:10009832-1830510300-1830513600@colorcomunitaria.org
SUMMARY:Con otra mirada
DESCRIPTION:
URL:https://colorcomunitaria.org/evento/con-otra-mirada/2028-01-03/
END:VEVENT
BEGIN:VEVENT
DTSTART;TZID=Europe/Madrid:20280103T120500
DTEND;TZID=Europe/Madrid:20280103T130000
DTSTAMP:20260422T033802
CREATED:20250214T165409Z
LAST-MODIFIED:20250214T165409Z
UID:10010093-1830513900-1830517200@colorcomunitaria.org
SUMMARY:Sabemos lo que queremos
DESCRIPTION:
URL:https://colorcomunitaria.org/evento/sabemos-lo-que-queremos/2028-01-03/
END:VEVENT
BEGIN:VEVENT
DTSTART;TZID=Europe/Madrid:20280103T130000
DTEND;TZID=Europe/Madrid:20280103T133000
DTSTAMP:20260422T033802
CREATED:20250216T173355Z
LAST-MODIFIED:20250216T173355Z
UID:10018148-1830517200-1830519000@colorcomunitaria.org
SUMMARY:Informativo De este a Oeste (OLA)
DESCRIPTION:
URL:https://colorcomunitaria.org/evento/informativo-de-este-a-oeste-ola-2/2028-01-03/
END:VEVENT
BEGIN:VEVENT
DTSTART;TZID=Europe/Madrid:20280103T160000
DTEND;TZID=Europe/Madrid:20280103T163000
DTSTAMP:20260422T033802
CREATED:20250216T173851Z
LAST-MODIFIED:20250216T173851Z
UID:10024879-1830528000-1830529800@colorcomunitaria.org
SUMMARY:Cerca de tu casa (R)
DESCRIPTION:Magacín sobre lo que pasa en Palma Palmilla. Colabora Junta de Distrito 5 Palma Palmilla del Ayuntamiento  de Málaga.
URL:https://colorcomunitaria.org/evento/cerca-de-tu-casa-r/2028-01-03/
CATEGORIES:Palma Palmilla
ATTACH;FMTTYPE=image/jpeg:https://colorcomunitaria.org/wp-content/uploads/2025/01/imagen-loco-cdtc-cerca-de-tu-casa-grande-e1737380447434.jpg
END:VEVENT
BEGIN:VEVENT
DTSTART;TZID=Europe/Madrid:20280103T163000
DTEND;TZID=Europe/Madrid:20280103T170000
DTSTAMP:20260422T033802
CREATED:20250216T174046Z
LAST-MODIFIED:20250216T174046Z
UID:10027514-1830529800-1830531600@colorcomunitaria.org
SUMMARY:Aprender con onda
DESCRIPTION:
URL:https://colorcomunitaria.org/evento/aprender-con-onda/2028-01-03/
END:VEVENT
BEGIN:VEVENT
DTSTART;TZID=Europe/Madrid:20280103T190000
DTEND;TZID=Europe/Madrid:20280103T200000
DTSTAMP:20260422T033802
CREATED:20250216T173505Z
LAST-MODIFIED:20250216T173505Z
UID:10020244-1830538800-1830542400@colorcomunitaria.org
SUMMARY:Informativo De este a Oeste (OLA)
DESCRIPTION:
URL:https://colorcomunitaria.org/evento/informativo-de-este-a-oeste-ola-3/2028-01-03/
END:VEVENT
BEGIN:VEVENT
DTSTART;TZID=Europe/Madrid:20280103T210000
DTEND;TZID=Europe/Madrid:20280103T220000
DTSTAMP:20260422T033802
CREATED:20250216T184112Z
LAST-MODIFIED:20250216T184112Z
UID:10039333-1830546000-1830549600@colorcomunitaria.org
SUMMARY:De mil colores
DESCRIPTION:
URL:https://colorcomunitaria.org/evento/de-mil-colores/2028-01-03/
END:VEVENT
BEGIN:VEVENT
DTSTART;TZID=Europe/Madrid:20280104T010000
DTEND;TZID=Europe/Madrid:20280104T020000
DTSTAMP:20260422T033802
CREATED:20250216T173544Z
LAST-MODIFIED:20250216T173632Z
UID:10022341-1830560400-1830564000@colorcomunitaria.org
SUMMARY:Informativo De este a Oeste (OLA) (R)
DESCRIPTION:
URL:https://colorcomunitaria.org/evento/informativo-de-este-a-oeste-ola-r/2028-01-04/
END:VEVENT
BEGIN:VEVENT
DTSTART;TZID=Europe/Madrid:20280104T020000
DTEND;TZID=Europe/Madrid:20280104T040000
DTSTAMP:20260422T033802
CREATED:20250216T180923Z
LAST-MODIFIED:20250216T181107Z
UID:10033844-1830564000-1830571200@colorcomunitaria.org
SUMMARY:Radioteatros Bicicleta Atómica y Audiodrama Colectivo
DESCRIPTION:
URL:https://colorcomunitaria.org/evento/radioteatros-bicicleta-atomica-y-audiodrama-colectivo/2028-01-04/
END:VEVENT
BEGIN:VEVENT
DTSTART;TZID=Europe/Madrid:20280104T083000
DTEND;TZID=Europe/Madrid:20280104T100000
DTSTAMP:20260422T033802
CREATED:20250214T170834Z
LAST-MODIFIED:20250214T170906Z
UID:10011480-1830587400-1830592800@colorcomunitaria.org
SUMMARY:Informativo De este a Oeste (OLA)
DESCRIPTION:
URL:https://colorcomunitaria.org/evento/informativo-de-este-a-oeste-ola/2028-01-04/
END:VEVENT
BEGIN:VEVENT
DTSTART;TZID=Europe/Madrid:20280104T100000
DTEND;TZID=Europe/Madrid:20280104T100500
DTSTAMP:20260422T033802
CREATED:20250214T171100Z
LAST-MODIFIED:20250214T171102Z
UID:10012793-1830592800-1830593100@colorcomunitaria.org
SUMMARY:Boletín informativo OLA
DESCRIPTION:
URL:https://colorcomunitaria.org/evento/boletin-informativo-ola-2/2028-01-04/
END:VEVENT
BEGIN:VEVENT
DTSTART;TZID=Europe/Madrid:20280104T100500
DTEND;TZID=Europe/Madrid:20280104T103500
DTSTAMP:20260422T033802
CREATED:20250121T155655Z
LAST-MODIFIED:20250214T162406Z
UID:10008605-1830593100-1830594900@colorcomunitaria.org
SUMMARY:Cerca de tu casa
DESCRIPTION:Magacín sobre lo que pasa en Palma Palmilla. Colabora Junta de Distrito 5 Palma Palmilla del Ayuntamiento  de Málaga.
URL:https://colorcomunitaria.org/evento/cerca-de-tu-casa/2028-01-04/
CATEGORIES:Palma Palmilla
ATTACH;FMTTYPE=image/jpeg:https://colorcomunitaria.org/wp-content/uploads/2025/01/imagen-loco-cdtc-cerca-de-tu-casa-grande-e1737380447434.jpg
END:VEVENT
BEGIN:VEVENT
DTSTART;TZID=Europe/Madrid:20280104T103500
DTEND;TZID=Europe/Madrid:20280104T104500
DTSTAMP:20260422T033802
CREATED:20250216T172831Z
LAST-MODIFIED:20250216T173153Z
UID:10015831-1830594900-1830595500@colorcomunitaria.org
SUMMARY:Cerca de tu casa - Málaga
DESCRIPTION:
URL:https://colorcomunitaria.org/evento/cerca-de-tu-casa-edicion-malaga/2028-01-04/
END:VEVENT
BEGIN:VEVENT
DTSTART;TZID=Europe/Madrid:20280104T110500
DTEND;TZID=Europe/Madrid:20280104T123000
DTSTAMP:20260422T033802
CREATED:20250214T165815Z
LAST-MODIFIED:20250214T165815Z
UID:10010355-1830596700-1830601800@colorcomunitaria.org
SUMMARY:La voz de vida
DESCRIPTION:
URL:https://colorcomunitaria.org/evento/la-voz-de-vida/2028-01-04/
END:VEVENT
BEGIN:VEVENT
DTSTART;TZID=Europe/Madrid:20280104T130000
DTEND;TZID=Europe/Madrid:20280104T133000
DTSTAMP:20260422T033802
CREATED:20250216T173355Z
LAST-MODIFIED:20250216T173355Z
UID:10018149-1830603600-1830605400@colorcomunitaria.org
SUMMARY:Informativo De este a Oeste (OLA)
DESCRIPTION:
URL:https://colorcomunitaria.org/evento/informativo-de-este-a-oeste-ola-2/2028-01-04/
END:VEVENT
BEGIN:VEVENT
DTSTART;TZID=Europe/Madrid:20280104T160000
DTEND;TZID=Europe/Madrid:20280104T163000
DTSTAMP:20260422T033802
CREATED:20250216T173851Z
LAST-MODIFIED:20250216T173851Z
UID:10024880-1830614400-1830616200@colorcomunitaria.org
SUMMARY:Cerca de tu casa (R)
DESCRIPTION:Magacín sobre lo que pasa en Palma Palmilla. Colabora Junta de Distrito 5 Palma Palmilla del Ayuntamiento  de Málaga.
URL:https://colorcomunitaria.org/evento/cerca-de-tu-casa-r/2028-01-04/
CATEGORIES:Palma Palmilla
ATTACH;FMTTYPE=image/jpeg:https://colorcomunitaria.org/wp-content/uploads/2025/01/imagen-loco-cdtc-cerca-de-tu-casa-grande-e1737380447434.jpg
END:VEVENT
BEGIN:VEVENT
DTSTART;TZID=Europe/Madrid:20280104T163000
DTEND;TZID=Europe/Madrid:20280104T170000
DTSTAMP:20260422T033802
CREATED:20250216T174046Z
LAST-MODIFIED:20250216T174046Z
UID:10027515-1830616200-1830618000@colorcomunitaria.org
SUMMARY:Aprender con onda
DESCRIPTION:
URL:https://colorcomunitaria.org/evento/aprender-con-onda/2028-01-04/
END:VEVENT
BEGIN:VEVENT
DTSTART;TZID=Europe/Madrid:20280104T190000
DTEND;TZID=Europe/Madrid:20280104T200000
DTSTAMP:20260422T033802
CREATED:20250216T173505Z
LAST-MODIFIED:20250216T173505Z
UID:10020245-1830625200-1830628800@colorcomunitaria.org
SUMMARY:Informativo De este a Oeste (OLA)
DESCRIPTION:
URL:https://colorcomunitaria.org/evento/informativo-de-este-a-oeste-ola-3/2028-01-04/
END:VEVENT
BEGIN:VEVENT
DTSTART;TZID=Europe/Madrid:20280104T200000
DTEND;TZID=Europe/Madrid:20280104T210000
DTSTAMP:20260422T033802
CREATED:20250214T172034Z
LAST-MODIFIED:20250214T172034Z
UID:10013765-1830628800-1830632400@colorcomunitaria.org
SUMMARY:Puentes
DESCRIPTION:
URL:https://colorcomunitaria.org/evento/puentes/2028-01-04/
END:VEVENT
BEGIN:VEVENT
DTSTART;TZID=Europe/Madrid:20280104T210000
DTEND;TZID=Europe/Madrid:20280104T220000
DTSTAMP:20260422T033802
CREATED:20250214T172202Z
LAST-MODIFIED:20250214T172202Z
UID:10014027-1830632400-1830636000@colorcomunitaria.org
SUMMARY:La voz de los sin voz
DESCRIPTION:
URL:https://colorcomunitaria.org/evento/la-voz-de-los-sin-voz/2028-01-04/
END:VEVENT
BEGIN:VEVENT
DTSTART;TZID=Europe/Madrid:20280105T000000
DTEND;TZID=Europe/Madrid:20280105T010000
DTSTAMP:20260422T033802
CREATED:20250216T175230Z
LAST-MODIFIED:20250216T175230Z
UID:10029528-1830643200-1830646800@colorcomunitaria.org
SUMMARY:Málaga Cultura Viva (R)
DESCRIPTION:
URL:https://colorcomunitaria.org/evento/malaga-cultura-viva-r/2028-01-05/
END:VEVENT
BEGIN:VEVENT
DTSTART;TZID=Europe/Madrid:20280105T010000
DTEND;TZID=Europe/Madrid:20280105T020000
DTSTAMP:20260422T033802
CREATED:20250216T173544Z
LAST-MODIFIED:20250216T173632Z
UID:10022342-1830646800-1830650400@colorcomunitaria.org
SUMMARY:Informativo De este a Oeste (OLA) (R)
DESCRIPTION:
URL:https://colorcomunitaria.org/evento/informativo-de-este-a-oeste-ola-r/2028-01-05/
END:VEVENT
BEGIN:VEVENT
DTSTART;TZID=Europe/Madrid:20280105T020000
DTEND;TZID=Europe/Madrid:20280105T040000
DTSTAMP:20260422T033802
CREATED:20250216T180923Z
LAST-MODIFIED:20250216T181107Z
UID:10033845-1830650400-1830657600@colorcomunitaria.org
SUMMARY:Radioteatros Bicicleta Atómica y Audiodrama Colectivo
DESCRIPTION:
URL:https://colorcomunitaria.org/evento/radioteatros-bicicleta-atomica-y-audiodrama-colectivo/2028-01-05/
END:VEVENT
BEGIN:VEVENT
DTSTART;TZID=Europe/Madrid:20280105T083000
DTEND;TZID=Europe/Madrid:20280105T100000
DTSTAMP:20260422T033802
CREATED:20250214T170834Z
LAST-MODIFIED:20250214T170906Z
UID:10011481-1830673800-1830679200@colorcomunitaria.org
SUMMARY:Informativo De este a Oeste (OLA)
DESCRIPTION:
URL:https://colorcomunitaria.org/evento/informativo-de-este-a-oeste-ola/2028-01-05/
END:VEVENT
END:VCALENDAR