BEGIN:VCALENDAR
VERSION:2.0
PRODID:-//Color comunitaria - ECPv6.9.1//NONSGML v1.0//EN
CALSCALE:GREGORIAN
METHOD:PUBLISH
X-WR-CALNAME:Color comunitaria
X-ORIGINAL-URL:https://colorcomunitaria.org
X-WR-CALDESC:Eventos para Color comunitaria
REFRESH-INTERVAL;VALUE=DURATION:PT1H
X-Robots-Tag:noindex
X-PUBLISHED-TTL:PT1H
BEGIN:VTIMEZONE
TZID:Europe/Madrid
BEGIN:DAYLIGHT
TZOFFSETFROM:+0100
TZOFFSETTO:+0200
TZNAME:CEST
DTSTART:20280326T010000
END:DAYLIGHT
BEGIN:STANDARD
TZOFFSETFROM:+0200
TZOFFSETTO:+0100
TZNAME:CET
DTSTART:20281029T010000
END:STANDARD
END:VTIMEZONE
BEGIN:VEVENT
DTSTART;TZID=Europe/Madrid:20280207T010000
DTEND;TZID=Europe/Madrid:20280207T020000
DTSTAMP:20260422T131410
CREATED:20250216T173544Z
LAST-MODIFIED:20250216T173632Z
UID:10022360-1833498000-1833501600@colorcomunitaria.org
SUMMARY:Informativo De este a Oeste (OLA) (R)
DESCRIPTION:
URL:https://colorcomunitaria.org/evento/informativo-de-este-a-oeste-ola-r/2028-02-07/
END:VEVENT
BEGIN:VEVENT
DTSTART;TZID=Europe/Madrid:20280207T020000
DTEND;TZID=Europe/Madrid:20280207T040000
DTSTAMP:20260422T131410
CREATED:20250216T180923Z
LAST-MODIFIED:20250216T181107Z
UID:10033878-1833501600-1833508800@colorcomunitaria.org
SUMMARY:Radioteatros Bicicleta Atómica y Audiodrama Colectivo
DESCRIPTION:
URL:https://colorcomunitaria.org/evento/radioteatros-bicicleta-atomica-y-audiodrama-colectivo/2028-02-07/
END:VEVENT
BEGIN:VEVENT
DTSTART;TZID=Europe/Madrid:20280207T083000
DTEND;TZID=Europe/Madrid:20280207T100000
DTSTAMP:20260422T131410
CREATED:20250214T170834Z
LAST-MODIFIED:20250214T170906Z
UID:10011504-1833525000-1833530400@colorcomunitaria.org
SUMMARY:Informativo De este a Oeste (OLA)
DESCRIPTION:
URL:https://colorcomunitaria.org/evento/informativo-de-este-a-oeste-ola/2028-02-07/
END:VEVENT
BEGIN:VEVENT
DTSTART;TZID=Europe/Madrid:20280207T100000
DTEND;TZID=Europe/Madrid:20280207T100500
DTSTAMP:20260422T131410
CREATED:20250214T171100Z
LAST-MODIFIED:20250214T171102Z
UID:10012817-1833530400-1833530700@colorcomunitaria.org
SUMMARY:Boletín informativo OLA
DESCRIPTION:
URL:https://colorcomunitaria.org/evento/boletin-informativo-ola-2/2028-02-07/
END:VEVENT
BEGIN:VEVENT
DTSTART;TZID=Europe/Madrid:20280207T100500
DTEND;TZID=Europe/Madrid:20280207T103500
DTSTAMP:20260422T131410
CREATED:20250121T155655Z
LAST-MODIFIED:20250214T162406Z
UID:10008629-1833530700-1833532500@colorcomunitaria.org
SUMMARY:Cerca de tu casa
DESCRIPTION:Magacín sobre lo que pasa en Palma Palmilla. Colabora Junta de Distrito 5 Palma Palmilla del Ayuntamiento  de Málaga.
URL:https://colorcomunitaria.org/evento/cerca-de-tu-casa/2028-02-07/
CATEGORIES:Palma Palmilla
ATTACH;FMTTYPE=image/jpeg:https://colorcomunitaria.org/wp-content/uploads/2025/01/imagen-loco-cdtc-cerca-de-tu-casa-grande-e1737380447434.jpg
END:VEVENT
BEGIN:VEVENT
DTSTART;TZID=Europe/Madrid:20280207T103500
DTEND;TZID=Europe/Madrid:20280207T104500
DTSTAMP:20260422T131410
CREATED:20250216T172831Z
LAST-MODIFIED:20250216T173153Z
UID:10015860-1833532500-1833533100@colorcomunitaria.org
SUMMARY:Cerca de tu casa - Málaga
DESCRIPTION:
URL:https://colorcomunitaria.org/evento/cerca-de-tu-casa-edicion-malaga/2028-02-07/
END:VEVENT
BEGIN:VEVENT
DTSTART;TZID=Europe/Madrid:20280207T110500
DTEND;TZID=Europe/Madrid:20280207T120000
DTSTAMP:20260422T131410
CREATED:20250214T162718Z
LAST-MODIFIED:20250214T162800Z
UID:10009837-1833534300-1833537600@colorcomunitaria.org
SUMMARY:Con otra mirada
DESCRIPTION:
URL:https://colorcomunitaria.org/evento/con-otra-mirada/2028-02-07/
END:VEVENT
BEGIN:VEVENT
DTSTART;TZID=Europe/Madrid:20280207T120500
DTEND;TZID=Europe/Madrid:20280207T130000
DTSTAMP:20260422T131410
CREATED:20250214T165409Z
LAST-MODIFIED:20250214T165409Z
UID:10010098-1833537900-1833541200@colorcomunitaria.org
SUMMARY:Sabemos lo que queremos
DESCRIPTION:
URL:https://colorcomunitaria.org/evento/sabemos-lo-que-queremos/2028-02-07/
END:VEVENT
BEGIN:VEVENT
DTSTART;TZID=Europe/Madrid:20280207T130000
DTEND;TZID=Europe/Madrid:20280207T133000
DTSTAMP:20260422T131410
CREATED:20250216T173355Z
LAST-MODIFIED:20250216T173355Z
UID:10018168-1833541200-1833543000@colorcomunitaria.org
SUMMARY:Informativo De este a Oeste (OLA)
DESCRIPTION:
URL:https://colorcomunitaria.org/evento/informativo-de-este-a-oeste-ola-2/2028-02-07/
END:VEVENT
BEGIN:VEVENT
DTSTART;TZID=Europe/Madrid:20280207T160000
DTEND;TZID=Europe/Madrid:20280207T163000
DTSTAMP:20260422T131410
CREATED:20250216T173851Z
LAST-MODIFIED:20250216T173851Z
UID:10024904-1833552000-1833553800@colorcomunitaria.org
SUMMARY:Cerca de tu casa (R)
DESCRIPTION:Magacín sobre lo que pasa en Palma Palmilla. Colabora Junta de Distrito 5 Palma Palmilla del Ayuntamiento  de Málaga.
URL:https://colorcomunitaria.org/evento/cerca-de-tu-casa-r/2028-02-07/
CATEGORIES:Palma Palmilla
ATTACH;FMTTYPE=image/jpeg:https://colorcomunitaria.org/wp-content/uploads/2025/01/imagen-loco-cdtc-cerca-de-tu-casa-grande-e1737380447434.jpg
END:VEVENT
BEGIN:VEVENT
DTSTART;TZID=Europe/Madrid:20280207T163000
DTEND;TZID=Europe/Madrid:20280207T170000
DTSTAMP:20260422T131410
CREATED:20250216T174046Z
LAST-MODIFIED:20250216T174046Z
UID:10027539-1833553800-1833555600@colorcomunitaria.org
SUMMARY:Aprender con onda
DESCRIPTION:
URL:https://colorcomunitaria.org/evento/aprender-con-onda/2028-02-07/
END:VEVENT
BEGIN:VEVENT
DTSTART;TZID=Europe/Madrid:20280207T190000
DTEND;TZID=Europe/Madrid:20280207T200000
DTSTAMP:20260422T131410
CREATED:20250216T173505Z
LAST-MODIFIED:20250216T173505Z
UID:10020264-1833562800-1833566400@colorcomunitaria.org
SUMMARY:Informativo De este a Oeste (OLA)
DESCRIPTION:
URL:https://colorcomunitaria.org/evento/informativo-de-este-a-oeste-ola-3/2028-02-07/
END:VEVENT
BEGIN:VEVENT
DTSTART;TZID=Europe/Madrid:20280207T200500
DTEND;TZID=Europe/Madrid:20280207T210000
DTSTAMP:20260422T131410
CREATED:20250216T182912Z
LAST-MODIFIED:20250216T183417Z
UID:10039131-1833566700-1833570000@colorcomunitaria.org
SUMMARY:Este libro está muy vivo (R)
DESCRIPTION:
URL:https://colorcomunitaria.org/evento/este-libro-esta-muy-vivo/2028-02-07/
END:VEVENT
BEGIN:VEVENT
DTSTART;TZID=Europe/Madrid:20280207T210000
DTEND;TZID=Europe/Madrid:20280207T220000
DTSTAMP:20260422T131410
CREATED:20250216T184112Z
LAST-MODIFIED:20250216T184112Z
UID:10039338-1833570000-1833573600@colorcomunitaria.org
SUMMARY:De mil colores
DESCRIPTION:
URL:https://colorcomunitaria.org/evento/de-mil-colores/2028-02-07/
END:VEVENT
BEGIN:VEVENT
DTSTART;TZID=Europe/Madrid:20280208T010000
DTEND;TZID=Europe/Madrid:20280208T020000
DTSTAMP:20260422T131410
CREATED:20250216T173544Z
LAST-MODIFIED:20250216T173632Z
UID:10022361-1833584400-1833588000@colorcomunitaria.org
SUMMARY:Informativo De este a Oeste (OLA) (R)
DESCRIPTION:
URL:https://colorcomunitaria.org/evento/informativo-de-este-a-oeste-ola-r/2028-02-08/
END:VEVENT
BEGIN:VEVENT
DTSTART;TZID=Europe/Madrid:20280208T020000
DTEND;TZID=Europe/Madrid:20280208T040000
DTSTAMP:20260422T131410
CREATED:20250216T180923Z
LAST-MODIFIED:20250216T181107Z
UID:10033879-1833588000-1833595200@colorcomunitaria.org
SUMMARY:Radioteatros Bicicleta Atómica y Audiodrama Colectivo
DESCRIPTION:
URL:https://colorcomunitaria.org/evento/radioteatros-bicicleta-atomica-y-audiodrama-colectivo/2028-02-08/
END:VEVENT
BEGIN:VEVENT
DTSTART;TZID=Europe/Madrid:20280208T083000
DTEND;TZID=Europe/Madrid:20280208T100000
DTSTAMP:20260422T131410
CREATED:20250214T170834Z
LAST-MODIFIED:20250214T170906Z
UID:10011505-1833611400-1833616800@colorcomunitaria.org
SUMMARY:Informativo De este a Oeste (OLA)
DESCRIPTION:
URL:https://colorcomunitaria.org/evento/informativo-de-este-a-oeste-ola/2028-02-08/
END:VEVENT
BEGIN:VEVENT
DTSTART;TZID=Europe/Madrid:20280208T100000
DTEND;TZID=Europe/Madrid:20280208T100500
DTSTAMP:20260422T131410
CREATED:20250214T171100Z
LAST-MODIFIED:20250214T171102Z
UID:10012818-1833616800-1833617100@colorcomunitaria.org
SUMMARY:Boletín informativo OLA
DESCRIPTION:
URL:https://colorcomunitaria.org/evento/boletin-informativo-ola-2/2028-02-08/
END:VEVENT
BEGIN:VEVENT
DTSTART;TZID=Europe/Madrid:20280208T100500
DTEND;TZID=Europe/Madrid:20280208T103500
DTSTAMP:20260422T131410
CREATED:20250121T155655Z
LAST-MODIFIED:20250214T162406Z
UID:10008630-1833617100-1833618900@colorcomunitaria.org
SUMMARY:Cerca de tu casa
DESCRIPTION:Magacín sobre lo que pasa en Palma Palmilla. Colabora Junta de Distrito 5 Palma Palmilla del Ayuntamiento  de Málaga.
URL:https://colorcomunitaria.org/evento/cerca-de-tu-casa/2028-02-08/
CATEGORIES:Palma Palmilla
ATTACH;FMTTYPE=image/jpeg:https://colorcomunitaria.org/wp-content/uploads/2025/01/imagen-loco-cdtc-cerca-de-tu-casa-grande-e1737380447434.jpg
END:VEVENT
BEGIN:VEVENT
DTSTART;TZID=Europe/Madrid:20280208T103500
DTEND;TZID=Europe/Madrid:20280208T104500
DTSTAMP:20260422T131410
CREATED:20250216T172831Z
LAST-MODIFIED:20250216T173153Z
UID:10015861-1833618900-1833619500@colorcomunitaria.org
SUMMARY:Cerca de tu casa - Málaga
DESCRIPTION:
URL:https://colorcomunitaria.org/evento/cerca-de-tu-casa-edicion-malaga/2028-02-08/
END:VEVENT
BEGIN:VEVENT
DTSTART;TZID=Europe/Madrid:20280208T110500
DTEND;TZID=Europe/Madrid:20280208T123000
DTSTAMP:20260422T131410
CREATED:20250214T165815Z
LAST-MODIFIED:20250214T165815Z
UID:10010360-1833620700-1833625800@colorcomunitaria.org
SUMMARY:La voz de vida
DESCRIPTION:
URL:https://colorcomunitaria.org/evento/la-voz-de-vida/2028-02-08/
END:VEVENT
BEGIN:VEVENT
DTSTART;TZID=Europe/Madrid:20280208T130000
DTEND;TZID=Europe/Madrid:20280208T133000
DTSTAMP:20260422T131410
CREATED:20250216T173355Z
LAST-MODIFIED:20250216T173355Z
UID:10018169-1833627600-1833629400@colorcomunitaria.org
SUMMARY:Informativo De este a Oeste (OLA)
DESCRIPTION:
URL:https://colorcomunitaria.org/evento/informativo-de-este-a-oeste-ola-2/2028-02-08/
END:VEVENT
BEGIN:VEVENT
DTSTART;TZID=Europe/Madrid:20280208T160000
DTEND;TZID=Europe/Madrid:20280208T163000
DTSTAMP:20260422T131410
CREATED:20250216T173851Z
LAST-MODIFIED:20250216T173851Z
UID:10024905-1833638400-1833640200@colorcomunitaria.org
SUMMARY:Cerca de tu casa (R)
DESCRIPTION:Magacín sobre lo que pasa en Palma Palmilla. Colabora Junta de Distrito 5 Palma Palmilla del Ayuntamiento  de Málaga.
URL:https://colorcomunitaria.org/evento/cerca-de-tu-casa-r/2028-02-08/
CATEGORIES:Palma Palmilla
ATTACH;FMTTYPE=image/jpeg:https://colorcomunitaria.org/wp-content/uploads/2025/01/imagen-loco-cdtc-cerca-de-tu-casa-grande-e1737380447434.jpg
END:VEVENT
BEGIN:VEVENT
DTSTART;TZID=Europe/Madrid:20280208T163000
DTEND;TZID=Europe/Madrid:20280208T170000
DTSTAMP:20260422T131410
CREATED:20250216T174046Z
LAST-MODIFIED:20250216T174046Z
UID:10027540-1833640200-1833642000@colorcomunitaria.org
SUMMARY:Aprender con onda
DESCRIPTION:
URL:https://colorcomunitaria.org/evento/aprender-con-onda/2028-02-08/
END:VEVENT
BEGIN:VEVENT
DTSTART;TZID=Europe/Madrid:20280208T190000
DTEND;TZID=Europe/Madrid:20280208T200000
DTSTAMP:20260422T131410
CREATED:20250216T173505Z
LAST-MODIFIED:20250216T173505Z
UID:10020265-1833649200-1833652800@colorcomunitaria.org
SUMMARY:Informativo De este a Oeste (OLA)
DESCRIPTION:
URL:https://colorcomunitaria.org/evento/informativo-de-este-a-oeste-ola-3/2028-02-08/
END:VEVENT
BEGIN:VEVENT
DTSTART;TZID=Europe/Madrid:20280208T200000
DTEND;TZID=Europe/Madrid:20280208T210000
DTSTAMP:20260422T131410
CREATED:20250214T172034Z
LAST-MODIFIED:20250214T172034Z
UID:10013770-1833652800-1833656400@colorcomunitaria.org
SUMMARY:Puentes
DESCRIPTION:
URL:https://colorcomunitaria.org/evento/puentes/2028-02-08/
END:VEVENT
BEGIN:VEVENT
DTSTART;TZID=Europe/Madrid:20280208T210000
DTEND;TZID=Europe/Madrid:20280208T220000
DTSTAMP:20260422T131410
CREATED:20250214T172202Z
LAST-MODIFIED:20250214T172202Z
UID:10014032-1833656400-1833660000@colorcomunitaria.org
SUMMARY:La voz de los sin voz
DESCRIPTION:
URL:https://colorcomunitaria.org/evento/la-voz-de-los-sin-voz/2028-02-08/
END:VEVENT
BEGIN:VEVENT
DTSTART;TZID=Europe/Madrid:20280209T000000
DTEND;TZID=Europe/Madrid:20280209T010000
DTSTAMP:20260422T131410
CREATED:20250216T175230Z
LAST-MODIFIED:20250216T175230Z
UID:10029533-1833667200-1833670800@colorcomunitaria.org
SUMMARY:Málaga Cultura Viva (R)
DESCRIPTION:
URL:https://colorcomunitaria.org/evento/malaga-cultura-viva-r/2028-02-09/
END:VEVENT
BEGIN:VEVENT
DTSTART;TZID=Europe/Madrid:20280209T010000
DTEND;TZID=Europe/Madrid:20280209T020000
DTSTAMP:20260422T131410
CREATED:20250216T173544Z
LAST-MODIFIED:20250216T173632Z
UID:10022362-1833670800-1833674400@colorcomunitaria.org
SUMMARY:Informativo De este a Oeste (OLA) (R)
DESCRIPTION:
URL:https://colorcomunitaria.org/evento/informativo-de-este-a-oeste-ola-r/2028-02-09/
END:VEVENT
BEGIN:VEVENT
DTSTART;TZID=Europe/Madrid:20280209T020000
DTEND;TZID=Europe/Madrid:20280209T040000
DTSTAMP:20260422T131410
CREATED:20250216T180923Z
LAST-MODIFIED:20250216T181107Z
UID:10033880-1833674400-1833681600@colorcomunitaria.org
SUMMARY:Radioteatros Bicicleta Atómica y Audiodrama Colectivo
DESCRIPTION:
URL:https://colorcomunitaria.org/evento/radioteatros-bicicleta-atomica-y-audiodrama-colectivo/2028-02-09/
END:VEVENT
END:VCALENDAR