BEGIN:VCALENDAR
VERSION:2.0
PRODID:-//Color comunitaria - ECPv6.9.1//NONSGML v1.0//EN
CALSCALE:GREGORIAN
METHOD:PUBLISH
X-ORIGINAL-URL:https://colorcomunitaria.org
X-WR-CALDESC:Eventos para Color comunitaria
REFRESH-INTERVAL;VALUE=DURATION:PT1H
X-Robots-Tag:noindex
X-PUBLISHED-TTL:PT1H
BEGIN:VTIMEZONE
TZID:Europe/Madrid
BEGIN:DAYLIGHT
TZOFFSETFROM:+0100
TZOFFSETTO:+0200
TZNAME:CEST
DTSTART:20280326T010000
END:DAYLIGHT
BEGIN:STANDARD
TZOFFSETFROM:+0200
TZOFFSETTO:+0100
TZNAME:CET
DTSTART:20281029T010000
END:STANDARD
END:VTIMEZONE
BEGIN:VEVENT
DTSTART;TZID=Europe/Madrid:20280221T010000
DTEND;TZID=Europe/Madrid:20280221T020000
DTSTAMP:20260422T203044
CREATED:20250216T173544Z
LAST-MODIFIED:20250216T173632Z
UID:10022368-1834707600-1834711200@colorcomunitaria.org
SUMMARY:Informativo De este a Oeste (OLA) (R)
DESCRIPTION:
URL:https://colorcomunitaria.org/evento/informativo-de-este-a-oeste-ola-r/2028-02-21/
END:VEVENT
BEGIN:VEVENT
DTSTART;TZID=Europe/Madrid:20280221T020000
DTEND;TZID=Europe/Madrid:20280221T040000
DTSTAMP:20260422T203044
CREATED:20250216T180923Z
LAST-MODIFIED:20250216T181107Z
UID:10033892-1834711200-1834718400@colorcomunitaria.org
SUMMARY:Radioteatros Bicicleta Atómica y Audiodrama Colectivo
DESCRIPTION:
URL:https://colorcomunitaria.org/evento/radioteatros-bicicleta-atomica-y-audiodrama-colectivo/2028-02-21/
END:VEVENT
BEGIN:VEVENT
DTSTART;TZID=Europe/Madrid:20280221T083000
DTEND;TZID=Europe/Madrid:20280221T100000
DTSTAMP:20260422T203044
CREATED:20250214T170834Z
LAST-MODIFIED:20250214T170906Z
UID:10011514-1834734600-1834740000@colorcomunitaria.org
SUMMARY:Informativo De este a Oeste (OLA)
DESCRIPTION:
URL:https://colorcomunitaria.org/evento/informativo-de-este-a-oeste-ola/2028-02-21/
END:VEVENT
BEGIN:VEVENT
DTSTART;TZID=Europe/Madrid:20280221T100000
DTEND;TZID=Europe/Madrid:20280221T100500
DTSTAMP:20260422T203044
CREATED:20250214T171100Z
LAST-MODIFIED:20250214T171102Z
UID:10012827-1834740000-1834740300@colorcomunitaria.org
SUMMARY:Boletín informativo OLA
DESCRIPTION:
URL:https://colorcomunitaria.org/evento/boletin-informativo-ola-2/2028-02-21/
END:VEVENT
BEGIN:VEVENT
DTSTART;TZID=Europe/Madrid:20280221T100500
DTEND;TZID=Europe/Madrid:20280221T103500
DTSTAMP:20260422T203044
CREATED:20250121T155655Z
LAST-MODIFIED:20250214T162406Z
UID:10008639-1834740300-1834742100@colorcomunitaria.org
SUMMARY:Cerca de tu casa
DESCRIPTION:Magacín sobre lo que pasa en Palma Palmilla. Colabora Junta de Distrito 5 Palma Palmilla del Ayuntamiento  de Málaga.
URL:https://colorcomunitaria.org/evento/cerca-de-tu-casa/2028-02-21/
CATEGORIES:Palma Palmilla
ATTACH;FMTTYPE=image/jpeg:https://colorcomunitaria.org/wp-content/uploads/2025/01/imagen-loco-cdtc-cerca-de-tu-casa-grande-e1737380447434.jpg
END:VEVENT
BEGIN:VEVENT
DTSTART;TZID=Europe/Madrid:20280221T103500
DTEND;TZID=Europe/Madrid:20280221T104500
DTSTAMP:20260422T203044
CREATED:20250216T172831Z
LAST-MODIFIED:20250216T173153Z
UID:10015872-1834742100-1834742700@colorcomunitaria.org
SUMMARY:Cerca de tu casa - Málaga
DESCRIPTION:
URL:https://colorcomunitaria.org/evento/cerca-de-tu-casa-edicion-malaga/2028-02-21/
END:VEVENT
BEGIN:VEVENT
DTSTART;TZID=Europe/Madrid:20280221T110500
DTEND;TZID=Europe/Madrid:20280221T120000
DTSTAMP:20260422T203044
CREATED:20250214T162718Z
LAST-MODIFIED:20250214T162800Z
UID:10009839-1834743900-1834747200@colorcomunitaria.org
SUMMARY:Con otra mirada
DESCRIPTION:
URL:https://colorcomunitaria.org/evento/con-otra-mirada/2028-02-21/
END:VEVENT
BEGIN:VEVENT
DTSTART;TZID=Europe/Madrid:20280221T120500
DTEND;TZID=Europe/Madrid:20280221T130000
DTSTAMP:20260422T203044
CREATED:20250214T165409Z
LAST-MODIFIED:20250214T165409Z
UID:10010100-1834747500-1834750800@colorcomunitaria.org
SUMMARY:Sabemos lo que queremos
DESCRIPTION:
URL:https://colorcomunitaria.org/evento/sabemos-lo-que-queremos/2028-02-21/
END:VEVENT
BEGIN:VEVENT
DTSTART;TZID=Europe/Madrid:20280221T130000
DTEND;TZID=Europe/Madrid:20280221T133000
DTSTAMP:20260422T203044
CREATED:20250216T173355Z
LAST-MODIFIED:20250216T173355Z
UID:10018176-1834750800-1834752600@colorcomunitaria.org
SUMMARY:Informativo De este a Oeste (OLA)
DESCRIPTION:
URL:https://colorcomunitaria.org/evento/informativo-de-este-a-oeste-ola-2/2028-02-21/
END:VEVENT
BEGIN:VEVENT
DTSTART;TZID=Europe/Madrid:20280221T160000
DTEND;TZID=Europe/Madrid:20280221T163000
DTSTAMP:20260422T203044
CREATED:20250216T173851Z
LAST-MODIFIED:20250216T173851Z
UID:10024914-1834761600-1834763400@colorcomunitaria.org
SUMMARY:Cerca de tu casa (R)
DESCRIPTION:Magacín sobre lo que pasa en Palma Palmilla. Colabora Junta de Distrito 5 Palma Palmilla del Ayuntamiento  de Málaga.
URL:https://colorcomunitaria.org/evento/cerca-de-tu-casa-r/2028-02-21/
CATEGORIES:Palma Palmilla
ATTACH;FMTTYPE=image/jpeg:https://colorcomunitaria.org/wp-content/uploads/2025/01/imagen-loco-cdtc-cerca-de-tu-casa-grande-e1737380447434.jpg
END:VEVENT
BEGIN:VEVENT
DTSTART;TZID=Europe/Madrid:20280221T163000
DTEND;TZID=Europe/Madrid:20280221T170000
DTSTAMP:20260422T203044
CREATED:20250216T174046Z
LAST-MODIFIED:20250216T174046Z
UID:10027549-1834763400-1834765200@colorcomunitaria.org
SUMMARY:Aprender con onda
DESCRIPTION:
URL:https://colorcomunitaria.org/evento/aprender-con-onda/2028-02-21/
END:VEVENT
BEGIN:VEVENT
DTSTART;TZID=Europe/Madrid:20280221T170500
DTEND;TZID=Europe/Madrid:20280221T180000
DTSTAMP:20260422T203044
CREATED:20250216T181824Z
LAST-MODIFIED:20250216T181824Z
UID:10038318-1834765500-1834768800@colorcomunitaria.org
SUMMARY:Emociones con esencia
DESCRIPTION:
URL:https://colorcomunitaria.org/evento/emociones-con-esencia/2028-02-21/
END:VEVENT
BEGIN:VEVENT
DTSTART;TZID=Europe/Madrid:20280221T190000
DTEND;TZID=Europe/Madrid:20280221T200000
DTSTAMP:20260422T203044
CREATED:20250216T173505Z
LAST-MODIFIED:20250216T173505Z
UID:10020272-1834772400-1834776000@colorcomunitaria.org
SUMMARY:Informativo De este a Oeste (OLA)
DESCRIPTION:
URL:https://colorcomunitaria.org/evento/informativo-de-este-a-oeste-ola-3/2028-02-21/
END:VEVENT
BEGIN:VEVENT
DTSTART;TZID=Europe/Madrid:20280221T200500
DTEND;TZID=Europe/Madrid:20280221T210000
DTSTAMP:20260422T203044
CREATED:20250216T182912Z
LAST-MODIFIED:20250216T183417Z
UID:10039132-1834776300-1834779600@colorcomunitaria.org
SUMMARY:Este libro está muy vivo (R)
DESCRIPTION:
URL:https://colorcomunitaria.org/evento/este-libro-esta-muy-vivo/2028-02-21/
END:VEVENT
BEGIN:VEVENT
DTSTART;TZID=Europe/Madrid:20280221T210000
DTEND;TZID=Europe/Madrid:20280221T220000
DTSTAMP:20260422T203044
CREATED:20250216T184112Z
LAST-MODIFIED:20250216T184112Z
UID:10039340-1834779600-1834783200@colorcomunitaria.org
SUMMARY:De mil colores
DESCRIPTION:
URL:https://colorcomunitaria.org/evento/de-mil-colores/2028-02-21/
END:VEVENT
BEGIN:VEVENT
DTSTART;TZID=Europe/Madrid:20280222T010000
DTEND;TZID=Europe/Madrid:20280222T020000
DTSTAMP:20260422T203044
CREATED:20250216T173544Z
LAST-MODIFIED:20250216T173632Z
UID:10022369-1834794000-1834797600@colorcomunitaria.org
SUMMARY:Informativo De este a Oeste (OLA) (R)
DESCRIPTION:
URL:https://colorcomunitaria.org/evento/informativo-de-este-a-oeste-ola-r/2028-02-22/
END:VEVENT
BEGIN:VEVENT
DTSTART;TZID=Europe/Madrid:20280222T020000
DTEND;TZID=Europe/Madrid:20280222T040000
DTSTAMP:20260422T203044
CREATED:20250216T180923Z
LAST-MODIFIED:20250216T181107Z
UID:10033893-1834797600-1834804800@colorcomunitaria.org
SUMMARY:Radioteatros Bicicleta Atómica y Audiodrama Colectivo
DESCRIPTION:
URL:https://colorcomunitaria.org/evento/radioteatros-bicicleta-atomica-y-audiodrama-colectivo/2028-02-22/
END:VEVENT
BEGIN:VEVENT
DTSTART;TZID=Europe/Madrid:20280222T083000
DTEND;TZID=Europe/Madrid:20280222T100000
DTSTAMP:20260422T203044
CREATED:20250214T170834Z
LAST-MODIFIED:20250214T170906Z
UID:10011515-1834821000-1834826400@colorcomunitaria.org
SUMMARY:Informativo De este a Oeste (OLA)
DESCRIPTION:
URL:https://colorcomunitaria.org/evento/informativo-de-este-a-oeste-ola/2028-02-22/
END:VEVENT
BEGIN:VEVENT
DTSTART;TZID=Europe/Madrid:20280222T100000
DTEND;TZID=Europe/Madrid:20280222T100500
DTSTAMP:20260422T203044
CREATED:20250214T171100Z
LAST-MODIFIED:20250214T171102Z
UID:10012828-1834826400-1834826700@colorcomunitaria.org
SUMMARY:Boletín informativo OLA
DESCRIPTION:
URL:https://colorcomunitaria.org/evento/boletin-informativo-ola-2/2028-02-22/
END:VEVENT
BEGIN:VEVENT
DTSTART;TZID=Europe/Madrid:20280222T100500
DTEND;TZID=Europe/Madrid:20280222T103500
DTSTAMP:20260422T203044
CREATED:20250121T155655Z
LAST-MODIFIED:20250214T162406Z
UID:10008640-1834826700-1834828500@colorcomunitaria.org
SUMMARY:Cerca de tu casa
DESCRIPTION:Magacín sobre lo que pasa en Palma Palmilla. Colabora Junta de Distrito 5 Palma Palmilla del Ayuntamiento  de Málaga.
URL:https://colorcomunitaria.org/evento/cerca-de-tu-casa/2028-02-22/
CATEGORIES:Palma Palmilla
ATTACH;FMTTYPE=image/jpeg:https://colorcomunitaria.org/wp-content/uploads/2025/01/imagen-loco-cdtc-cerca-de-tu-casa-grande-e1737380447434.jpg
END:VEVENT
BEGIN:VEVENT
DTSTART;TZID=Europe/Madrid:20280222T103500
DTEND;TZID=Europe/Madrid:20280222T104500
DTSTAMP:20260422T203044
CREATED:20250216T172831Z
LAST-MODIFIED:20250216T173153Z
UID:10015873-1834828500-1834829100@colorcomunitaria.org
SUMMARY:Cerca de tu casa - Málaga
DESCRIPTION:
URL:https://colorcomunitaria.org/evento/cerca-de-tu-casa-edicion-malaga/2028-02-22/
END:VEVENT
BEGIN:VEVENT
DTSTART;TZID=Europe/Madrid:20280222T110500
DTEND;TZID=Europe/Madrid:20280222T123000
DTSTAMP:20260422T203044
CREATED:20250214T165815Z
LAST-MODIFIED:20250214T165815Z
UID:10010362-1834830300-1834835400@colorcomunitaria.org
SUMMARY:La voz de vida
DESCRIPTION:
URL:https://colorcomunitaria.org/evento/la-voz-de-vida/2028-02-22/
END:VEVENT
BEGIN:VEVENT
DTSTART;TZID=Europe/Madrid:20280222T130000
DTEND;TZID=Europe/Madrid:20280222T133000
DTSTAMP:20260422T203044
CREATED:20250216T173355Z
LAST-MODIFIED:20250216T173355Z
UID:10018177-1834837200-1834839000@colorcomunitaria.org
SUMMARY:Informativo De este a Oeste (OLA)
DESCRIPTION:
URL:https://colorcomunitaria.org/evento/informativo-de-este-a-oeste-ola-2/2028-02-22/
END:VEVENT
BEGIN:VEVENT
DTSTART;TZID=Europe/Madrid:20280222T160000
DTEND;TZID=Europe/Madrid:20280222T163000
DTSTAMP:20260422T203044
CREATED:20250216T173851Z
LAST-MODIFIED:20250216T173851Z
UID:10024915-1834848000-1834849800@colorcomunitaria.org
SUMMARY:Cerca de tu casa (R)
DESCRIPTION:Magacín sobre lo que pasa en Palma Palmilla. Colabora Junta de Distrito 5 Palma Palmilla del Ayuntamiento  de Málaga.
URL:https://colorcomunitaria.org/evento/cerca-de-tu-casa-r/2028-02-22/
CATEGORIES:Palma Palmilla
ATTACH;FMTTYPE=image/jpeg:https://colorcomunitaria.org/wp-content/uploads/2025/01/imagen-loco-cdtc-cerca-de-tu-casa-grande-e1737380447434.jpg
END:VEVENT
BEGIN:VEVENT
DTSTART;TZID=Europe/Madrid:20280222T163000
DTEND;TZID=Europe/Madrid:20280222T170000
DTSTAMP:20260422T203044
CREATED:20250216T174046Z
LAST-MODIFIED:20250216T174046Z
UID:10027550-1834849800-1834851600@colorcomunitaria.org
SUMMARY:Aprender con onda
DESCRIPTION:
URL:https://colorcomunitaria.org/evento/aprender-con-onda/2028-02-22/
END:VEVENT
BEGIN:VEVENT
DTSTART;TZID=Europe/Madrid:20280222T190000
DTEND;TZID=Europe/Madrid:20280222T200000
DTSTAMP:20260422T203044
CREATED:20250216T173505Z
LAST-MODIFIED:20250216T173505Z
UID:10020273-1834858800-1834862400@colorcomunitaria.org
SUMMARY:Informativo De este a Oeste (OLA)
DESCRIPTION:
URL:https://colorcomunitaria.org/evento/informativo-de-este-a-oeste-ola-3/2028-02-22/
END:VEVENT
BEGIN:VEVENT
DTSTART;TZID=Europe/Madrid:20280222T200000
DTEND;TZID=Europe/Madrid:20280222T210000
DTSTAMP:20260422T203045
CREATED:20250214T172034Z
LAST-MODIFIED:20250214T172034Z
UID:10013772-1834862400-1834866000@colorcomunitaria.org
SUMMARY:Puentes
DESCRIPTION:
URL:https://colorcomunitaria.org/evento/puentes/2028-02-22/
END:VEVENT
BEGIN:VEVENT
DTSTART;TZID=Europe/Madrid:20280222T210000
DTEND;TZID=Europe/Madrid:20280222T220000
DTSTAMP:20260422T203045
CREATED:20250214T172202Z
LAST-MODIFIED:20250214T172202Z
UID:10014034-1834866000-1834869600@colorcomunitaria.org
SUMMARY:La voz de los sin voz
DESCRIPTION:
URL:https://colorcomunitaria.org/evento/la-voz-de-los-sin-voz/2028-02-22/
END:VEVENT
BEGIN:VEVENT
DTSTART;TZID=Europe/Madrid:20280223T000000
DTEND;TZID=Europe/Madrid:20280223T010000
DTSTAMP:20260422T203045
CREATED:20250216T175230Z
LAST-MODIFIED:20250216T175230Z
UID:10029535-1834876800-1834880400@colorcomunitaria.org
SUMMARY:Málaga Cultura Viva (R)
DESCRIPTION:
URL:https://colorcomunitaria.org/evento/malaga-cultura-viva-r/2028-02-23/
END:VEVENT
BEGIN:VEVENT
DTSTART;TZID=Europe/Madrid:20280223T010000
DTEND;TZID=Europe/Madrid:20280223T020000
DTSTAMP:20260422T203045
CREATED:20250216T173544Z
LAST-MODIFIED:20250216T173632Z
UID:10022370-1834880400-1834884000@colorcomunitaria.org
SUMMARY:Informativo De este a Oeste (OLA) (R)
DESCRIPTION:
URL:https://colorcomunitaria.org/evento/informativo-de-este-a-oeste-ola-r/2028-02-23/
END:VEVENT
END:VCALENDAR