BEGIN:VCALENDAR
VERSION:2.0
PRODID:-//Color comunitaria - ECPv6.9.1//NONSGML v1.0//EN
CALSCALE:GREGORIAN
METHOD:PUBLISH
X-WR-CALNAME:Color comunitaria
X-ORIGINAL-URL:https://colorcomunitaria.org
X-WR-CALDESC:Eventos para Color comunitaria
REFRESH-INTERVAL;VALUE=DURATION:PT1H
X-Robots-Tag:noindex
X-PUBLISHED-TTL:PT1H
BEGIN:VTIMEZONE
TZID:Europe/Madrid
BEGIN:DAYLIGHT
TZOFFSETFROM:+0100
TZOFFSETTO:+0200
TZNAME:CEST
DTSTART:20280326T010000
END:DAYLIGHT
BEGIN:STANDARD
TZOFFSETFROM:+0200
TZOFFSETTO:+0100
TZNAME:CET
DTSTART:20281029T010000
END:STANDARD
END:VTIMEZONE
BEGIN:VEVENT
DTSTART;TZID=Europe/Madrid:20280320T010000
DTEND;TZID=Europe/Madrid:20280320T020000
DTSTAMP:20260423T002007
CREATED:20250216T173544Z
LAST-MODIFIED:20250216T173632Z
UID:10022384-1837126800-1837130400@colorcomunitaria.org
SUMMARY:Informativo De este a Oeste (OLA) (R)
DESCRIPTION:
URL:https://colorcomunitaria.org/evento/informativo-de-este-a-oeste-ola-r/2028-03-20/
END:VEVENT
BEGIN:VEVENT
DTSTART;TZID=Europe/Madrid:20280320T020000
DTEND;TZID=Europe/Madrid:20280320T040000
DTSTAMP:20260423T002007
CREATED:20250216T180923Z
LAST-MODIFIED:20250216T181107Z
UID:10033920-1837130400-1837137600@colorcomunitaria.org
SUMMARY:Radioteatros Bicicleta Atómica y Audiodrama Colectivo
DESCRIPTION:
URL:https://colorcomunitaria.org/evento/radioteatros-bicicleta-atomica-y-audiodrama-colectivo/2028-03-20/
END:VEVENT
BEGIN:VEVENT
DTSTART;TZID=Europe/Madrid:20280320T083000
DTEND;TZID=Europe/Madrid:20280320T100000
DTSTAMP:20260423T002007
CREATED:20250214T170834Z
LAST-MODIFIED:20250214T170906Z
UID:10011534-1837153800-1837159200@colorcomunitaria.org
SUMMARY:Informativo De este a Oeste (OLA)
DESCRIPTION:
URL:https://colorcomunitaria.org/evento/informativo-de-este-a-oeste-ola/2028-03-20/
END:VEVENT
BEGIN:VEVENT
DTSTART;TZID=Europe/Madrid:20280320T100000
DTEND;TZID=Europe/Madrid:20280320T100500
DTSTAMP:20260423T002007
CREATED:20250214T171100Z
LAST-MODIFIED:20250214T171102Z
UID:10012847-1837159200-1837159500@colorcomunitaria.org
SUMMARY:Boletín informativo OLA
DESCRIPTION:
URL:https://colorcomunitaria.org/evento/boletin-informativo-ola-2/2028-03-20/
END:VEVENT
BEGIN:VEVENT
DTSTART;TZID=Europe/Madrid:20280320T100500
DTEND;TZID=Europe/Madrid:20280320T103500
DTSTAMP:20260423T002007
CREATED:20250121T155655Z
LAST-MODIFIED:20250214T162406Z
UID:10008659-1837159500-1837161300@colorcomunitaria.org
SUMMARY:Cerca de tu casa
DESCRIPTION:Magacín sobre lo que pasa en Palma Palmilla. Colabora Junta de Distrito 5 Palma Palmilla del Ayuntamiento  de Málaga.
URL:https://colorcomunitaria.org/evento/cerca-de-tu-casa/2028-03-20/
CATEGORIES:Palma Palmilla
ATTACH;FMTTYPE=image/jpeg:https://colorcomunitaria.org/wp-content/uploads/2025/01/imagen-loco-cdtc-cerca-de-tu-casa-grande-e1737380447434.jpg
END:VEVENT
BEGIN:VEVENT
DTSTART;TZID=Europe/Madrid:20280320T103500
DTEND;TZID=Europe/Madrid:20280320T104500
DTSTAMP:20260423T002007
CREATED:20250216T172831Z
LAST-MODIFIED:20250216T173153Z
UID:10015896-1837161300-1837161900@colorcomunitaria.org
SUMMARY:Cerca de tu casa - Málaga
DESCRIPTION:
URL:https://colorcomunitaria.org/evento/cerca-de-tu-casa-edicion-malaga/2028-03-20/
END:VEVENT
BEGIN:VEVENT
DTSTART;TZID=Europe/Madrid:20280320T110500
DTEND;TZID=Europe/Madrid:20280320T120000
DTSTAMP:20260423T002007
CREATED:20250214T162718Z
LAST-MODIFIED:20250214T162800Z
UID:10009843-1837163100-1837166400@colorcomunitaria.org
SUMMARY:Con otra mirada
DESCRIPTION:
URL:https://colorcomunitaria.org/evento/con-otra-mirada/2028-03-20/
END:VEVENT
BEGIN:VEVENT
DTSTART;TZID=Europe/Madrid:20280320T120500
DTEND;TZID=Europe/Madrid:20280320T130000
DTSTAMP:20260423T002007
CREATED:20250214T165409Z
LAST-MODIFIED:20250214T165409Z
UID:10010104-1837166700-1837170000@colorcomunitaria.org
SUMMARY:Sabemos lo que queremos
DESCRIPTION:
URL:https://colorcomunitaria.org/evento/sabemos-lo-que-queremos/2028-03-20/
END:VEVENT
BEGIN:VEVENT
DTSTART;TZID=Europe/Madrid:20280320T130000
DTEND;TZID=Europe/Madrid:20280320T133000
DTSTAMP:20260423T002008
CREATED:20250216T173355Z
LAST-MODIFIED:20250216T173355Z
UID:10018192-1837170000-1837171800@colorcomunitaria.org
SUMMARY:Informativo De este a Oeste (OLA)
DESCRIPTION:
URL:https://colorcomunitaria.org/evento/informativo-de-este-a-oeste-ola-2/2028-03-20/
END:VEVENT
BEGIN:VEVENT
DTSTART;TZID=Europe/Madrid:20280320T160000
DTEND;TZID=Europe/Madrid:20280320T163000
DTSTAMP:20260423T002008
CREATED:20250216T173851Z
LAST-MODIFIED:20250216T173851Z
UID:10024934-1837180800-1837182600@colorcomunitaria.org
SUMMARY:Cerca de tu casa (R)
DESCRIPTION:Magacín sobre lo que pasa en Palma Palmilla. Colabora Junta de Distrito 5 Palma Palmilla del Ayuntamiento  de Málaga.
URL:https://colorcomunitaria.org/evento/cerca-de-tu-casa-r/2028-03-20/
CATEGORIES:Palma Palmilla
ATTACH;FMTTYPE=image/jpeg:https://colorcomunitaria.org/wp-content/uploads/2025/01/imagen-loco-cdtc-cerca-de-tu-casa-grande-e1737380447434.jpg
END:VEVENT
BEGIN:VEVENT
DTSTART;TZID=Europe/Madrid:20280320T163000
DTEND;TZID=Europe/Madrid:20280320T170000
DTSTAMP:20260423T002008
CREATED:20250216T174046Z
LAST-MODIFIED:20250216T174046Z
UID:10027569-1837182600-1837184400@colorcomunitaria.org
SUMMARY:Aprender con onda
DESCRIPTION:
URL:https://colorcomunitaria.org/evento/aprender-con-onda/2028-03-20/
END:VEVENT
BEGIN:VEVENT
DTSTART;TZID=Europe/Madrid:20280320T170500
DTEND;TZID=Europe/Madrid:20280320T180000
DTSTAMP:20260423T002008
CREATED:20250216T181824Z
LAST-MODIFIED:20250216T181824Z
UID:10038319-1837184700-1837188000@colorcomunitaria.org
SUMMARY:Emociones con esencia
DESCRIPTION:
URL:https://colorcomunitaria.org/evento/emociones-con-esencia/2028-03-20/
END:VEVENT
BEGIN:VEVENT
DTSTART;TZID=Europe/Madrid:20280320T190000
DTEND;TZID=Europe/Madrid:20280320T200000
DTSTAMP:20260423T002008
CREATED:20250216T173505Z
LAST-MODIFIED:20250216T173505Z
UID:10020288-1837191600-1837195200@colorcomunitaria.org
SUMMARY:Informativo De este a Oeste (OLA)
DESCRIPTION:
URL:https://colorcomunitaria.org/evento/informativo-de-este-a-oeste-ola-3/2028-03-20/
END:VEVENT
BEGIN:VEVENT
DTSTART;TZID=Europe/Madrid:20280320T200500
DTEND;TZID=Europe/Madrid:20280320T210000
DTSTAMP:20260423T002008
CREATED:20250216T182912Z
LAST-MODIFIED:20250216T183417Z
UID:10039134-1837195500-1837198800@colorcomunitaria.org
SUMMARY:Este libro está muy vivo (R)
DESCRIPTION:
URL:https://colorcomunitaria.org/evento/este-libro-esta-muy-vivo/2028-03-20/
END:VEVENT
BEGIN:VEVENT
DTSTART;TZID=Europe/Madrid:20280320T210000
DTEND;TZID=Europe/Madrid:20280320T220000
DTSTAMP:20260423T002008
CREATED:20250216T184112Z
LAST-MODIFIED:20250216T184112Z
UID:10039344-1837198800-1837202400@colorcomunitaria.org
SUMMARY:De mil colores
DESCRIPTION:
URL:https://colorcomunitaria.org/evento/de-mil-colores/2028-03-20/
END:VEVENT
BEGIN:VEVENT
DTSTART;TZID=Europe/Madrid:20280321T010000
DTEND;TZID=Europe/Madrid:20280321T020000
DTSTAMP:20260423T002008
CREATED:20250216T173544Z
LAST-MODIFIED:20250216T173632Z
UID:10022385-1837213200-1837216800@colorcomunitaria.org
SUMMARY:Informativo De este a Oeste (OLA) (R)
DESCRIPTION:
URL:https://colorcomunitaria.org/evento/informativo-de-este-a-oeste-ola-r/2028-03-21/
END:VEVENT
BEGIN:VEVENT
DTSTART;TZID=Europe/Madrid:20280321T020000
DTEND;TZID=Europe/Madrid:20280321T040000
DTSTAMP:20260423T002008
CREATED:20250216T180923Z
LAST-MODIFIED:20250216T181107Z
UID:10033921-1837216800-1837224000@colorcomunitaria.org
SUMMARY:Radioteatros Bicicleta Atómica y Audiodrama Colectivo
DESCRIPTION:
URL:https://colorcomunitaria.org/evento/radioteatros-bicicleta-atomica-y-audiodrama-colectivo/2028-03-21/
END:VEVENT
BEGIN:VEVENT
DTSTART;TZID=Europe/Madrid:20280321T083000
DTEND;TZID=Europe/Madrid:20280321T100000
DTSTAMP:20260423T002008
CREATED:20250214T170834Z
LAST-MODIFIED:20250214T170906Z
UID:10011535-1837240200-1837245600@colorcomunitaria.org
SUMMARY:Informativo De este a Oeste (OLA)
DESCRIPTION:
URL:https://colorcomunitaria.org/evento/informativo-de-este-a-oeste-ola/2028-03-21/
END:VEVENT
BEGIN:VEVENT
DTSTART;TZID=Europe/Madrid:20280321T100000
DTEND;TZID=Europe/Madrid:20280321T100500
DTSTAMP:20260423T002008
CREATED:20250214T171100Z
LAST-MODIFIED:20250214T171102Z
UID:10012848-1837245600-1837245900@colorcomunitaria.org
SUMMARY:Boletín informativo OLA
DESCRIPTION:
URL:https://colorcomunitaria.org/evento/boletin-informativo-ola-2/2028-03-21/
END:VEVENT
BEGIN:VEVENT
DTSTART;TZID=Europe/Madrid:20280321T100500
DTEND;TZID=Europe/Madrid:20280321T103500
DTSTAMP:20260423T002008
CREATED:20250121T155655Z
LAST-MODIFIED:20250214T162406Z
UID:10008660-1837245900-1837247700@colorcomunitaria.org
SUMMARY:Cerca de tu casa
DESCRIPTION:Magacín sobre lo que pasa en Palma Palmilla. Colabora Junta de Distrito 5 Palma Palmilla del Ayuntamiento  de Málaga.
URL:https://colorcomunitaria.org/evento/cerca-de-tu-casa/2028-03-21/
CATEGORIES:Palma Palmilla
ATTACH;FMTTYPE=image/jpeg:https://colorcomunitaria.org/wp-content/uploads/2025/01/imagen-loco-cdtc-cerca-de-tu-casa-grande-e1737380447434.jpg
END:VEVENT
BEGIN:VEVENT
DTSTART;TZID=Europe/Madrid:20280321T103500
DTEND;TZID=Europe/Madrid:20280321T104500
DTSTAMP:20260423T002008
CREATED:20250216T172831Z
LAST-MODIFIED:20250216T173153Z
UID:10015897-1837247700-1837248300@colorcomunitaria.org
SUMMARY:Cerca de tu casa - Málaga
DESCRIPTION:
URL:https://colorcomunitaria.org/evento/cerca-de-tu-casa-edicion-malaga/2028-03-21/
END:VEVENT
BEGIN:VEVENT
DTSTART;TZID=Europe/Madrid:20280321T110500
DTEND;TZID=Europe/Madrid:20280321T123000
DTSTAMP:20260423T002008
CREATED:20250214T165815Z
LAST-MODIFIED:20250214T165815Z
UID:10010366-1837249500-1837254600@colorcomunitaria.org
SUMMARY:La voz de vida
DESCRIPTION:
URL:https://colorcomunitaria.org/evento/la-voz-de-vida/2028-03-21/
END:VEVENT
BEGIN:VEVENT
DTSTART;TZID=Europe/Madrid:20280321T130000
DTEND;TZID=Europe/Madrid:20280321T133000
DTSTAMP:20260423T002008
CREATED:20250216T173355Z
LAST-MODIFIED:20250216T173355Z
UID:10018193-1837256400-1837258200@colorcomunitaria.org
SUMMARY:Informativo De este a Oeste (OLA)
DESCRIPTION:
URL:https://colorcomunitaria.org/evento/informativo-de-este-a-oeste-ola-2/2028-03-21/
END:VEVENT
BEGIN:VEVENT
DTSTART;TZID=Europe/Madrid:20280321T160000
DTEND;TZID=Europe/Madrid:20280321T163000
DTSTAMP:20260423T002008
CREATED:20250216T173851Z
LAST-MODIFIED:20250216T173851Z
UID:10024935-1837267200-1837269000@colorcomunitaria.org
SUMMARY:Cerca de tu casa (R)
DESCRIPTION:Magacín sobre lo que pasa en Palma Palmilla. Colabora Junta de Distrito 5 Palma Palmilla del Ayuntamiento  de Málaga.
URL:https://colorcomunitaria.org/evento/cerca-de-tu-casa-r/2028-03-21/
CATEGORIES:Palma Palmilla
ATTACH;FMTTYPE=image/jpeg:https://colorcomunitaria.org/wp-content/uploads/2025/01/imagen-loco-cdtc-cerca-de-tu-casa-grande-e1737380447434.jpg
END:VEVENT
BEGIN:VEVENT
DTSTART;TZID=Europe/Madrid:20280321T163000
DTEND;TZID=Europe/Madrid:20280321T170000
DTSTAMP:20260423T002008
CREATED:20250216T174046Z
LAST-MODIFIED:20250216T174046Z
UID:10027570-1837269000-1837270800@colorcomunitaria.org
SUMMARY:Aprender con onda
DESCRIPTION:
URL:https://colorcomunitaria.org/evento/aprender-con-onda/2028-03-21/
END:VEVENT
BEGIN:VEVENT
DTSTART;TZID=Europe/Madrid:20280321T190000
DTEND;TZID=Europe/Madrid:20280321T200000
DTSTAMP:20260423T002008
CREATED:20250216T173505Z
LAST-MODIFIED:20250216T173505Z
UID:10020289-1837278000-1837281600@colorcomunitaria.org
SUMMARY:Informativo De este a Oeste (OLA)
DESCRIPTION:
URL:https://colorcomunitaria.org/evento/informativo-de-este-a-oeste-ola-3/2028-03-21/
END:VEVENT
BEGIN:VEVENT
DTSTART;TZID=Europe/Madrid:20280321T200000
DTEND;TZID=Europe/Madrid:20280321T210000
DTSTAMP:20260423T002008
CREATED:20250214T172034Z
LAST-MODIFIED:20250214T172034Z
UID:10013776-1837281600-1837285200@colorcomunitaria.org
SUMMARY:Puentes
DESCRIPTION:
URL:https://colorcomunitaria.org/evento/puentes/2028-03-21/
END:VEVENT
BEGIN:VEVENT
DTSTART;TZID=Europe/Madrid:20280321T210000
DTEND;TZID=Europe/Madrid:20280321T220000
DTSTAMP:20260423T002008
CREATED:20250214T172202Z
LAST-MODIFIED:20250214T172202Z
UID:10014038-1837285200-1837288800@colorcomunitaria.org
SUMMARY:La voz de los sin voz
DESCRIPTION:
URL:https://colorcomunitaria.org/evento/la-voz-de-los-sin-voz/2028-03-21/
END:VEVENT
BEGIN:VEVENT
DTSTART;TZID=Europe/Madrid:20280322T000000
DTEND;TZID=Europe/Madrid:20280322T010000
DTSTAMP:20260423T002008
CREATED:20250216T175230Z
LAST-MODIFIED:20250216T175230Z
UID:10029539-1837296000-1837299600@colorcomunitaria.org
SUMMARY:Málaga Cultura Viva (R)
DESCRIPTION:
URL:https://colorcomunitaria.org/evento/malaga-cultura-viva-r/2028-03-22/
END:VEVENT
BEGIN:VEVENT
DTSTART;TZID=Europe/Madrid:20280322T010000
DTEND;TZID=Europe/Madrid:20280322T020000
DTSTAMP:20260423T002008
CREATED:20250216T173544Z
LAST-MODIFIED:20250216T173632Z
UID:10022386-1837299600-1837303200@colorcomunitaria.org
SUMMARY:Informativo De este a Oeste (OLA) (R)
DESCRIPTION:
URL:https://colorcomunitaria.org/evento/informativo-de-este-a-oeste-ola-r/2028-03-22/
END:VEVENT
END:VCALENDAR