BEGIN:VCALENDAR
VERSION:2.0
PRODID:-//Color comunitaria - ECPv6.9.1//NONSGML v1.0//EN
CALSCALE:GREGORIAN
METHOD:PUBLISH
X-WR-CALNAME:Color comunitaria
X-ORIGINAL-URL:https://colorcomunitaria.org
X-WR-CALDESC:Eventos para Color comunitaria
REFRESH-INTERVAL;VALUE=DURATION:PT1H
X-Robots-Tag:noindex
X-PUBLISHED-TTL:PT1H
BEGIN:VTIMEZONE
TZID:Europe/Madrid
BEGIN:DAYLIGHT
TZOFFSETFROM:+0100
TZOFFSETTO:+0200
TZNAME:CEST
DTSTART:20280326T010000
END:DAYLIGHT
BEGIN:STANDARD
TZOFFSETFROM:+0200
TZOFFSETTO:+0100
TZNAME:CET
DTSTART:20281029T010000
END:STANDARD
END:VTIMEZONE
BEGIN:VEVENT
DTSTART;TZID=Europe/Madrid:20280501T010000
DTEND;TZID=Europe/Madrid:20280501T020000
DTSTAMP:20260423T120646
CREATED:20250216T173544Z
LAST-MODIFIED:20250216T173632Z
UID:10022408-1840755600-1840759200@colorcomunitaria.org
SUMMARY:Informativo De este a Oeste (OLA) (R)
DESCRIPTION:
URL:https://colorcomunitaria.org/evento/informativo-de-este-a-oeste-ola-r/2028-05-01/
END:VEVENT
BEGIN:VEVENT
DTSTART;TZID=Europe/Madrid:20280501T020000
DTEND;TZID=Europe/Madrid:20280501T040000
DTSTAMP:20260423T120646
CREATED:20250216T180923Z
LAST-MODIFIED:20250216T181107Z
UID:10033962-1840759200-1840766400@colorcomunitaria.org
SUMMARY:Radioteatros Bicicleta Atómica y Audiodrama Colectivo
DESCRIPTION:
URL:https://colorcomunitaria.org/evento/radioteatros-bicicleta-atomica-y-audiodrama-colectivo/2028-05-01/
END:VEVENT
BEGIN:VEVENT
DTSTART;TZID=Europe/Madrid:20280501T083000
DTEND;TZID=Europe/Madrid:20280501T100000
DTSTAMP:20260423T120646
CREATED:20250214T170834Z
LAST-MODIFIED:20250214T170906Z
UID:10011564-1840782600-1840788000@colorcomunitaria.org
SUMMARY:Informativo De este a Oeste (OLA)
DESCRIPTION:
URL:https://colorcomunitaria.org/evento/informativo-de-este-a-oeste-ola/2028-05-01/
END:VEVENT
BEGIN:VEVENT
DTSTART;TZID=Europe/Madrid:20280501T100000
DTEND;TZID=Europe/Madrid:20280501T100500
DTSTAMP:20260423T120646
CREATED:20250214T171100Z
LAST-MODIFIED:20250214T171102Z
UID:10012877-1840788000-1840788300@colorcomunitaria.org
SUMMARY:Boletín informativo OLA
DESCRIPTION:
URL:https://colorcomunitaria.org/evento/boletin-informativo-ola-2/2028-05-01/
END:VEVENT
BEGIN:VEVENT
DTSTART;TZID=Europe/Madrid:20280501T100500
DTEND;TZID=Europe/Madrid:20280501T103500
DTSTAMP:20260423T120646
CREATED:20250121T155655Z
LAST-MODIFIED:20250214T162406Z
UID:10008689-1840788300-1840790100@colorcomunitaria.org
SUMMARY:Cerca de tu casa
DESCRIPTION:Magacín sobre lo que pasa en Palma Palmilla. Colabora Junta de Distrito 5 Palma Palmilla del Ayuntamiento  de Málaga.
URL:https://colorcomunitaria.org/evento/cerca-de-tu-casa/2028-05-01/
CATEGORIES:Palma Palmilla
ATTACH;FMTTYPE=image/jpeg:https://colorcomunitaria.org/wp-content/uploads/2025/01/imagen-loco-cdtc-cerca-de-tu-casa-grande-e1737380447434.jpg
END:VEVENT
BEGIN:VEVENT
DTSTART;TZID=Europe/Madrid:20280501T103500
DTEND;TZID=Europe/Madrid:20280501T104500
DTSTAMP:20260423T120646
CREATED:20250216T172831Z
LAST-MODIFIED:20250216T173153Z
UID:10015932-1840790100-1840790700@colorcomunitaria.org
SUMMARY:Cerca de tu casa - Málaga
DESCRIPTION:
URL:https://colorcomunitaria.org/evento/cerca-de-tu-casa-edicion-malaga/2028-05-01/
END:VEVENT
BEGIN:VEVENT
DTSTART;TZID=Europe/Madrid:20280501T110500
DTEND;TZID=Europe/Madrid:20280501T120000
DTSTAMP:20260423T120646
CREATED:20250214T162718Z
LAST-MODIFIED:20250214T162800Z
UID:10009849-1840791900-1840795200@colorcomunitaria.org
SUMMARY:Con otra mirada
DESCRIPTION:
URL:https://colorcomunitaria.org/evento/con-otra-mirada/2028-05-01/
END:VEVENT
BEGIN:VEVENT
DTSTART;TZID=Europe/Madrid:20280501T120500
DTEND;TZID=Europe/Madrid:20280501T130000
DTSTAMP:20260423T120646
CREATED:20250214T165409Z
LAST-MODIFIED:20250214T165409Z
UID:10010110-1840795500-1840798800@colorcomunitaria.org
SUMMARY:Sabemos lo que queremos
DESCRIPTION:
URL:https://colorcomunitaria.org/evento/sabemos-lo-que-queremos/2028-05-01/
END:VEVENT
BEGIN:VEVENT
DTSTART;TZID=Europe/Madrid:20280501T130000
DTEND;TZID=Europe/Madrid:20280501T133000
DTSTAMP:20260423T120646
CREATED:20250216T173355Z
LAST-MODIFIED:20250216T173355Z
UID:10018216-1840798800-1840800600@colorcomunitaria.org
SUMMARY:Informativo De este a Oeste (OLA)
DESCRIPTION:
URL:https://colorcomunitaria.org/evento/informativo-de-este-a-oeste-ola-2/2028-05-01/
END:VEVENT
BEGIN:VEVENT
DTSTART;TZID=Europe/Madrid:20280501T160000
DTEND;TZID=Europe/Madrid:20280501T163000
DTSTAMP:20260423T120646
CREATED:20250216T173851Z
LAST-MODIFIED:20250216T173851Z
UID:10024964-1840809600-1840811400@colorcomunitaria.org
SUMMARY:Cerca de tu casa (R)
DESCRIPTION:Magacín sobre lo que pasa en Palma Palmilla. Colabora Junta de Distrito 5 Palma Palmilla del Ayuntamiento  de Málaga.
URL:https://colorcomunitaria.org/evento/cerca-de-tu-casa-r/2028-05-01/
CATEGORIES:Palma Palmilla
ATTACH;FMTTYPE=image/jpeg:https://colorcomunitaria.org/wp-content/uploads/2025/01/imagen-loco-cdtc-cerca-de-tu-casa-grande-e1737380447434.jpg
END:VEVENT
BEGIN:VEVENT
DTSTART;TZID=Europe/Madrid:20280501T163000
DTEND;TZID=Europe/Madrid:20280501T170000
DTSTAMP:20260423T120646
CREATED:20250216T174046Z
LAST-MODIFIED:20250216T174046Z
UID:10027599-1840811400-1840813200@colorcomunitaria.org
SUMMARY:Aprender con onda
DESCRIPTION:
URL:https://colorcomunitaria.org/evento/aprender-con-onda/2028-05-01/
END:VEVENT
BEGIN:VEVENT
DTSTART;TZID=Europe/Madrid:20280501T190000
DTEND;TZID=Europe/Madrid:20280501T200000
DTSTAMP:20260423T120646
CREATED:20250216T173505Z
LAST-MODIFIED:20250216T173505Z
UID:10020312-1840820400-1840824000@colorcomunitaria.org
SUMMARY:Informativo De este a Oeste (OLA)
DESCRIPTION:
URL:https://colorcomunitaria.org/evento/informativo-de-este-a-oeste-ola-3/2028-05-01/
END:VEVENT
BEGIN:VEVENT
DTSTART;TZID=Europe/Madrid:20280501T200500
DTEND;TZID=Europe/Madrid:20280501T210000
DTSTAMP:20260423T120646
CREATED:20250216T182912Z
LAST-MODIFIED:20250216T183417Z
UID:10039137-1840824300-1840827600@colorcomunitaria.org
SUMMARY:Este libro está muy vivo (R)
DESCRIPTION:
URL:https://colorcomunitaria.org/evento/este-libro-esta-muy-vivo/2028-05-01/
END:VEVENT
BEGIN:VEVENT
DTSTART;TZID=Europe/Madrid:20280501T210000
DTEND;TZID=Europe/Madrid:20280501T220000
DTSTAMP:20260423T120646
CREATED:20250216T184112Z
LAST-MODIFIED:20250216T184112Z
UID:10039350-1840827600-1840831200@colorcomunitaria.org
SUMMARY:De mil colores
DESCRIPTION:
URL:https://colorcomunitaria.org/evento/de-mil-colores/2028-05-01/
END:VEVENT
BEGIN:VEVENT
DTSTART;TZID=Europe/Madrid:20280502T010000
DTEND;TZID=Europe/Madrid:20280502T020000
DTSTAMP:20260423T120646
CREATED:20250216T173544Z
LAST-MODIFIED:20250216T173632Z
UID:10022409-1840842000-1840845600@colorcomunitaria.org
SUMMARY:Informativo De este a Oeste (OLA) (R)
DESCRIPTION:
URL:https://colorcomunitaria.org/evento/informativo-de-este-a-oeste-ola-r/2028-05-02/
END:VEVENT
BEGIN:VEVENT
DTSTART;TZID=Europe/Madrid:20280502T020000
DTEND;TZID=Europe/Madrid:20280502T040000
DTSTAMP:20260423T120646
CREATED:20250216T180923Z
LAST-MODIFIED:20250216T181107Z
UID:10033963-1840845600-1840852800@colorcomunitaria.org
SUMMARY:Radioteatros Bicicleta Atómica y Audiodrama Colectivo
DESCRIPTION:
URL:https://colorcomunitaria.org/evento/radioteatros-bicicleta-atomica-y-audiodrama-colectivo/2028-05-02/
END:VEVENT
BEGIN:VEVENT
DTSTART;TZID=Europe/Madrid:20280502T083000
DTEND;TZID=Europe/Madrid:20280502T100000
DTSTAMP:20260423T120646
CREATED:20250214T170834Z
LAST-MODIFIED:20250214T170906Z
UID:10011565-1840869000-1840874400@colorcomunitaria.org
SUMMARY:Informativo De este a Oeste (OLA)
DESCRIPTION:
URL:https://colorcomunitaria.org/evento/informativo-de-este-a-oeste-ola/2028-05-02/
END:VEVENT
BEGIN:VEVENT
DTSTART;TZID=Europe/Madrid:20280502T100000
DTEND;TZID=Europe/Madrid:20280502T100500
DTSTAMP:20260423T120646
CREATED:20250214T171100Z
LAST-MODIFIED:20250214T171102Z
UID:10012878-1840874400-1840874700@colorcomunitaria.org
SUMMARY:Boletín informativo OLA
DESCRIPTION:
URL:https://colorcomunitaria.org/evento/boletin-informativo-ola-2/2028-05-02/
END:VEVENT
BEGIN:VEVENT
DTSTART;TZID=Europe/Madrid:20280502T100500
DTEND;TZID=Europe/Madrid:20280502T103500
DTSTAMP:20260423T120646
CREATED:20250121T155655Z
LAST-MODIFIED:20250214T162406Z
UID:10008690-1840874700-1840876500@colorcomunitaria.org
SUMMARY:Cerca de tu casa
DESCRIPTION:Magacín sobre lo que pasa en Palma Palmilla. Colabora Junta de Distrito 5 Palma Palmilla del Ayuntamiento  de Málaga.
URL:https://colorcomunitaria.org/evento/cerca-de-tu-casa/2028-05-02/
CATEGORIES:Palma Palmilla
ATTACH;FMTTYPE=image/jpeg:https://colorcomunitaria.org/wp-content/uploads/2025/01/imagen-loco-cdtc-cerca-de-tu-casa-grande-e1737380447434.jpg
END:VEVENT
BEGIN:VEVENT
DTSTART;TZID=Europe/Madrid:20280502T103500
DTEND;TZID=Europe/Madrid:20280502T104500
DTSTAMP:20260423T120646
CREATED:20250216T172831Z
LAST-MODIFIED:20250216T173153Z
UID:10015933-1840876500-1840877100@colorcomunitaria.org
SUMMARY:Cerca de tu casa - Málaga
DESCRIPTION:
URL:https://colorcomunitaria.org/evento/cerca-de-tu-casa-edicion-malaga/2028-05-02/
END:VEVENT
BEGIN:VEVENT
DTSTART;TZID=Europe/Madrid:20280502T110500
DTEND;TZID=Europe/Madrid:20280502T123000
DTSTAMP:20260423T120646
CREATED:20250214T165815Z
LAST-MODIFIED:20250214T165815Z
UID:10010372-1840878300-1840883400@colorcomunitaria.org
SUMMARY:La voz de vida
DESCRIPTION:
URL:https://colorcomunitaria.org/evento/la-voz-de-vida/2028-05-02/
END:VEVENT
BEGIN:VEVENT
DTSTART;TZID=Europe/Madrid:20280502T130000
DTEND;TZID=Europe/Madrid:20280502T133000
DTSTAMP:20260423T120646
CREATED:20250216T173355Z
LAST-MODIFIED:20250216T173355Z
UID:10018217-1840885200-1840887000@colorcomunitaria.org
SUMMARY:Informativo De este a Oeste (OLA)
DESCRIPTION:
URL:https://colorcomunitaria.org/evento/informativo-de-este-a-oeste-ola-2/2028-05-02/
END:VEVENT
BEGIN:VEVENT
DTSTART;TZID=Europe/Madrid:20280502T160000
DTEND;TZID=Europe/Madrid:20280502T163000
DTSTAMP:20260423T120646
CREATED:20250216T173851Z
LAST-MODIFIED:20250216T173851Z
UID:10024965-1840896000-1840897800@colorcomunitaria.org
SUMMARY:Cerca de tu casa (R)
DESCRIPTION:Magacín sobre lo que pasa en Palma Palmilla. Colabora Junta de Distrito 5 Palma Palmilla del Ayuntamiento  de Málaga.
URL:https://colorcomunitaria.org/evento/cerca-de-tu-casa-r/2028-05-02/
CATEGORIES:Palma Palmilla
ATTACH;FMTTYPE=image/jpeg:https://colorcomunitaria.org/wp-content/uploads/2025/01/imagen-loco-cdtc-cerca-de-tu-casa-grande-e1737380447434.jpg
END:VEVENT
BEGIN:VEVENT
DTSTART;TZID=Europe/Madrid:20280502T163000
DTEND;TZID=Europe/Madrid:20280502T170000
DTSTAMP:20260423T120646
CREATED:20250216T174046Z
LAST-MODIFIED:20250216T174046Z
UID:10027600-1840897800-1840899600@colorcomunitaria.org
SUMMARY:Aprender con onda
DESCRIPTION:
URL:https://colorcomunitaria.org/evento/aprender-con-onda/2028-05-02/
END:VEVENT
BEGIN:VEVENT
DTSTART;TZID=Europe/Madrid:20280502T190000
DTEND;TZID=Europe/Madrid:20280502T200000
DTSTAMP:20260423T120646
CREATED:20250216T173505Z
LAST-MODIFIED:20250216T173505Z
UID:10020313-1840906800-1840910400@colorcomunitaria.org
SUMMARY:Informativo De este a Oeste (OLA)
DESCRIPTION:
URL:https://colorcomunitaria.org/evento/informativo-de-este-a-oeste-ola-3/2028-05-02/
END:VEVENT
BEGIN:VEVENT
DTSTART;TZID=Europe/Madrid:20280502T200000
DTEND;TZID=Europe/Madrid:20280502T210000
DTSTAMP:20260423T120646
CREATED:20250214T172034Z
LAST-MODIFIED:20250214T172034Z
UID:10013782-1840910400-1840914000@colorcomunitaria.org
SUMMARY:Puentes
DESCRIPTION:
URL:https://colorcomunitaria.org/evento/puentes/2028-05-02/
END:VEVENT
BEGIN:VEVENT
DTSTART;TZID=Europe/Madrid:20280502T210000
DTEND;TZID=Europe/Madrid:20280502T220000
DTSTAMP:20260423T120646
CREATED:20250214T172202Z
LAST-MODIFIED:20250214T172202Z
UID:10014044-1840914000-1840917600@colorcomunitaria.org
SUMMARY:La voz de los sin voz
DESCRIPTION:
URL:https://colorcomunitaria.org/evento/la-voz-de-los-sin-voz/2028-05-02/
END:VEVENT
BEGIN:VEVENT
DTSTART;TZID=Europe/Madrid:20280503T000000
DTEND;TZID=Europe/Madrid:20280503T010000
DTSTAMP:20260423T120646
CREATED:20250216T175230Z
LAST-MODIFIED:20250216T175230Z
UID:10029545-1840924800-1840928400@colorcomunitaria.org
SUMMARY:Málaga Cultura Viva (R)
DESCRIPTION:
URL:https://colorcomunitaria.org/evento/malaga-cultura-viva-r/2028-05-03/
END:VEVENT
BEGIN:VEVENT
DTSTART;TZID=Europe/Madrid:20280503T010000
DTEND;TZID=Europe/Madrid:20280503T020000
DTSTAMP:20260423T120646
CREATED:20250216T173544Z
LAST-MODIFIED:20250216T173632Z
UID:10022410-1840928400-1840932000@colorcomunitaria.org
SUMMARY:Informativo De este a Oeste (OLA) (R)
DESCRIPTION:
URL:https://colorcomunitaria.org/evento/informativo-de-este-a-oeste-ola-r/2028-05-03/
END:VEVENT
BEGIN:VEVENT
DTSTART;TZID=Europe/Madrid:20280503T020000
DTEND;TZID=Europe/Madrid:20280503T040000
DTSTAMP:20260423T120646
CREATED:20250216T180923Z
LAST-MODIFIED:20250216T181107Z
UID:10033964-1840932000-1840939200@colorcomunitaria.org
SUMMARY:Radioteatros Bicicleta Atómica y Audiodrama Colectivo
DESCRIPTION:
URL:https://colorcomunitaria.org/evento/radioteatros-bicicleta-atomica-y-audiodrama-colectivo/2028-05-03/
END:VEVENT
END:VCALENDAR