BEGIN:VCALENDAR
VERSION:2.0
PRODID:-//Color comunitaria - ECPv6.9.1//NONSGML v1.0//EN
CALSCALE:GREGORIAN
METHOD:PUBLISH
X-ORIGINAL-URL:https://colorcomunitaria.org
X-WR-CALDESC:Eventos para Color comunitaria
REFRESH-INTERVAL;VALUE=DURATION:PT1H
X-Robots-Tag:noindex
X-PUBLISHED-TTL:PT1H
BEGIN:VTIMEZONE
TZID:Europe/Madrid
BEGIN:DAYLIGHT
TZOFFSETFROM:+0100
TZOFFSETTO:+0200
TZNAME:CEST
DTSTART:20280326T010000
END:DAYLIGHT
BEGIN:STANDARD
TZOFFSETFROM:+0200
TZOFFSETTO:+0100
TZNAME:CET
DTSTART:20281029T010000
END:STANDARD
END:VTIMEZONE
BEGIN:VEVENT
DTSTART;TZID=Europe/Madrid:20280515T010000
DTEND;TZID=Europe/Madrid:20280515T020000
DTSTAMP:20260423T192722
CREATED:20250216T173544Z
LAST-MODIFIED:20250216T173632Z
UID:10022416-1841965200-1841968800@colorcomunitaria.org
SUMMARY:Informativo De este a Oeste (OLA) (R)
DESCRIPTION:
URL:https://colorcomunitaria.org/evento/informativo-de-este-a-oeste-ola-r/2028-05-15/
END:VEVENT
BEGIN:VEVENT
DTSTART;TZID=Europe/Madrid:20280515T020000
DTEND;TZID=Europe/Madrid:20280515T040000
DTSTAMP:20260423T192722
CREATED:20250216T180923Z
LAST-MODIFIED:20250216T181107Z
UID:10033976-1841968800-1841976000@colorcomunitaria.org
SUMMARY:Radioteatros Bicicleta Atómica y Audiodrama Colectivo
DESCRIPTION:
URL:https://colorcomunitaria.org/evento/radioteatros-bicicleta-atomica-y-audiodrama-colectivo/2028-05-15/
END:VEVENT
BEGIN:VEVENT
DTSTART;TZID=Europe/Madrid:20280515T083000
DTEND;TZID=Europe/Madrid:20280515T100000
DTSTAMP:20260423T192722
CREATED:20250214T170834Z
LAST-MODIFIED:20250214T170906Z
UID:10011574-1841992200-1841997600@colorcomunitaria.org
SUMMARY:Informativo De este a Oeste (OLA)
DESCRIPTION:
URL:https://colorcomunitaria.org/evento/informativo-de-este-a-oeste-ola/2028-05-15/
END:VEVENT
BEGIN:VEVENT
DTSTART;TZID=Europe/Madrid:20280515T100000
DTEND;TZID=Europe/Madrid:20280515T100500
DTSTAMP:20260423T192722
CREATED:20250214T171100Z
LAST-MODIFIED:20250214T171102Z
UID:10012887-1841997600-1841997900@colorcomunitaria.org
SUMMARY:Boletín informativo OLA
DESCRIPTION:
URL:https://colorcomunitaria.org/evento/boletin-informativo-ola-2/2028-05-15/
END:VEVENT
BEGIN:VEVENT
DTSTART;TZID=Europe/Madrid:20280515T100500
DTEND;TZID=Europe/Madrid:20280515T103500
DTSTAMP:20260423T192722
CREATED:20250121T155655Z
LAST-MODIFIED:20250214T162406Z
UID:10008699-1841997900-1841999700@colorcomunitaria.org
SUMMARY:Cerca de tu casa
DESCRIPTION:Magacín sobre lo que pasa en Palma Palmilla. Colabora Junta de Distrito 5 Palma Palmilla del Ayuntamiento  de Málaga.
URL:https://colorcomunitaria.org/evento/cerca-de-tu-casa/2028-05-15/
CATEGORIES:Palma Palmilla
ATTACH;FMTTYPE=image/jpeg:https://colorcomunitaria.org/wp-content/uploads/2025/01/imagen-loco-cdtc-cerca-de-tu-casa-grande-e1737380447434.jpg
END:VEVENT
BEGIN:VEVENT
DTSTART;TZID=Europe/Madrid:20280515T103500
DTEND;TZID=Europe/Madrid:20280515T104500
DTSTAMP:20260423T192722
CREATED:20250216T172831Z
LAST-MODIFIED:20250216T173153Z
UID:10015944-1841999700-1842000300@colorcomunitaria.org
SUMMARY:Cerca de tu casa - Málaga
DESCRIPTION:
URL:https://colorcomunitaria.org/evento/cerca-de-tu-casa-edicion-malaga/2028-05-15/
END:VEVENT
BEGIN:VEVENT
DTSTART;TZID=Europe/Madrid:20280515T110500
DTEND;TZID=Europe/Madrid:20280515T120000
DTSTAMP:20260423T192722
CREATED:20250214T162718Z
LAST-MODIFIED:20250214T162800Z
UID:10009851-1842001500-1842004800@colorcomunitaria.org
SUMMARY:Con otra mirada
DESCRIPTION:
URL:https://colorcomunitaria.org/evento/con-otra-mirada/2028-05-15/
END:VEVENT
BEGIN:VEVENT
DTSTART;TZID=Europe/Madrid:20280515T120500
DTEND;TZID=Europe/Madrid:20280515T130000
DTSTAMP:20260423T192722
CREATED:20250214T165409Z
LAST-MODIFIED:20250214T165409Z
UID:10010112-1842005100-1842008400@colorcomunitaria.org
SUMMARY:Sabemos lo que queremos
DESCRIPTION:
URL:https://colorcomunitaria.org/evento/sabemos-lo-que-queremos/2028-05-15/
END:VEVENT
BEGIN:VEVENT
DTSTART;TZID=Europe/Madrid:20280515T130000
DTEND;TZID=Europe/Madrid:20280515T133000
DTSTAMP:20260423T192722
CREATED:20250216T173355Z
LAST-MODIFIED:20250216T173355Z
UID:10018224-1842008400-1842010200@colorcomunitaria.org
SUMMARY:Informativo De este a Oeste (OLA)
DESCRIPTION:
URL:https://colorcomunitaria.org/evento/informativo-de-este-a-oeste-ola-2/2028-05-15/
END:VEVENT
BEGIN:VEVENT
DTSTART;TZID=Europe/Madrid:20280515T160000
DTEND;TZID=Europe/Madrid:20280515T163000
DTSTAMP:20260423T192722
CREATED:20250216T173851Z
LAST-MODIFIED:20250216T173851Z
UID:10024974-1842019200-1842021000@colorcomunitaria.org
SUMMARY:Cerca de tu casa (R)
DESCRIPTION:Magacín sobre lo que pasa en Palma Palmilla. Colabora Junta de Distrito 5 Palma Palmilla del Ayuntamiento  de Málaga.
URL:https://colorcomunitaria.org/evento/cerca-de-tu-casa-r/2028-05-15/
CATEGORIES:Palma Palmilla
ATTACH;FMTTYPE=image/jpeg:https://colorcomunitaria.org/wp-content/uploads/2025/01/imagen-loco-cdtc-cerca-de-tu-casa-grande-e1737380447434.jpg
END:VEVENT
BEGIN:VEVENT
DTSTART;TZID=Europe/Madrid:20280515T163000
DTEND;TZID=Europe/Madrid:20280515T170000
DTSTAMP:20260423T192722
CREATED:20250216T174046Z
LAST-MODIFIED:20250216T174046Z
UID:10027609-1842021000-1842022800@colorcomunitaria.org
SUMMARY:Aprender con onda
DESCRIPTION:
URL:https://colorcomunitaria.org/evento/aprender-con-onda/2028-05-15/
END:VEVENT
BEGIN:VEVENT
DTSTART;TZID=Europe/Madrid:20280515T170500
DTEND;TZID=Europe/Madrid:20280515T180000
DTSTAMP:20260423T192722
CREATED:20250216T181824Z
LAST-MODIFIED:20250216T181824Z
UID:10038321-1842023100-1842026400@colorcomunitaria.org
SUMMARY:Emociones con esencia
DESCRIPTION:
URL:https://colorcomunitaria.org/evento/emociones-con-esencia/2028-05-15/
END:VEVENT
BEGIN:VEVENT
DTSTART;TZID=Europe/Madrid:20280515T190000
DTEND;TZID=Europe/Madrid:20280515T200000
DTSTAMP:20260423T192722
CREATED:20250216T173505Z
LAST-MODIFIED:20250216T173505Z
UID:10020320-1842030000-1842033600@colorcomunitaria.org
SUMMARY:Informativo De este a Oeste (OLA)
DESCRIPTION:
URL:https://colorcomunitaria.org/evento/informativo-de-este-a-oeste-ola-3/2028-05-15/
END:VEVENT
BEGIN:VEVENT
DTSTART;TZID=Europe/Madrid:20280515T200500
DTEND;TZID=Europe/Madrid:20280515T210000
DTSTAMP:20260423T192722
CREATED:20250216T182912Z
LAST-MODIFIED:20250216T183417Z
UID:10039138-1842033900-1842037200@colorcomunitaria.org
SUMMARY:Este libro está muy vivo (R)
DESCRIPTION:
URL:https://colorcomunitaria.org/evento/este-libro-esta-muy-vivo/2028-05-15/
END:VEVENT
BEGIN:VEVENT
DTSTART;TZID=Europe/Madrid:20280515T210000
DTEND;TZID=Europe/Madrid:20280515T220000
DTSTAMP:20260423T192722
CREATED:20250216T184112Z
LAST-MODIFIED:20250216T184112Z
UID:10039352-1842037200-1842040800@colorcomunitaria.org
SUMMARY:De mil colores
DESCRIPTION:
URL:https://colorcomunitaria.org/evento/de-mil-colores/2028-05-15/
END:VEVENT
BEGIN:VEVENT
DTSTART;TZID=Europe/Madrid:20280516T010000
DTEND;TZID=Europe/Madrid:20280516T020000
DTSTAMP:20260423T192722
CREATED:20250216T173544Z
LAST-MODIFIED:20250216T173632Z
UID:10022417-1842051600-1842055200@colorcomunitaria.org
SUMMARY:Informativo De este a Oeste (OLA) (R)
DESCRIPTION:
URL:https://colorcomunitaria.org/evento/informativo-de-este-a-oeste-ola-r/2028-05-16/
END:VEVENT
BEGIN:VEVENT
DTSTART;TZID=Europe/Madrid:20280516T020000
DTEND;TZID=Europe/Madrid:20280516T040000
DTSTAMP:20260423T192722
CREATED:20250216T180923Z
LAST-MODIFIED:20250216T181107Z
UID:10033977-1842055200-1842062400@colorcomunitaria.org
SUMMARY:Radioteatros Bicicleta Atómica y Audiodrama Colectivo
DESCRIPTION:
URL:https://colorcomunitaria.org/evento/radioteatros-bicicleta-atomica-y-audiodrama-colectivo/2028-05-16/
END:VEVENT
BEGIN:VEVENT
DTSTART;TZID=Europe/Madrid:20280516T083000
DTEND;TZID=Europe/Madrid:20280516T100000
DTSTAMP:20260423T192722
CREATED:20250214T170834Z
LAST-MODIFIED:20250214T170906Z
UID:10011575-1842078600-1842084000@colorcomunitaria.org
SUMMARY:Informativo De este a Oeste (OLA)
DESCRIPTION:
URL:https://colorcomunitaria.org/evento/informativo-de-este-a-oeste-ola/2028-05-16/
END:VEVENT
BEGIN:VEVENT
DTSTART;TZID=Europe/Madrid:20280516T100000
DTEND;TZID=Europe/Madrid:20280516T100500
DTSTAMP:20260423T192722
CREATED:20250214T171100Z
LAST-MODIFIED:20250214T171102Z
UID:10012888-1842084000-1842084300@colorcomunitaria.org
SUMMARY:Boletín informativo OLA
DESCRIPTION:
URL:https://colorcomunitaria.org/evento/boletin-informativo-ola-2/2028-05-16/
END:VEVENT
BEGIN:VEVENT
DTSTART;TZID=Europe/Madrid:20280516T100500
DTEND;TZID=Europe/Madrid:20280516T103500
DTSTAMP:20260423T192722
CREATED:20250121T155655Z
LAST-MODIFIED:20250214T162406Z
UID:10008700-1842084300-1842086100@colorcomunitaria.org
SUMMARY:Cerca de tu casa
DESCRIPTION:Magacín sobre lo que pasa en Palma Palmilla. Colabora Junta de Distrito 5 Palma Palmilla del Ayuntamiento  de Málaga.
URL:https://colorcomunitaria.org/evento/cerca-de-tu-casa/2028-05-16/
CATEGORIES:Palma Palmilla
ATTACH;FMTTYPE=image/jpeg:https://colorcomunitaria.org/wp-content/uploads/2025/01/imagen-loco-cdtc-cerca-de-tu-casa-grande-e1737380447434.jpg
END:VEVENT
BEGIN:VEVENT
DTSTART;TZID=Europe/Madrid:20280516T103500
DTEND;TZID=Europe/Madrid:20280516T104500
DTSTAMP:20260423T192722
CREATED:20250216T172831Z
LAST-MODIFIED:20250216T173153Z
UID:10015945-1842086100-1842086700@colorcomunitaria.org
SUMMARY:Cerca de tu casa - Málaga
DESCRIPTION:
URL:https://colorcomunitaria.org/evento/cerca-de-tu-casa-edicion-malaga/2028-05-16/
END:VEVENT
BEGIN:VEVENT
DTSTART;TZID=Europe/Madrid:20280516T110500
DTEND;TZID=Europe/Madrid:20280516T123000
DTSTAMP:20260423T192722
CREATED:20250214T165815Z
LAST-MODIFIED:20250214T165815Z
UID:10010374-1842087900-1842093000@colorcomunitaria.org
SUMMARY:La voz de vida
DESCRIPTION:
URL:https://colorcomunitaria.org/evento/la-voz-de-vida/2028-05-16/
END:VEVENT
BEGIN:VEVENT
DTSTART;TZID=Europe/Madrid:20280516T130000
DTEND;TZID=Europe/Madrid:20280516T133000
DTSTAMP:20260423T192722
CREATED:20250216T173355Z
LAST-MODIFIED:20250216T173355Z
UID:10018225-1842094800-1842096600@colorcomunitaria.org
SUMMARY:Informativo De este a Oeste (OLA)
DESCRIPTION:
URL:https://colorcomunitaria.org/evento/informativo-de-este-a-oeste-ola-2/2028-05-16/
END:VEVENT
BEGIN:VEVENT
DTSTART;TZID=Europe/Madrid:20280516T160000
DTEND;TZID=Europe/Madrid:20280516T163000
DTSTAMP:20260423T192722
CREATED:20250216T173851Z
LAST-MODIFIED:20250216T173851Z
UID:10024975-1842105600-1842107400@colorcomunitaria.org
SUMMARY:Cerca de tu casa (R)
DESCRIPTION:Magacín sobre lo que pasa en Palma Palmilla. Colabora Junta de Distrito 5 Palma Palmilla del Ayuntamiento  de Málaga.
URL:https://colorcomunitaria.org/evento/cerca-de-tu-casa-r/2028-05-16/
CATEGORIES:Palma Palmilla
ATTACH;FMTTYPE=image/jpeg:https://colorcomunitaria.org/wp-content/uploads/2025/01/imagen-loco-cdtc-cerca-de-tu-casa-grande-e1737380447434.jpg
END:VEVENT
BEGIN:VEVENT
DTSTART;TZID=Europe/Madrid:20280516T163000
DTEND;TZID=Europe/Madrid:20280516T170000
DTSTAMP:20260423T192722
CREATED:20250216T174046Z
LAST-MODIFIED:20250216T174046Z
UID:10027610-1842107400-1842109200@colorcomunitaria.org
SUMMARY:Aprender con onda
DESCRIPTION:
URL:https://colorcomunitaria.org/evento/aprender-con-onda/2028-05-16/
END:VEVENT
BEGIN:VEVENT
DTSTART;TZID=Europe/Madrid:20280516T190000
DTEND;TZID=Europe/Madrid:20280516T200000
DTSTAMP:20260423T192722
CREATED:20250216T173505Z
LAST-MODIFIED:20250216T173505Z
UID:10020321-1842116400-1842120000@colorcomunitaria.org
SUMMARY:Informativo De este a Oeste (OLA)
DESCRIPTION:
URL:https://colorcomunitaria.org/evento/informativo-de-este-a-oeste-ola-3/2028-05-16/
END:VEVENT
BEGIN:VEVENT
DTSTART;TZID=Europe/Madrid:20280516T200000
DTEND;TZID=Europe/Madrid:20280516T210000
DTSTAMP:20260423T192722
CREATED:20250214T172034Z
LAST-MODIFIED:20250214T172034Z
UID:10013784-1842120000-1842123600@colorcomunitaria.org
SUMMARY:Puentes
DESCRIPTION:
URL:https://colorcomunitaria.org/evento/puentes/2028-05-16/
END:VEVENT
BEGIN:VEVENT
DTSTART;TZID=Europe/Madrid:20280516T210000
DTEND;TZID=Europe/Madrid:20280516T220000
DTSTAMP:20260423T192722
CREATED:20250214T172202Z
LAST-MODIFIED:20250214T172202Z
UID:10014046-1842123600-1842127200@colorcomunitaria.org
SUMMARY:La voz de los sin voz
DESCRIPTION:
URL:https://colorcomunitaria.org/evento/la-voz-de-los-sin-voz/2028-05-16/
END:VEVENT
BEGIN:VEVENT
DTSTART;TZID=Europe/Madrid:20280517T000000
DTEND;TZID=Europe/Madrid:20280517T010000
DTSTAMP:20260423T192722
CREATED:20250216T175230Z
LAST-MODIFIED:20250216T175230Z
UID:10029547-1842134400-1842138000@colorcomunitaria.org
SUMMARY:Málaga Cultura Viva (R)
DESCRIPTION:
URL:https://colorcomunitaria.org/evento/malaga-cultura-viva-r/2028-05-17/
END:VEVENT
BEGIN:VEVENT
DTSTART;TZID=Europe/Madrid:20280517T010000
DTEND;TZID=Europe/Madrid:20280517T020000
DTSTAMP:20260423T192722
CREATED:20250216T173544Z
LAST-MODIFIED:20250216T173632Z
UID:10022418-1842138000-1842141600@colorcomunitaria.org
SUMMARY:Informativo De este a Oeste (OLA) (R)
DESCRIPTION:
URL:https://colorcomunitaria.org/evento/informativo-de-este-a-oeste-ola-r/2028-05-17/
END:VEVENT
END:VCALENDAR