BEGIN:VCALENDAR
VERSION:2.0
PRODID:-//Color comunitaria - ECPv6.9.1//NONSGML v1.0//EN
CALSCALE:GREGORIAN
METHOD:PUBLISH
X-ORIGINAL-URL:https://colorcomunitaria.org
X-WR-CALDESC:Eventos para Color comunitaria
REFRESH-INTERVAL;VALUE=DURATION:PT1H
X-Robots-Tag:noindex
X-PUBLISHED-TTL:PT1H
BEGIN:VTIMEZONE
TZID:Europe/Madrid
BEGIN:DAYLIGHT
TZOFFSETFROM:+0100
TZOFFSETTO:+0200
TZNAME:CEST
DTSTART:20280326T010000
END:DAYLIGHT
BEGIN:STANDARD
TZOFFSETFROM:+0200
TZOFFSETTO:+0100
TZNAME:CET
DTSTART:20281029T010000
END:STANDARD
END:VTIMEZONE
BEGIN:VEVENT
DTSTART;TZID=Europe/Madrid:20280522T010000
DTEND;TZID=Europe/Madrid:20280522T020000
DTSTAMP:20260423T212514
CREATED:20250216T173544Z
LAST-MODIFIED:20250216T173632Z
UID:10022420-1842570000-1842573600@colorcomunitaria.org
SUMMARY:Informativo De este a Oeste (OLA) (R)
DESCRIPTION:
URL:https://colorcomunitaria.org/evento/informativo-de-este-a-oeste-ola-r/2028-05-22/
END:VEVENT
BEGIN:VEVENT
DTSTART;TZID=Europe/Madrid:20280522T020000
DTEND;TZID=Europe/Madrid:20280522T040000
DTSTAMP:20260423T212514
CREATED:20250216T180923Z
LAST-MODIFIED:20250216T181107Z
UID:10033983-1842573600-1842580800@colorcomunitaria.org
SUMMARY:Radioteatros Bicicleta Atómica y Audiodrama Colectivo
DESCRIPTION:
URL:https://colorcomunitaria.org/evento/radioteatros-bicicleta-atomica-y-audiodrama-colectivo/2028-05-22/
END:VEVENT
BEGIN:VEVENT
DTSTART;TZID=Europe/Madrid:20280522T083000
DTEND;TZID=Europe/Madrid:20280522T100000
DTSTAMP:20260423T212514
CREATED:20250214T170834Z
LAST-MODIFIED:20250214T170906Z
UID:10011579-1842597000-1842602400@colorcomunitaria.org
SUMMARY:Informativo De este a Oeste (OLA)
DESCRIPTION:
URL:https://colorcomunitaria.org/evento/informativo-de-este-a-oeste-ola/2028-05-22/
END:VEVENT
BEGIN:VEVENT
DTSTART;TZID=Europe/Madrid:20280522T100000
DTEND;TZID=Europe/Madrid:20280522T100500
DTSTAMP:20260423T212514
CREATED:20250214T171100Z
LAST-MODIFIED:20250214T171102Z
UID:10012892-1842602400-1842602700@colorcomunitaria.org
SUMMARY:Boletín informativo OLA
DESCRIPTION:
URL:https://colorcomunitaria.org/evento/boletin-informativo-ola-2/2028-05-22/
END:VEVENT
BEGIN:VEVENT
DTSTART;TZID=Europe/Madrid:20280522T100500
DTEND;TZID=Europe/Madrid:20280522T103500
DTSTAMP:20260423T212514
CREATED:20250121T155655Z
LAST-MODIFIED:20250214T162406Z
UID:10008704-1842602700-1842604500@colorcomunitaria.org
SUMMARY:Cerca de tu casa
DESCRIPTION:Magacín sobre lo que pasa en Palma Palmilla. Colabora Junta de Distrito 5 Palma Palmilla del Ayuntamiento  de Málaga.
URL:https://colorcomunitaria.org/evento/cerca-de-tu-casa/2028-05-22/
CATEGORIES:Palma Palmilla
ATTACH;FMTTYPE=image/jpeg:https://colorcomunitaria.org/wp-content/uploads/2025/01/imagen-loco-cdtc-cerca-de-tu-casa-grande-e1737380447434.jpg
END:VEVENT
BEGIN:VEVENT
DTSTART;TZID=Europe/Madrid:20280522T103500
DTEND;TZID=Europe/Madrid:20280522T104500
DTSTAMP:20260423T212514
CREATED:20250216T172831Z
LAST-MODIFIED:20250216T173153Z
UID:10015950-1842604500-1842605100@colorcomunitaria.org
SUMMARY:Cerca de tu casa - Málaga
DESCRIPTION:
URL:https://colorcomunitaria.org/evento/cerca-de-tu-casa-edicion-malaga/2028-05-22/
END:VEVENT
BEGIN:VEVENT
DTSTART;TZID=Europe/Madrid:20280522T110500
DTEND;TZID=Europe/Madrid:20280522T120000
DTSTAMP:20260423T212514
CREATED:20250214T162718Z
LAST-MODIFIED:20250214T162800Z
UID:10009852-1842606300-1842609600@colorcomunitaria.org
SUMMARY:Con otra mirada
DESCRIPTION:
URL:https://colorcomunitaria.org/evento/con-otra-mirada/2028-05-22/
END:VEVENT
BEGIN:VEVENT
DTSTART;TZID=Europe/Madrid:20280522T120500
DTEND;TZID=Europe/Madrid:20280522T130000
DTSTAMP:20260423T212514
CREATED:20250214T165409Z
LAST-MODIFIED:20250214T165409Z
UID:10010113-1842609900-1842613200@colorcomunitaria.org
SUMMARY:Sabemos lo que queremos
DESCRIPTION:
URL:https://colorcomunitaria.org/evento/sabemos-lo-que-queremos/2028-05-22/
END:VEVENT
BEGIN:VEVENT
DTSTART;TZID=Europe/Madrid:20280522T130000
DTEND;TZID=Europe/Madrid:20280522T133000
DTSTAMP:20260423T212514
CREATED:20250216T173355Z
LAST-MODIFIED:20250216T173355Z
UID:10018228-1842613200-1842615000@colorcomunitaria.org
SUMMARY:Informativo De este a Oeste (OLA)
DESCRIPTION:
URL:https://colorcomunitaria.org/evento/informativo-de-este-a-oeste-ola-2/2028-05-22/
END:VEVENT
BEGIN:VEVENT
DTSTART;TZID=Europe/Madrid:20280522T160000
DTEND;TZID=Europe/Madrid:20280522T163000
DTSTAMP:20260423T212514
CREATED:20250216T173851Z
LAST-MODIFIED:20250216T173851Z
UID:10024979-1842624000-1842625800@colorcomunitaria.org
SUMMARY:Cerca de tu casa (R)
DESCRIPTION:Magacín sobre lo que pasa en Palma Palmilla. Colabora Junta de Distrito 5 Palma Palmilla del Ayuntamiento  de Málaga.
URL:https://colorcomunitaria.org/evento/cerca-de-tu-casa-r/2028-05-22/
CATEGORIES:Palma Palmilla
ATTACH;FMTTYPE=image/jpeg:https://colorcomunitaria.org/wp-content/uploads/2025/01/imagen-loco-cdtc-cerca-de-tu-casa-grande-e1737380447434.jpg
END:VEVENT
BEGIN:VEVENT
DTSTART;TZID=Europe/Madrid:20280522T163000
DTEND;TZID=Europe/Madrid:20280522T170000
DTSTAMP:20260423T212514
CREATED:20250216T174046Z
LAST-MODIFIED:20250216T174046Z
UID:10027614-1842625800-1842627600@colorcomunitaria.org
SUMMARY:Aprender con onda
DESCRIPTION:
URL:https://colorcomunitaria.org/evento/aprender-con-onda/2028-05-22/
END:VEVENT
BEGIN:VEVENT
DTSTART;TZID=Europe/Madrid:20280522T190000
DTEND;TZID=Europe/Madrid:20280522T200000
DTSTAMP:20260423T212514
CREATED:20250216T173505Z
LAST-MODIFIED:20250216T173505Z
UID:10020324-1842634800-1842638400@colorcomunitaria.org
SUMMARY:Informativo De este a Oeste (OLA)
DESCRIPTION:
URL:https://colorcomunitaria.org/evento/informativo-de-este-a-oeste-ola-3/2028-05-22/
END:VEVENT
BEGIN:VEVENT
DTSTART;TZID=Europe/Madrid:20280522T210000
DTEND;TZID=Europe/Madrid:20280522T220000
DTSTAMP:20260423T212514
CREATED:20250216T184112Z
LAST-MODIFIED:20250216T184112Z
UID:10039353-1842642000-1842645600@colorcomunitaria.org
SUMMARY:De mil colores
DESCRIPTION:
URL:https://colorcomunitaria.org/evento/de-mil-colores/2028-05-22/
END:VEVENT
BEGIN:VEVENT
DTSTART;TZID=Europe/Madrid:20280523T010000
DTEND;TZID=Europe/Madrid:20280523T020000
DTSTAMP:20260423T212514
CREATED:20250216T173544Z
LAST-MODIFIED:20250216T173632Z
UID:10022421-1842656400-1842660000@colorcomunitaria.org
SUMMARY:Informativo De este a Oeste (OLA) (R)
DESCRIPTION:
URL:https://colorcomunitaria.org/evento/informativo-de-este-a-oeste-ola-r/2028-05-23/
END:VEVENT
BEGIN:VEVENT
DTSTART;TZID=Europe/Madrid:20280523T020000
DTEND;TZID=Europe/Madrid:20280523T040000
DTSTAMP:20260423T212514
CREATED:20250216T180923Z
LAST-MODIFIED:20250216T181107Z
UID:10033984-1842660000-1842667200@colorcomunitaria.org
SUMMARY:Radioteatros Bicicleta Atómica y Audiodrama Colectivo
DESCRIPTION:
URL:https://colorcomunitaria.org/evento/radioteatros-bicicleta-atomica-y-audiodrama-colectivo/2028-05-23/
END:VEVENT
BEGIN:VEVENT
DTSTART;TZID=Europe/Madrid:20280523T083000
DTEND;TZID=Europe/Madrid:20280523T100000
DTSTAMP:20260423T212514
CREATED:20250214T170834Z
LAST-MODIFIED:20250214T170906Z
UID:10011580-1842683400-1842688800@colorcomunitaria.org
SUMMARY:Informativo De este a Oeste (OLA)
DESCRIPTION:
URL:https://colorcomunitaria.org/evento/informativo-de-este-a-oeste-ola/2028-05-23/
END:VEVENT
BEGIN:VEVENT
DTSTART;TZID=Europe/Madrid:20280523T100000
DTEND;TZID=Europe/Madrid:20280523T100500
DTSTAMP:20260423T212514
CREATED:20250214T171100Z
LAST-MODIFIED:20250214T171102Z
UID:10012893-1842688800-1842689100@colorcomunitaria.org
SUMMARY:Boletín informativo OLA
DESCRIPTION:
URL:https://colorcomunitaria.org/evento/boletin-informativo-ola-2/2028-05-23/
END:VEVENT
BEGIN:VEVENT
DTSTART;TZID=Europe/Madrid:20280523T100500
DTEND;TZID=Europe/Madrid:20280523T103500
DTSTAMP:20260423T212514
CREATED:20250121T155655Z
LAST-MODIFIED:20250214T162406Z
UID:10008705-1842689100-1842690900@colorcomunitaria.org
SUMMARY:Cerca de tu casa
DESCRIPTION:Magacín sobre lo que pasa en Palma Palmilla. Colabora Junta de Distrito 5 Palma Palmilla del Ayuntamiento  de Málaga.
URL:https://colorcomunitaria.org/evento/cerca-de-tu-casa/2028-05-23/
CATEGORIES:Palma Palmilla
ATTACH;FMTTYPE=image/jpeg:https://colorcomunitaria.org/wp-content/uploads/2025/01/imagen-loco-cdtc-cerca-de-tu-casa-grande-e1737380447434.jpg
END:VEVENT
BEGIN:VEVENT
DTSTART;TZID=Europe/Madrid:20280523T103500
DTEND;TZID=Europe/Madrid:20280523T104500
DTSTAMP:20260423T212514
CREATED:20250216T172831Z
LAST-MODIFIED:20250216T173153Z
UID:10015951-1842690900-1842691500@colorcomunitaria.org
SUMMARY:Cerca de tu casa - Málaga
DESCRIPTION:
URL:https://colorcomunitaria.org/evento/cerca-de-tu-casa-edicion-malaga/2028-05-23/
END:VEVENT
BEGIN:VEVENT
DTSTART;TZID=Europe/Madrid:20280523T110500
DTEND;TZID=Europe/Madrid:20280523T123000
DTSTAMP:20260423T212514
CREATED:20250214T165815Z
LAST-MODIFIED:20250214T165815Z
UID:10010375-1842692700-1842697800@colorcomunitaria.org
SUMMARY:La voz de vida
DESCRIPTION:
URL:https://colorcomunitaria.org/evento/la-voz-de-vida/2028-05-23/
END:VEVENT
BEGIN:VEVENT
DTSTART;TZID=Europe/Madrid:20280523T130000
DTEND;TZID=Europe/Madrid:20280523T133000
DTSTAMP:20260423T212514
CREATED:20250216T173355Z
LAST-MODIFIED:20250216T173355Z
UID:10018229-1842699600-1842701400@colorcomunitaria.org
SUMMARY:Informativo De este a Oeste (OLA)
DESCRIPTION:
URL:https://colorcomunitaria.org/evento/informativo-de-este-a-oeste-ola-2/2028-05-23/
END:VEVENT
BEGIN:VEVENT
DTSTART;TZID=Europe/Madrid:20280523T160000
DTEND;TZID=Europe/Madrid:20280523T163000
DTSTAMP:20260423T212514
CREATED:20250216T173851Z
LAST-MODIFIED:20250216T173851Z
UID:10024980-1842710400-1842712200@colorcomunitaria.org
SUMMARY:Cerca de tu casa (R)
DESCRIPTION:Magacín sobre lo que pasa en Palma Palmilla. Colabora Junta de Distrito 5 Palma Palmilla del Ayuntamiento  de Málaga.
URL:https://colorcomunitaria.org/evento/cerca-de-tu-casa-r/2028-05-23/
CATEGORIES:Palma Palmilla
ATTACH;FMTTYPE=image/jpeg:https://colorcomunitaria.org/wp-content/uploads/2025/01/imagen-loco-cdtc-cerca-de-tu-casa-grande-e1737380447434.jpg
END:VEVENT
BEGIN:VEVENT
DTSTART;TZID=Europe/Madrid:20280523T163000
DTEND;TZID=Europe/Madrid:20280523T170000
DTSTAMP:20260423T212514
CREATED:20250216T174046Z
LAST-MODIFIED:20250216T174046Z
UID:10027615-1842712200-1842714000@colorcomunitaria.org
SUMMARY:Aprender con onda
DESCRIPTION:
URL:https://colorcomunitaria.org/evento/aprender-con-onda/2028-05-23/
END:VEVENT
BEGIN:VEVENT
DTSTART;TZID=Europe/Madrid:20280523T190000
DTEND;TZID=Europe/Madrid:20280523T200000
DTSTAMP:20260423T212514
CREATED:20250216T173505Z
LAST-MODIFIED:20250216T173505Z
UID:10020325-1842721200-1842724800@colorcomunitaria.org
SUMMARY:Informativo De este a Oeste (OLA)
DESCRIPTION:
URL:https://colorcomunitaria.org/evento/informativo-de-este-a-oeste-ola-3/2028-05-23/
END:VEVENT
BEGIN:VEVENT
DTSTART;TZID=Europe/Madrid:20280523T200000
DTEND;TZID=Europe/Madrid:20280523T210000
DTSTAMP:20260423T212514
CREATED:20250214T172034Z
LAST-MODIFIED:20250214T172034Z
UID:10013785-1842724800-1842728400@colorcomunitaria.org
SUMMARY:Puentes
DESCRIPTION:
URL:https://colorcomunitaria.org/evento/puentes/2028-05-23/
END:VEVENT
BEGIN:VEVENT
DTSTART;TZID=Europe/Madrid:20280523T210000
DTEND;TZID=Europe/Madrid:20280523T220000
DTSTAMP:20260423T212514
CREATED:20250214T172202Z
LAST-MODIFIED:20250214T172202Z
UID:10014047-1842728400-1842732000@colorcomunitaria.org
SUMMARY:La voz de los sin voz
DESCRIPTION:
URL:https://colorcomunitaria.org/evento/la-voz-de-los-sin-voz/2028-05-23/
END:VEVENT
BEGIN:VEVENT
DTSTART;TZID=Europe/Madrid:20280524T000000
DTEND;TZID=Europe/Madrid:20280524T010000
DTSTAMP:20260423T212514
CREATED:20250216T175230Z
LAST-MODIFIED:20250216T175230Z
UID:10029548-1842739200-1842742800@colorcomunitaria.org
SUMMARY:Málaga Cultura Viva (R)
DESCRIPTION:
URL:https://colorcomunitaria.org/evento/malaga-cultura-viva-r/2028-05-24/
END:VEVENT
BEGIN:VEVENT
DTSTART;TZID=Europe/Madrid:20280524T010000
DTEND;TZID=Europe/Madrid:20280524T020000
DTSTAMP:20260423T212514
CREATED:20250216T173544Z
LAST-MODIFIED:20250216T173632Z
UID:10022422-1842742800-1842746400@colorcomunitaria.org
SUMMARY:Informativo De este a Oeste (OLA) (R)
DESCRIPTION:
URL:https://colorcomunitaria.org/evento/informativo-de-este-a-oeste-ola-r/2028-05-24/
END:VEVENT
BEGIN:VEVENT
DTSTART;TZID=Europe/Madrid:20280524T020000
DTEND;TZID=Europe/Madrid:20280524T040000
DTSTAMP:20260423T212514
CREATED:20250216T180923Z
LAST-MODIFIED:20250216T181107Z
UID:10033985-1842746400-1842753600@colorcomunitaria.org
SUMMARY:Radioteatros Bicicleta Atómica y Audiodrama Colectivo
DESCRIPTION:
URL:https://colorcomunitaria.org/evento/radioteatros-bicicleta-atomica-y-audiodrama-colectivo/2028-05-24/
END:VEVENT
BEGIN:VEVENT
DTSTART;TZID=Europe/Madrid:20280524T083000
DTEND;TZID=Europe/Madrid:20280524T100000
DTSTAMP:20260423T212514
CREATED:20250214T170834Z
LAST-MODIFIED:20250214T170906Z
UID:10011581-1842769800-1842775200@colorcomunitaria.org
SUMMARY:Informativo De este a Oeste (OLA)
DESCRIPTION:
URL:https://colorcomunitaria.org/evento/informativo-de-este-a-oeste-ola/2028-05-24/
END:VEVENT
END:VCALENDAR